BEGIN:VCALENDAR
VERSION:2.0
PRODID:-//The Knights of Columbus Council 189 - ECPv6.15.20//NONSGML v1.0//EN
CALSCALE:GREGORIAN
METHOD:PUBLISH
X-WR-CALNAME:The Knights of Columbus Council 189
X-ORIGINAL-URL:https://www.kofcutica.org
X-WR-CALDESC:Events for The Knights of Columbus Council 189
REFRESH-INTERVAL;VALUE=DURATION:PT1H
X-Robots-Tag:noindex
X-PUBLISHED-TTL:PT1H
BEGIN:VTIMEZONE
TZID:America/New_York
BEGIN:DAYLIGHT
TZOFFSETFROM:-0500
TZOFFSETTO:-0400
TZNAME:EDT
DTSTART:20250309T070000
END:DAYLIGHT
BEGIN:STANDARD
TZOFFSETFROM:-0400
TZOFFSETTO:-0500
TZNAME:EST
DTSTART:20251102T060000
END:STANDARD
BEGIN:DAYLIGHT
TZOFFSETFROM:-0500
TZOFFSETTO:-0400
TZNAME:EDT
DTSTART:20260308T070000
END:DAYLIGHT
BEGIN:STANDARD
TZOFFSETFROM:-0400
TZOFFSETTO:-0500
TZNAME:EST
DTSTART:20261101T060000
END:STANDARD
BEGIN:DAYLIGHT
TZOFFSETFROM:-0500
TZOFFSETTO:-0400
TZNAME:EDT
DTSTART:20270314T070000
END:DAYLIGHT
BEGIN:STANDARD
TZOFFSETFROM:-0400
TZOFFSETTO:-0500
TZNAME:EST
DTSTART:20271107T060000
END:STANDARD
END:VTIMEZONE
BEGIN:VEVENT
DTSTART;TZID=America/New_York:20260529T080000
DTEND;TZID=America/New_York:20260529T150000
DTSTAMP:20260424T105415
CREATED:20260406T221712Z
LAST-MODIFIED:20260406T221712Z
UID:10013481-1780041600-1780066800@www.kofcutica.org
SUMMARY:Pierogi making kitchen & cafeteria 8 am to 2 pm
DESCRIPTION:
URL:https://www.kofcutica.org/event/pierogi-making-kitchen-cafeteria-8-am-to-2-pm/2026-05-29/
LOCATION:Kitchen & Cafteria
END:VEVENT
BEGIN:VEVENT
DTSTART;TZID=America/New_York:20260530T080000
DTEND;TZID=America/New_York:20260530T150000
DTSTAMP:20260424T105415
CREATED:20260406T221712Z
LAST-MODIFIED:20260406T221712Z
UID:10013482-1780128000-1780153200@www.kofcutica.org
SUMMARY:Pierogi making kitchen & cafeteria 8 am to 2 pm
DESCRIPTION:
URL:https://www.kofcutica.org/event/pierogi-making-kitchen-cafeteria-8-am-to-2-pm/2026-05-30/
LOCATION:Kitchen & Cafteria
END:VEVENT
BEGIN:VEVENT
DTSTART;TZID=America/New_York:20260531T080000
DTEND;TZID=America/New_York:20260531T150000
DTSTAMP:20260424T105415
CREATED:20260406T221712Z
LAST-MODIFIED:20260406T221712Z
UID:10013483-1780214400-1780239600@www.kofcutica.org
SUMMARY:Pierogi making kitchen & cafeteria 8 am to 2 pm
DESCRIPTION:
URL:https://www.kofcutica.org/event/pierogi-making-kitchen-cafeteria-8-am-to-2-pm/2026-05-31/
LOCATION:Kitchen & Cafteria
END:VEVENT
BEGIN:VEVENT
DTSTART;TZID=America/New_York:20260601T080000
DTEND;TZID=America/New_York:20260601T150000
DTSTAMP:20260424T105415
CREATED:20260406T221712Z
LAST-MODIFIED:20260406T221712Z
UID:10013484-1780300800-1780326000@www.kofcutica.org
SUMMARY:Pierogi making kitchen & cafeteria 8 am to 2 pm
DESCRIPTION:
URL:https://www.kofcutica.org/event/pierogi-making-kitchen-cafeteria-8-am-to-2-pm/2026-06-01/
LOCATION:Kitchen & Cafteria
END:VEVENT
BEGIN:VEVENT
DTSTART;TZID=America/New_York:20260602T080000
DTEND;TZID=America/New_York:20260602T150000
DTSTAMP:20260424T105415
CREATED:20260406T221712Z
LAST-MODIFIED:20260406T221712Z
UID:10013485-1780387200-1780412400@www.kofcutica.org
SUMMARY:Pierogi making kitchen & cafeteria 8 am to 2 pm
DESCRIPTION:
URL:https://www.kofcutica.org/event/pierogi-making-kitchen-cafeteria-8-am-to-2-pm/2026-06-02/
LOCATION:Kitchen & Cafteria
END:VEVENT
BEGIN:VEVENT
DTSTART;TZID=America/New_York:20260603T080000
DTEND;TZID=America/New_York:20260603T150000
DTSTAMP:20260424T105415
CREATED:20260406T221712Z
LAST-MODIFIED:20260406T221712Z
UID:10013486-1780473600-1780498800@www.kofcutica.org
SUMMARY:Pierogi making kitchen & cafeteria 8 am to 2 pm
DESCRIPTION:
URL:https://www.kofcutica.org/event/pierogi-making-kitchen-cafeteria-8-am-to-2-pm/2026-06-03/
LOCATION:Kitchen & Cafteria
END:VEVENT
BEGIN:VEVENT
DTSTART;TZID=America/New_York:20260604T080000
DTEND;TZID=America/New_York:20260604T150000
DTSTAMP:20260424T105415
CREATED:20260406T221712Z
LAST-MODIFIED:20260406T221712Z
UID:10013487-1780560000-1780585200@www.kofcutica.org
SUMMARY:Pierogi making kitchen & cafeteria 8 am to 2 pm
DESCRIPTION:
URL:https://www.kofcutica.org/event/pierogi-making-kitchen-cafeteria-8-am-to-2-pm/2026-06-04/
LOCATION:Kitchen & Cafteria
END:VEVENT
BEGIN:VEVENT
DTSTART;TZID=America/New_York:20260605T080000
DTEND;TZID=America/New_York:20260605T150000
DTSTAMP:20260424T105415
CREATED:20260406T221712Z
LAST-MODIFIED:20260406T221712Z
UID:10013488-1780646400-1780671600@www.kofcutica.org
SUMMARY:Pierogi making kitchen & cafeteria 8 am to 2 pm
DESCRIPTION:
URL:https://www.kofcutica.org/event/pierogi-making-kitchen-cafeteria-8-am-to-2-pm/2026-06-05/
LOCATION:Kitchen & Cafteria
END:VEVENT
BEGIN:VEVENT
DTSTART;TZID=America/New_York:20260606T080000
DTEND;TZID=America/New_York:20260606T150000
DTSTAMP:20260424T105415
CREATED:20260406T221712Z
LAST-MODIFIED:20260406T221712Z
UID:10013489-1780732800-1780758000@www.kofcutica.org
SUMMARY:Pierogi making kitchen & cafeteria 8 am to 2 pm
DESCRIPTION:
URL:https://www.kofcutica.org/event/pierogi-making-kitchen-cafeteria-8-am-to-2-pm/2026-06-06/
LOCATION:Kitchen & Cafteria
END:VEVENT
BEGIN:VEVENT
DTSTART;TZID=America/New_York:20260608T080000
DTEND;TZID=America/New_York:20260608T150000
DTSTAMP:20260424T105415
CREATED:20260406T221712Z
LAST-MODIFIED:20260406T221712Z
UID:10013491-1780905600-1780930800@www.kofcutica.org
SUMMARY:Pierogi making kitchen & cafeteria 8 am to 2 pm
DESCRIPTION:
URL:https://www.kofcutica.org/event/pierogi-making-kitchen-cafeteria-8-am-to-2-pm/2026-06-08/
LOCATION:Kitchen & Cafteria
END:VEVENT
BEGIN:VEVENT
DTSTART;TZID=America/New_York:20260609T080000
DTEND;TZID=America/New_York:20260609T150000
DTSTAMP:20260424T105415
CREATED:20260406T221712Z
LAST-MODIFIED:20260406T221712Z
UID:10013492-1780992000-1781017200@www.kofcutica.org
SUMMARY:Pierogi making kitchen & cafeteria 8 am to 2 pm
DESCRIPTION:
URL:https://www.kofcutica.org/event/pierogi-making-kitchen-cafeteria-8-am-to-2-pm/2026-06-09/
LOCATION:Kitchen & Cafteria
END:VEVENT
BEGIN:VEVENT
DTSTART;TZID=America/New_York:20260610T080000
DTEND;TZID=America/New_York:20260610T150000
DTSTAMP:20260424T105415
CREATED:20260406T221712Z
LAST-MODIFIED:20260406T221712Z
UID:10013493-1781078400-1781103600@www.kofcutica.org
SUMMARY:Pierogi making kitchen & cafeteria 8 am to 2 pm
DESCRIPTION:
URL:https://www.kofcutica.org/event/pierogi-making-kitchen-cafeteria-8-am-to-2-pm/2026-06-10/
LOCATION:Kitchen & Cafteria
END:VEVENT
BEGIN:VEVENT
DTSTART;TZID=America/New_York:20260611T080000
DTEND;TZID=America/New_York:20260611T150000
DTSTAMP:20260424T105415
CREATED:20260406T221712Z
LAST-MODIFIED:20260406T221712Z
UID:10013494-1781164800-1781190000@www.kofcutica.org
SUMMARY:Pierogi making kitchen & cafeteria 8 am to 2 pm
DESCRIPTION:
URL:https://www.kofcutica.org/event/pierogi-making-kitchen-cafeteria-8-am-to-2-pm/2026-06-11/
LOCATION:Kitchen & Cafteria
END:VEVENT
BEGIN:VEVENT
DTSTART;TZID=America/New_York:20260612T080000
DTEND;TZID=America/New_York:20260612T150000
DTSTAMP:20260424T105415
CREATED:20260406T221712Z
LAST-MODIFIED:20260406T221712Z
UID:10013495-1781251200-1781276400@www.kofcutica.org
SUMMARY:Pierogi making kitchen & cafeteria 8 am to 2 pm
DESCRIPTION:
URL:https://www.kofcutica.org/event/pierogi-making-kitchen-cafeteria-8-am-to-2-pm/2026-06-12/
LOCATION:Kitchen & Cafteria
END:VEVENT
END:VCALENDAR