BEGIN:VCALENDAR
VERSION:2.0
PRODID:-//The Knights of Columbus Council 189 - ECPv6.15.20//NONSGML v1.0//EN
CALSCALE:GREGORIAN
METHOD:PUBLISH
X-ORIGINAL-URL:https://www.kofcutica.org
X-WR-CALDESC:Events for The Knights of Columbus Council 189
REFRESH-INTERVAL;VALUE=DURATION:PT1H
X-Robots-Tag:noindex
X-PUBLISHED-TTL:PT1H
BEGIN:VTIMEZONE
TZID:America/New_York
BEGIN:DAYLIGHT
TZOFFSETFROM:-0500
TZOFFSETTO:-0400
TZNAME:EDT
DTSTART:20250309T070000
END:DAYLIGHT
BEGIN:STANDARD
TZOFFSETFROM:-0400
TZOFFSETTO:-0500
TZNAME:EST
DTSTART:20251102T060000
END:STANDARD
BEGIN:DAYLIGHT
TZOFFSETFROM:-0500
TZOFFSETTO:-0400
TZNAME:EDT
DTSTART:20260308T070000
END:DAYLIGHT
BEGIN:STANDARD
TZOFFSETFROM:-0400
TZOFFSETTO:-0500
TZNAME:EST
DTSTART:20261101T060000
END:STANDARD
BEGIN:DAYLIGHT
TZOFFSETFROM:-0500
TZOFFSETTO:-0400
TZNAME:EDT
DTSTART:20270314T070000
END:DAYLIGHT
BEGIN:STANDARD
TZOFFSETFROM:-0400
TZOFFSETTO:-0500
TZNAME:EST
DTSTART:20271107T060000
END:STANDARD
END:VTIMEZONE
BEGIN:VEVENT
DTSTART;TZID=America/New_York:20260413T170000
DTEND;TZID=America/New_York:20260413T200000
DTSTAMP:20260424T112036
CREATED:20260411T220252Z
LAST-MODIFIED:20260411T220252Z
UID:10013233-1776099600-1776110400@www.kofcutica.org
SUMMARY:Burton Basketball 5 pm to 8pm
DESCRIPTION:
URL:https://www.kofcutica.org/event/gym-reserved-5-pm-to-8pm-4-2/2026-04-13/
LOCATION:Gym & Cafeteria
END:VEVENT
BEGIN:VEVENT
DTSTART;TZID=America/New_York:20260413T090000
DTEND;TZID=America/New_York:20260413T100000
DTSTAMP:20260424T112036
CREATED:20260102T143340Z
LAST-MODIFIED:20260102T143340Z
UID:10011152-1776070800-1776074400@www.kofcutica.org
SUMMARY:Aerobics 9am to 10 am
DESCRIPTION:
URL:https://www.kofcutica.org/event/aerobics-9am-to-10-am-2/2026-04-13/
LOCATION:Gym & Cafeteria
END:VEVENT
BEGIN:VEVENT
DTSTART;TZID=America/New_York:20260409T090000
DTEND;TZID=America/New_York:20260409T100000
DTSTAMP:20260424T112036
CREATED:20260102T143340Z
LAST-MODIFIED:20260102T143340Z
UID:10011151-1775725200-1775728800@www.kofcutica.org
SUMMARY:Aerobics 9am to 10 am
DESCRIPTION:
URL:https://www.kofcutica.org/event/aerobics-9am-to-10-am-2/2026-04-09/
LOCATION:Gym & Cafeteria
END:VEVENT
BEGIN:VEVENT
DTSTART;TZID=America/New_York:20260408T170000
DTEND;TZID=America/New_York:20260408T200000
DTSTAMP:20260424T112036
CREATED:20260303T164934Z
LAST-MODIFIED:20260309T204422Z
UID:10013232-1775667600-1775678400@www.kofcutica.org
SUMMARY:Gym Reserved 5 pm to 8pm
DESCRIPTION:
URL:https://www.kofcutica.org/event/gym-reserved-5-pm-to-8pm-4/2026-04-08/
LOCATION:Gym & Cafeteria
END:VEVENT
BEGIN:VEVENT
DTSTART;TZID=America/New_York:20260408T090000
DTEND;TZID=America/New_York:20260408T100000
DTSTAMP:20260424T112036
CREATED:20260102T143340Z
LAST-MODIFIED:20260102T143340Z
UID:10011150-1775638800-1775642400@www.kofcutica.org
SUMMARY:Aerobics 9am to 10 am
DESCRIPTION:
URL:https://www.kofcutica.org/event/aerobics-9am-to-10-am-2/2026-04-08/
LOCATION:Gym & Cafeteria
END:VEVENT
BEGIN:VEVENT
DTSTART;TZID=America/New_York:20260407T090000
DTEND;TZID=America/New_York:20260407T100000
DTSTAMP:20260424T112036
CREATED:20260102T143340Z
LAST-MODIFIED:20260102T143340Z
UID:10011149-1775552400-1775556000@www.kofcutica.org
SUMMARY:Aerobics 9am to 10 am
DESCRIPTION:
URL:https://www.kofcutica.org/event/aerobics-9am-to-10-am-2/2026-04-07/
LOCATION:Gym & Cafeteria
END:VEVENT
BEGIN:VEVENT
DTSTART;TZID=America/New_York:20260406T170000
DTEND;TZID=America/New_York:20260406T200000
DTSTAMP:20260424T112036
CREATED:20260303T164934Z
LAST-MODIFIED:20260309T204422Z
UID:10013231-1775494800-1775505600@www.kofcutica.org
SUMMARY:Gym Reserved 5 pm to 8pm
DESCRIPTION:
URL:https://www.kofcutica.org/event/gym-reserved-5-pm-to-8pm-4/2026-04-06/
LOCATION:Gym & Cafeteria
END:VEVENT
BEGIN:VEVENT
DTSTART;TZID=America/New_York:20260406T090000
DTEND;TZID=America/New_York:20260406T100000
DTSTAMP:20260424T112036
CREATED:20260102T143340Z
LAST-MODIFIED:20260102T143340Z
UID:10011148-1775466000-1775469600@www.kofcutica.org
SUMMARY:Aerobics 9am to 10 am
DESCRIPTION:
URL:https://www.kofcutica.org/event/aerobics-9am-to-10-am-2/2026-04-06/
LOCATION:Gym & Cafeteria
END:VEVENT
BEGIN:VEVENT
DTSTART;TZID=America/New_York:20260403T170000
DTEND;TZID=America/New_York:20260403T180000
DTSTAMP:20260424T112036
CREATED:20260228T142956Z
LAST-MODIFIED:20260409T122319Z
UID:10013496-1775235600-1775239200@www.kofcutica.org
SUMMARY:Gym reserved from 5 pm to 6 pm
DESCRIPTION:
URL:https://www.kofcutica.org/event/gym-reserved-from-5-pm-to-8-pm-6-2/2026-04-03/
LOCATION:Gym & Cafeteria
END:VEVENT
BEGIN:VEVENT
DTSTART;TZID=America/New_York:20260402T090000
DTEND;TZID=America/New_York:20260402T100000
DTSTAMP:20260424T112036
CREATED:20260102T143340Z
LAST-MODIFIED:20260102T143340Z
UID:10011147-1775120400-1775124000@www.kofcutica.org
SUMMARY:Aerobics 9am to 10 am
DESCRIPTION:
URL:https://www.kofcutica.org/event/aerobics-9am-to-10-am-2/2026-04-02/
LOCATION:Gym & Cafeteria
END:VEVENT
BEGIN:VEVENT
DTSTART;TZID=America/New_York:20260401T170000
DTEND;TZID=America/New_York:20260401T200000
DTSTAMP:20260424T112036
CREATED:20260303T164934Z
LAST-MODIFIED:20260309T204422Z
UID:10013230-1775062800-1775073600@www.kofcutica.org
SUMMARY:Gym Reserved 5 pm to 8pm
DESCRIPTION:
URL:https://www.kofcutica.org/event/gym-reserved-5-pm-to-8pm-4/2026-04-01/
LOCATION:Gym & Cafeteria
END:VEVENT
BEGIN:VEVENT
DTSTART;TZID=America/New_York:20260401T090000
DTEND;TZID=America/New_York:20260401T100000
DTSTAMP:20260424T112036
CREATED:20260102T143340Z
LAST-MODIFIED:20260102T143340Z
UID:10011146-1775034000-1775037600@www.kofcutica.org
SUMMARY:Aerobics 9am to 10 am
DESCRIPTION:
URL:https://www.kofcutica.org/event/aerobics-9am-to-10-am-2/2026-04-01/
LOCATION:Gym & Cafeteria
END:VEVENT
BEGIN:VEVENT
DTSTART;TZID=America/New_York:20260331T090000
DTEND;TZID=America/New_York:20260331T100000
DTSTAMP:20260424T112036
CREATED:20260102T143340Z
LAST-MODIFIED:20260102T143340Z
UID:10011145-1774947600-1774951200@www.kofcutica.org
SUMMARY:Aerobics 9am to 10 am
DESCRIPTION:
URL:https://www.kofcutica.org/event/aerobics-9am-to-10-am-2/2026-03-31/
LOCATION:Gym & Cafeteria
END:VEVENT
BEGIN:VEVENT
DTSTART;TZID=America/New_York:20260330T170000
DTEND;TZID=America/New_York:20260330T200000
DTSTAMP:20260424T112036
CREATED:20260303T164934Z
LAST-MODIFIED:20260309T204422Z
UID:10013229-1774890000-1774900800@www.kofcutica.org
SUMMARY:Gym Reserved 5 pm to 8pm
DESCRIPTION:
URL:https://www.kofcutica.org/event/gym-reserved-5-pm-to-8pm-4/2026-03-30/
LOCATION:Gym & Cafeteria
END:VEVENT
BEGIN:VEVENT
DTSTART;TZID=America/New_York:20260330T090000
DTEND;TZID=America/New_York:20260330T100000
DTSTAMP:20260424T112036
CREATED:20260102T143340Z
LAST-MODIFIED:20260102T143340Z
UID:10011144-1774861200-1774864800@www.kofcutica.org
SUMMARY:Aerobics 9am to 10 am
DESCRIPTION:
URL:https://www.kofcutica.org/event/aerobics-9am-to-10-am-2/2026-03-30/
LOCATION:Gym & Cafeteria
END:VEVENT
BEGIN:VEVENT
DTSTART;TZID=America/New_York:20260326T090000
DTEND;TZID=America/New_York:20260326T100000
DTSTAMP:20260424T112036
CREATED:20260102T143340Z
LAST-MODIFIED:20260102T143340Z
UID:10011143-1774515600-1774519200@www.kofcutica.org
SUMMARY:Aerobics 9am to 10 am
DESCRIPTION:
URL:https://www.kofcutica.org/event/aerobics-9am-to-10-am-2/2026-03-26/
LOCATION:Gym & Cafeteria
END:VEVENT
BEGIN:VEVENT
DTSTART;TZID=America/New_York:20260325T170000
DTEND;TZID=America/New_York:20260325T200000
DTSTAMP:20260424T112036
CREATED:20260303T164934Z
LAST-MODIFIED:20260309T204422Z
UID:10013228-1774458000-1774468800@www.kofcutica.org
SUMMARY:Gym Reserved 5 pm to 8pm
DESCRIPTION:
URL:https://www.kofcutica.org/event/gym-reserved-5-pm-to-8pm-4/2026-03-25/
LOCATION:Gym & Cafeteria
END:VEVENT
BEGIN:VEVENT
DTSTART;TZID=America/New_York:20260325T090000
DTEND;TZID=America/New_York:20260325T100000
DTSTAMP:20260424T112036
CREATED:20260102T143340Z
LAST-MODIFIED:20260102T143340Z
UID:10011142-1774429200-1774432800@www.kofcutica.org
SUMMARY:Aerobics 9am to 10 am
DESCRIPTION:
URL:https://www.kofcutica.org/event/aerobics-9am-to-10-am-2/2026-03-25/
LOCATION:Gym & Cafeteria
END:VEVENT
BEGIN:VEVENT
DTSTART;TZID=America/New_York:20260324T090000
DTEND;TZID=America/New_York:20260324T100000
DTSTAMP:20260424T112036
CREATED:20260102T143340Z
LAST-MODIFIED:20260102T143340Z
UID:10011141-1774342800-1774346400@www.kofcutica.org
SUMMARY:Aerobics 9am to 10 am
DESCRIPTION:
URL:https://www.kofcutica.org/event/aerobics-9am-to-10-am-2/2026-03-24/
LOCATION:Gym & Cafeteria
END:VEVENT
BEGIN:VEVENT
DTSTART;TZID=America/New_York:20260323T170000
DTEND;TZID=America/New_York:20260323T200000
DTSTAMP:20260424T112036
CREATED:20260303T164934Z
LAST-MODIFIED:20260309T204422Z
UID:10013227-1774285200-1774296000@www.kofcutica.org
SUMMARY:Gym Reserved 5 pm to 8pm
DESCRIPTION:
URL:https://www.kofcutica.org/event/gym-reserved-5-pm-to-8pm-4/2026-03-23/
LOCATION:Gym & Cafeteria
END:VEVENT
BEGIN:VEVENT
DTSTART;TZID=America/New_York:20260323T090000
DTEND;TZID=America/New_York:20260323T100000
DTSTAMP:20260424T112036
CREATED:20260102T143340Z
LAST-MODIFIED:20260102T143340Z
UID:10011140-1774256400-1774260000@www.kofcutica.org
SUMMARY:Aerobics 9am to 10 am
DESCRIPTION:
URL:https://www.kofcutica.org/event/aerobics-9am-to-10-am-2/2026-03-23/
LOCATION:Gym & Cafeteria
END:VEVENT
BEGIN:VEVENT
DTSTART;TZID=America/New_York:20260319T090000
DTEND;TZID=America/New_York:20260319T100000
DTSTAMP:20260424T112036
CREATED:20260102T143340Z
LAST-MODIFIED:20260102T143340Z
UID:10011139-1773910800-1773914400@www.kofcutica.org
SUMMARY:Aerobics 9am to 10 am
DESCRIPTION:
URL:https://www.kofcutica.org/event/aerobics-9am-to-10-am-2/2026-03-19/
LOCATION:Gym & Cafeteria
END:VEVENT
BEGIN:VEVENT
DTSTART;TZID=America/New_York:20260318T170000
DTEND;TZID=America/New_York:20260318T200000
DTSTAMP:20260424T112036
CREATED:20260303T164934Z
LAST-MODIFIED:20260309T204422Z
UID:10013226-1773853200-1773864000@www.kofcutica.org
SUMMARY:Gym Reserved 5 pm to 8pm
DESCRIPTION:
URL:https://www.kofcutica.org/event/gym-reserved-5-pm-to-8pm-4/2026-03-18/
LOCATION:Gym & Cafeteria
END:VEVENT
BEGIN:VEVENT
DTSTART;TZID=America/New_York:20260318T090000
DTEND;TZID=America/New_York:20260318T100000
DTSTAMP:20260424T112036
CREATED:20260102T143340Z
LAST-MODIFIED:20260102T143340Z
UID:10011138-1773824400-1773828000@www.kofcutica.org
SUMMARY:Aerobics 9am to 10 am
DESCRIPTION:
URL:https://www.kofcutica.org/event/aerobics-9am-to-10-am-2/2026-03-18/
LOCATION:Gym & Cafeteria
END:VEVENT
BEGIN:VEVENT
DTSTART;TZID=America/New_York:20260317T090000
DTEND;TZID=America/New_York:20260317T100000
DTSTAMP:20260424T112036
CREATED:20260102T143340Z
LAST-MODIFIED:20260102T143340Z
UID:10011137-1773738000-1773741600@www.kofcutica.org
SUMMARY:Aerobics 9am to 10 am
DESCRIPTION:
URL:https://www.kofcutica.org/event/aerobics-9am-to-10-am-2/2026-03-17/
LOCATION:Gym & Cafeteria
END:VEVENT
BEGIN:VEVENT
DTSTART;TZID=America/New_York:20260316T170000
DTEND;TZID=America/New_York:20260316T200000
DTSTAMP:20260424T112036
CREATED:20260303T164934Z
LAST-MODIFIED:20260309T204422Z
UID:10013225-1773680400-1773691200@www.kofcutica.org
SUMMARY:Gym Reserved 5 pm to 8pm
DESCRIPTION:
URL:https://www.kofcutica.org/event/gym-reserved-5-pm-to-8pm-4/2026-03-16/
LOCATION:Gym & Cafeteria
END:VEVENT
BEGIN:VEVENT
DTSTART;TZID=America/New_York:20260316T090000
DTEND;TZID=America/New_York:20260316T100000
DTSTAMP:20260424T112036
CREATED:20260102T143340Z
LAST-MODIFIED:20260102T143340Z
UID:10011136-1773651600-1773655200@www.kofcutica.org
SUMMARY:Aerobics 9am to 10 am
DESCRIPTION:
URL:https://www.kofcutica.org/event/aerobics-9am-to-10-am-2/2026-03-16/
LOCATION:Gym & Cafeteria
END:VEVENT
BEGIN:VEVENT
DTSTART;TZID=America/New_York:20260312T090000
DTEND;TZID=America/New_York:20260312T100000
DTSTAMP:20260424T112036
CREATED:20260102T143340Z
LAST-MODIFIED:20260102T143340Z
UID:10011135-1773306000-1773309600@www.kofcutica.org
SUMMARY:Aerobics 9am to 10 am
DESCRIPTION:
URL:https://www.kofcutica.org/event/aerobics-9am-to-10-am-2/2026-03-12/
LOCATION:Gym & Cafeteria
END:VEVENT
BEGIN:VEVENT
DTSTART;TZID=America/New_York:20260311T170000
DTEND;TZID=America/New_York:20260311T200000
DTSTAMP:20260424T112036
CREATED:20260303T164934Z
LAST-MODIFIED:20260309T204422Z
UID:10013224-1773248400-1773259200@www.kofcutica.org
SUMMARY:Gym Reserved 5 pm to 8pm
DESCRIPTION:
URL:https://www.kofcutica.org/event/gym-reserved-5-pm-to-8pm-4/2026-03-11/
LOCATION:Gym & Cafeteria
END:VEVENT
BEGIN:VEVENT
DTSTART;TZID=America/New_York:20260311T090000
DTEND;TZID=America/New_York:20260311T100000
DTSTAMP:20260424T112036
CREATED:20260102T143340Z
LAST-MODIFIED:20260102T143340Z
UID:10011134-1773219600-1773223200@www.kofcutica.org
SUMMARY:Aerobics 9am to 10 am
DESCRIPTION:
URL:https://www.kofcutica.org/event/aerobics-9am-to-10-am-2/2026-03-11/
LOCATION:Gym & Cafeteria
END:VEVENT
END:VCALENDAR