BEGIN:VCALENDAR
VERSION:2.0
PRODID:-//The Knights of Columbus Council 189 - ECPv6.15.20//NONSGML v1.0//EN
CALSCALE:GREGORIAN
METHOD:PUBLISH
X-ORIGINAL-URL:https://www.kofcutica.org
X-WR-CALDESC:Events for The Knights of Columbus Council 189
REFRESH-INTERVAL;VALUE=DURATION:PT1H
X-Robots-Tag:noindex
X-PUBLISHED-TTL:PT1H
BEGIN:VTIMEZONE
TZID:America/New_York
BEGIN:DAYLIGHT
TZOFFSETFROM:-0500
TZOFFSETTO:-0400
TZNAME:EDT
DTSTART:20210314T070000
END:DAYLIGHT
BEGIN:STANDARD
TZOFFSETFROM:-0400
TZOFFSETTO:-0500
TZNAME:EST
DTSTART:20211107T060000
END:STANDARD
BEGIN:DAYLIGHT
TZOFFSETFROM:-0500
TZOFFSETTO:-0400
TZNAME:EDT
DTSTART:20220313T070000
END:DAYLIGHT
BEGIN:STANDARD
TZOFFSETFROM:-0400
TZOFFSETTO:-0500
TZNAME:EST
DTSTART:20221106T060000
END:STANDARD
BEGIN:DAYLIGHT
TZOFFSETFROM:-0500
TZOFFSETTO:-0400
TZNAME:EDT
DTSTART:20230312T070000
END:DAYLIGHT
BEGIN:STANDARD
TZOFFSETFROM:-0400
TZOFFSETTO:-0500
TZNAME:EST
DTSTART:20231105T060000
END:STANDARD
BEGIN:DAYLIGHT
TZOFFSETFROM:-0500
TZOFFSETTO:-0400
TZNAME:EDT
DTSTART:20240310T070000
END:DAYLIGHT
BEGIN:STANDARD
TZOFFSETFROM:-0400
TZOFFSETTO:-0500
TZNAME:EST
DTSTART:20241103T060000
END:STANDARD
BEGIN:DAYLIGHT
TZOFFSETFROM:-0500
TZOFFSETTO:-0400
TZNAME:EDT
DTSTART:20250309T070000
END:DAYLIGHT
BEGIN:STANDARD
TZOFFSETFROM:-0400
TZOFFSETTO:-0500
TZNAME:EST
DTSTART:20251102T060000
END:STANDARD
BEGIN:DAYLIGHT
TZOFFSETFROM:-0500
TZOFFSETTO:-0400
TZNAME:EDT
DTSTART:20260308T070000
END:DAYLIGHT
BEGIN:STANDARD
TZOFFSETFROM:-0400
TZOFFSETTO:-0500
TZNAME:EST
DTSTART:20261101T060000
END:STANDARD
BEGIN:DAYLIGHT
TZOFFSETFROM:-0500
TZOFFSETTO:-0400
TZNAME:EDT
DTSTART:20270314T070000
END:DAYLIGHT
BEGIN:STANDARD
TZOFFSETFROM:-0400
TZOFFSETTO:-0500
TZNAME:EST
DTSTART:20271107T060000
END:STANDARD
END:VTIMEZONE
BEGIN:VEVENT
DTSTART;TZID=America/New_York:20260317T150000
DTEND;TZID=America/New_York:20260317T210000
DTSTAMP:20260424T141345
CREATED:20260204T115930Z
LAST-MODIFIED:20260204T115930Z
UID:10012330-1773759600-1773781200@www.kofcutica.org
SUMMARY:Council meeting night
DESCRIPTION:
URL:https://www.kofcutica.org/event/council-meeting-night/2026-03-17/
LOCATION:Gym\, cafateria\, kitchen
END:VEVENT
BEGIN:VEVENT
DTSTART;TZID=America/New_York:20260217T150000
DTEND;TZID=America/New_York:20260217T210000
DTSTAMP:20260424T141345
CREATED:20260204T115930Z
LAST-MODIFIED:20260204T115930Z
UID:10012329-1771340400-1771362000@www.kofcutica.org
SUMMARY:Council meeting night
DESCRIPTION:
URL:https://www.kofcutica.org/event/council-meeting-night/2026-02-17/
LOCATION:Gym\, cafateria\, kitchen
END:VEVENT
BEGIN:VEVENT
DTSTART;VALUE=DATE:20240428
DTEND;VALUE=DATE:20240429
DTSTAMP:20260424T141345
CREATED:20240403T212430Z
LAST-MODIFIED:20240403T212430Z
UID:10008222-1714262400-1714348799@www.kofcutica.org
SUMMARY:Fry Dough Drive Thru
DESCRIPTION:
URL:https://www.kofcutica.org/event/fry-dough-drive-thru/
LOCATION:Gym\, cafateria\, kitchen
END:VEVENT
BEGIN:VEVENT
DTSTART;TZID=America/New_York:20240420T160000
DTEND;TZID=America/New_York:20240420T200000
DTSTAMP:20260424T141345
CREATED:20240402T145415Z
LAST-MODIFIED:20240402T145415Z
UID:10008221-1713628800-1713643200@www.kofcutica.org
SUMMARY:Cafeteria reserved for Event
DESCRIPTION:
URL:https://www.kofcutica.org/event/cafeteria-reserved-for-event-2/
LOCATION:Gym\, cafateria\, kitchen
END:VEVENT
BEGIN:VEVENT
DTSTART;TZID=America/New_York:20240217T120000
DTEND;TZID=America/New_York:20240217T180000
DTSTAMP:20260424T141345
CREATED:20231219T005210Z
LAST-MODIFIED:20231219T005210Z
UID:10007939-1708171200-1708192800@www.kofcutica.org
SUMMARY:Building reserved for Event
DESCRIPTION:
URL:https://www.kofcutica.org/event/building-reserved-for-event-6/
LOCATION:Gym\, cafateria\, kitchen
END:VEVENT
BEGIN:VEVENT
DTSTART;TZID=America/New_York:20231126T100000
DTEND;TZID=America/New_York:20231126T150000
DTSTAMP:20260424T141345
CREATED:20231119T202935Z
LAST-MODIFIED:20231120T141703Z
UID:10007632-1700992800-1701010800@www.kofcutica.org
SUMMARY:Memmorial Mass & Reception
DESCRIPTION:
URL:https://www.kofcutica.org/event/memmorial-mass-reception/
LOCATION:Gym\, cafateria\, kitchen
END:VEVENT
BEGIN:VEVENT
DTSTART;TZID=America/New_York:20231017T173000
DTEND;TZID=America/New_York:20231017T213000
DTSTAMP:20260424T141345
CREATED:20230816T122256Z
LAST-MODIFIED:20230816T122256Z
UID:10006886-1697563800-1697578200@www.kofcutica.org
SUMMARY:Italian Night Council Meeting
DESCRIPTION:
URL:https://www.kofcutica.org/event/italian-night-council-meeting/
LOCATION:Gym\, cafateria\, kitchen
END:VEVENT
BEGIN:VEVENT
DTSTART;TZID=America/New_York:20231007T120000
DTEND;TZID=America/New_York:20231007T170000
DTSTAMP:20260424T141345
CREATED:20230802T005821Z
LAST-MODIFIED:20230802T005821Z
UID:10006853-1696680000-1696698000@www.kofcutica.org
SUMMARY:Reserved for Event noon to5 pm
DESCRIPTION:
URL:https://www.kofcutica.org/event/reserved-for-event-noon-to5-pm/
LOCATION:Gym\, cafateria\, kitchen
END:VEVENT
BEGIN:VEVENT
DTSTART;TZID=America/New_York:20230620T173000
DTEND;TZID=America/New_York:20230620T210000
DTSTAMP:20260424T141345
CREATED:20230517T112511Z
LAST-MODIFIED:20230517T112511Z
UID:10006799-1687282200-1687294800@www.kofcutica.org
SUMMARY:June Cookout & Member Recognition Night
DESCRIPTION:
URL:https://www.kofcutica.org/event/june-cookout-member-recognition-night/
LOCATION:Gym\, cafateria\, kitchen
END:VEVENT
BEGIN:VEVENT
DTSTART;TZID=America/New_York:20230609T170000
DTEND;TZID=America/New_York:20230609T210000
DTSTAMP:20260424T141345
CREATED:20230603T135449Z
LAST-MODIFIED:20230608T200432Z
UID:10006813-1686330000-1686344400@www.kofcutica.org
SUMMARY:Kitchen & Cafeteria reserved
DESCRIPTION:
URL:https://www.kofcutica.org/event/kitchen-cafeteria-reserved/
LOCATION:Gym\, cafateria\, kitchen
END:VEVENT
BEGIN:VEVENT
DTSTART;TZID=America/New_York:20230418T173000
DTEND;TZID=America/New_York:20230418T210000
DTSTAMP:20260424T141345
CREATED:20230304T201931Z
LAST-MODIFIED:20230325T183827Z
UID:10006647-1681839000-1681851600@www.kofcutica.org
SUMMARY:American Night Meeting
DESCRIPTION:
URL:https://www.kofcutica.org/event/american-night-meeting/
LOCATION:Gym\, cafateria\, kitchen
END:VEVENT
BEGIN:VEVENT
DTSTART;TZID=America/New_York:20230406T180000
DTEND;TZID=America/New_York:20230406T230000
DTSTAMP:20260424T141345
CREATED:20230303T222007Z
LAST-MODIFIED:20230303T222203Z
UID:10006364-1680804000-1680822000@www.kofcutica.org
SUMMARY:Event scheduled from 6 pm to 11 pm
DESCRIPTION:
URL:https://www.kofcutica.org/event/event-scheduled-from-6-pm-to-11-pm/
LOCATION:Gym\, cafateria\, kitchen
END:VEVENT
BEGIN:VEVENT
DTSTART;TZID=America/New_York:20230321T173000
DTEND;TZID=America/New_York:20230321T203000
DTSTAMP:20260424T141345
CREATED:20230217T070351Z
LAST-MODIFIED:20230217T131440Z
UID:10006353-1679419800-1679430600@www.kofcutica.org
SUMMARY:IRISH Night Meeting
DESCRIPTION:
URL:https://www.kofcutica.org/event/irish-night-meeting-2/
LOCATION:Gym\, cafateria\, kitchen
END:VEVENT
BEGIN:VEVENT
DTSTART;TZID=America/New_York:20230319T100000
DTEND;TZID=America/New_York:20230319T170000
DTSTAMP:20260424T141345
CREATED:20230222T003257Z
LAST-MODIFIED:20230222T003257Z
UID:10006359-1679220000-1679245200@www.kofcutica.org
SUMMARY:Gym & cafeteria reserved
DESCRIPTION:
URL:https://www.kofcutica.org/event/gym-cafeteria-reserved-5/
LOCATION:Gym\, cafateria\, kitchen
END:VEVENT
BEGIN:VEVENT
DTSTART;VALUE=DATE:20230319
DTEND;VALUE=DATE:20230320
DTSTAMP:20260424T141345
CREATED:20230107T180715Z
LAST-MODIFIED:20230107T180715Z
UID:10006185-1679184000-1679270399@www.kofcutica.org
SUMMARY:Building Reserved for Event
DESCRIPTION:
URL:https://www.kofcutica.org/event/building-reserved-for-event-2/
LOCATION:Gym\, cafateria\, kitchen
END:VEVENT
BEGIN:VEVENT
DTSTART;TZID=America/New_York:20230311T120000
DTEND;TZID=America/New_York:20230311T170000
DTSTAMP:20260424T141345
CREATED:20230221T225511Z
LAST-MODIFIED:20230221T225511Z
UID:10006358-1678536000-1678554000@www.kofcutica.org
SUMMARY:Gym Reserved noon to 5 pm
DESCRIPTION:
URL:https://www.kofcutica.org/event/gym-reserved-noon-to-5-pm/
LOCATION:Gym\, cafateria\, kitchen
END:VEVENT
BEGIN:VEVENT
DTSTART;TZID=America/New_York:20230221T173000
DTEND;TZID=America/New_York:20230221T203000
DTSTAMP:20260424T141345
CREATED:20230107T193432Z
LAST-MODIFIED:20230107T193432Z
UID:10006190-1677000600-1677011400@www.kofcutica.org
SUMMARY:German Night Dinner Meeting
DESCRIPTION:
URL:https://www.kofcutica.org/event/german-night-dinner-meeting/
LOCATION:Gym\, cafateria\, kitchen
END:VEVENT
BEGIN:VEVENT
DTSTART;TZID=America/New_York:20230117T183000
DTEND;TZID=America/New_York:20230117T203000
DTSTAMP:20260424T141345
CREATED:20221120T213619Z
LAST-MODIFIED:20221120T213619Z
UID:10006154-1673980200-1673987400@www.kofcutica.org
SUMMARY:Polish Night Dinner Meeting
DESCRIPTION:
URL:https://www.kofcutica.org/event/polish-night-dinner-meeting/
LOCATION:Gym\, cafateria\, kitchen
END:VEVENT
BEGIN:VEVENT
DTSTART;TZID=America/New_York:20230114T043000
DTEND;TZID=America/New_York:20230114T233000
DTSTAMP:20260424T141345
CREATED:20221129T190554Z
LAST-MODIFIED:20221129T190554Z
UID:10006168-1673670600-1673739000@www.kofcutica.org
SUMMARY:Building Reserved for Event
DESCRIPTION:
URL:https://www.kofcutica.org/event/building-reserved-for-event/
LOCATION:Gym\, cafateria\, kitchen
END:VEVENT
BEGIN:VEVENT
DTSTART;TZID=America/New_York:20221211T110000
DTEND;TZID=America/New_York:20221211T170000
DTSTAMP:20260424T141345
CREATED:20220915T152800Z
LAST-MODIFIED:20220915T152800Z
UID:10006051-1670756400-1670778000@www.kofcutica.org
SUMMARY:Christmas Party
DESCRIPTION:Council 
URL:https://www.kofcutica.org/event/christmas-party-2/
LOCATION:Gym\, cafateria\, kitchen
END:VEVENT
BEGIN:VEVENT
DTSTART;TZID=America/New_York:20221203T070000
DTEND;TZID=America/New_York:20221203T220000
DTSTAMP:20260424T141345
CREATED:20221103T202542Z
LAST-MODIFIED:20221121T181425Z
UID:10006133-1670050800-1670104800@www.kofcutica.org
SUMMARY:Building closed for event
DESCRIPTION:
URL:https://www.kofcutica.org/event/building-closed-for-event/
LOCATION:Gym\, cafateria\, kitchen
END:VEVENT
BEGIN:VEVENT
DTSTART;TZID=America/New_York:20221115T180000
DTEND;TZID=America/New_York:20221115T200000
DTSTAMP:20260424T141345
CREATED:20220915T152059Z
LAST-MODIFIED:20220915T152059Z
UID:10006048-1668535200-1668542400@www.kofcutica.org
SUMMARY:Council Meeting
DESCRIPTION:
URL:https://www.kofcutica.org/event/council-meeting-3/
LOCATION:Gym\, cafateria\, kitchen
END:VEVENT
BEGIN:VEVENT
DTSTART;TZID=America/New_York:20221018T173000
DTEND;TZID=America/New_York:20221018T203000
DTSTAMP:20260424T141345
CREATED:20220908T105112Z
LAST-MODIFIED:20220916T194640Z
UID:10006043-1666114200-1666125000@www.kofcutica.org
SUMMARY:Council Meeting Italian Night & Installation of Officers
DESCRIPTION:
URL:https://www.kofcutica.org/event/italian-knight-installation-of-officers/
LOCATION:Gym\, cafateria\, kitchen
END:VEVENT
BEGIN:VEVENT
DTSTART;VALUE=DATE:20221002
DTEND;VALUE=DATE:20221003
DTSTAMP:20260424T141345
CREATED:20220827T221154Z
LAST-MODIFIED:20220915T154244Z
UID:10006040-1664668800-1664755199@www.kofcutica.org
SUMMARY:Building closed Rosary Rally & Dinner
DESCRIPTION:
URL:https://www.kofcutica.org/event/building-closed-parish-function/
LOCATION:Gym\, cafateria\, kitchen
END:VEVENT
BEGIN:VEVENT
DTSTART;VALUE=DATE:20220930
DTEND;VALUE=DATE:20221002
DTSTAMP:20260424T141345
CREATED:20220721T182337Z
LAST-MODIFIED:20220721T182516Z
UID:10006036-1664496000-1664668799@www.kofcutica.org
SUMMARY:BUILDING CLOSED for Hope House Dinner
DESCRIPTION:
URL:https://www.kofcutica.org/event/hope-house-dinner/
LOCATION:Gym\, cafateria\, kitchen
END:VEVENT
BEGIN:VEVENT
DTSTART;VALUE=DATE:20220807
DTEND;VALUE=DATE:20220817
DTSTAMP:20260424T141345
CREATED:20220520T171357Z
LAST-MODIFIED:20220520T171357Z
UID:10006021-1659830400-1660694399@www.kofcutica.org
SUMMARY:Building Reserved for Parish Festival
DESCRIPTION:
URL:https://www.kofcutica.org/event/building-reserved-for-parish-festival/
LOCATION:Gym\, cafateria\, kitchen
END:VEVENT
BEGIN:VEVENT
DTSTART;VALUE=DATE:20220625
DTEND;VALUE=DATE:20220626
DTSTAMP:20260424T141345
CREATED:20220509T214956Z
LAST-MODIFIED:20220509T214956Z
UID:10006018-1656115200-1656201599@www.kofcutica.org
SUMMARY:Gym & Cafeteria closed for Parish Event
DESCRIPTION:
URL:https://www.kofcutica.org/event/gym-cafeteria-closed-for-parish-event/
LOCATION:Gym\, cafateria\, kitchen
END:VEVENT
BEGIN:VEVENT
DTSTART;TZID=America/New_York:20220624T080000
DTEND;TZID=America/New_York:20220624T210000
DTSTAMP:20260424T141345
CREATED:20220609T192613Z
LAST-MODIFIED:20220916T173122Z
UID:10006030-1656057600-1656104400@www.kofcutica.org
SUMMARY:Gym & Cafeteria Closed for Parish Event
DESCRIPTION:
URL:https://www.kofcutica.org/event/gym-cafeteria-closed-for-parish-event-2/
LOCATION:Gym\, cafateria\, kitchen
END:VEVENT
BEGIN:VEVENT
DTSTART;TZID=America/New_York:20220621T150000
DTEND;TZID=America/New_York:20220621T210000
DTSTAMP:20260424T141345
CREATED:20220525T212912Z
LAST-MODIFIED:20220525T212912Z
UID:10006025-1655823600-1655845200@www.kofcutica.org
SUMMARY:June Cookout & Recognition Night
DESCRIPTION:
URL:https://www.kofcutica.org/event/june-cookout-recognition-night/
LOCATION:Gym\, cafateria\, kitchen
END:VEVENT
BEGIN:VEVENT
DTSTART;TZID=America/New_York:20220519T150000
DTEND;TZID=America/New_York:20220519T210000
DTSTAMP:20260424T141345
CREATED:20220420T171343Z
LAST-MODIFIED:20220420T171343Z
UID:10006009-1652972400-1652994000@www.kofcutica.org
SUMMARY:Parish Confirmation Event 3  PM  to 9 PM
DESCRIPTION:
URL:https://www.kofcutica.org/event/parish-confirmation-event-3-pm-to-9-pm/
LOCATION:Gym\, cafateria\, kitchen
END:VEVENT
END:VCALENDAR