BEGIN:VCALENDAR
VERSION:2.0
PRODID:-//The Knights of Columbus Council 189 - ECPv6.15.20//NONSGML v1.0//EN
CALSCALE:GREGORIAN
METHOD:PUBLISH
X-ORIGINAL-URL:https://www.kofcutica.org
X-WR-CALDESC:Events for The Knights of Columbus Council 189
REFRESH-INTERVAL;VALUE=DURATION:PT1H
X-Robots-Tag:noindex
X-PUBLISHED-TTL:PT1H
BEGIN:VTIMEZONE
TZID:America/New_York
BEGIN:DAYLIGHT
TZOFFSETFROM:-0500
TZOFFSETTO:-0400
TZNAME:EDT
DTSTART:20210314T070000
END:DAYLIGHT
BEGIN:STANDARD
TZOFFSETFROM:-0400
TZOFFSETTO:-0500
TZNAME:EST
DTSTART:20211107T060000
END:STANDARD
BEGIN:DAYLIGHT
TZOFFSETFROM:-0500
TZOFFSETTO:-0400
TZNAME:EDT
DTSTART:20220313T070000
END:DAYLIGHT
BEGIN:STANDARD
TZOFFSETFROM:-0400
TZOFFSETTO:-0500
TZNAME:EST
DTSTART:20221106T060000
END:STANDARD
BEGIN:DAYLIGHT
TZOFFSETFROM:-0500
TZOFFSETTO:-0400
TZNAME:EDT
DTSTART:20230312T070000
END:DAYLIGHT
BEGIN:STANDARD
TZOFFSETFROM:-0400
TZOFFSETTO:-0500
TZNAME:EST
DTSTART:20231105T060000
END:STANDARD
BEGIN:DAYLIGHT
TZOFFSETFROM:-0500
TZOFFSETTO:-0400
TZNAME:EDT
DTSTART:20240310T070000
END:DAYLIGHT
BEGIN:STANDARD
TZOFFSETFROM:-0400
TZOFFSETTO:-0500
TZNAME:EST
DTSTART:20241103T060000
END:STANDARD
BEGIN:DAYLIGHT
TZOFFSETFROM:-0500
TZOFFSETTO:-0400
TZNAME:EDT
DTSTART:20250309T070000
END:DAYLIGHT
BEGIN:STANDARD
TZOFFSETFROM:-0400
TZOFFSETTO:-0500
TZNAME:EST
DTSTART:20251102T060000
END:STANDARD
END:VTIMEZONE
BEGIN:VEVENT
DTSTART;VALUE=DATE:20240120
DTEND;VALUE=DATE:20240121
DTSTAMP:20260424T194355
CREATED:20231212T112832Z
LAST-MODIFIED:20231212T112832Z
UID:10007935-1705708800-1705795199@www.kofcutica.org
SUMMARY:Building reserved for event
DESCRIPTION:
URL:https://www.kofcutica.org/event/building-reserved-for-event-5/
LOCATION:Building
END:VEVENT
BEGIN:VEVENT
DTSTART;TZID=America/New_York:20240116T173000
DTEND;TZID=America/New_York:20240116T203000
DTSTAMP:20260424T194355
CREATED:20231213T211344Z
LAST-MODIFIED:20231213T211624Z
UID:10007938-1705426200-1705437000@www.kofcutica.org
SUMMARY:Meeting Polish Night
DESCRIPTION:
URL:https://www.kofcutica.org/event/meeting-polish-night/
LOCATION:Building
END:VEVENT
BEGIN:VEVENT
DTSTART;VALUE=DATE:20240113
DTEND;VALUE=DATE:20240114
DTSTAMP:20260424T194355
CREATED:20231127T174108Z
LAST-MODIFIED:20231127T174108Z
UID:10007638-1705104000-1705190399@www.kofcutica.org
SUMMARY:Building Reserved for Event
DESCRIPTION:
URL:https://www.kofcutica.org/event/building-reserved-for-event-4/
LOCATION:Building
END:VEVENT
BEGIN:VEVENT
DTSTART;TZID=America/New_York:20240106T100000
DTEND;TZID=America/New_York:20240106T153000
DTSTAMP:20260424T194355
CREATED:20231108T184509Z
LAST-MODIFIED:20240103T150354Z
UID:10007604-1704535200-1704555000@www.kofcutica.org
SUMMARY:Building Closed reserved for event
DESCRIPTION:
URL:https://www.kofcutica.org/event/building-reserved-for-event-3/
LOCATION:Building
END:VEVENT
BEGIN:VEVENT
DTSTART;VALUE=DATE:20231217
DTEND;VALUE=DATE:20231218
DTSTAMP:20260424T194355
CREATED:20231020T164339Z
LAST-MODIFIED:20231212T113438Z
UID:10007538-1702771200-1702857599@www.kofcutica.org
SUMMARY:CHRISTMAS PARTY noon
DESCRIPTION:
URL:https://www.kofcutica.org/event/building-closed-christmas-party/
LOCATION:Building
END:VEVENT
BEGIN:VEVENT
DTSTART;TZID=America/New_York:20231209T160000
DTEND;TZID=America/New_York:20231209T190000
DTSTAMP:20260424T194355
CREATED:20231202T175426Z
LAST-MODIFIED:20231202T175426Z
UID:10007645-1702137600-1702148400@www.kofcutica.org
SUMMARY:Building Reserved 4pm to 7pm
DESCRIPTION:
URL:https://www.kofcutica.org/event/building-reserved-4pm-to-7pm/
LOCATION:Building
END:VEVENT
BEGIN:VEVENT
DTSTART;TZID=America/New_York:20231208T110000
DTEND;TZID=America/New_York:20231208T220000
DTSTAMP:20260424T194355
CREATED:20231101T230949Z
LAST-MODIFIED:20231101T230949Z
UID:10007598-1702033200-1702072800@www.kofcutica.org
SUMMARY:Reserved UCP WINTER BALL 11 am to 10 pm
DESCRIPTION:
URL:https://www.kofcutica.org/event/reserved-ucp-winter-ball-11-am-to-10-pm/
LOCATION:Building
END:VEVENT
BEGIN:VEVENT
DTSTART;TZID=America/New_York:20231121T170000
DTEND;TZID=America/New_York:20231121T210000
DTSTAMP:20260424T194355
CREATED:20230926T145740Z
LAST-MODIFIED:20230926T145740Z
UID:10007521-1700586000-1700600400@www.kofcutica.org
SUMMARY:Turkey Scramble Meeting
DESCRIPTION:
URL:https://www.kofcutica.org/event/turkey-scramble-meeting/
LOCATION:Building
END:VEVENT
BEGIN:VEVENT
DTSTART;VALUE=DATE:20231105
DTEND;VALUE=DATE:20231106
DTSTAMP:20260424T194355
CREATED:20230925T155545Z
LAST-MODIFIED:20230925T165843Z
UID:10007515-1699171200-1699203600@www.kofcutica.org
SUMMARY:Ham Dinner Takeout
DESCRIPTION:
URL:https://www.kofcutica.org/event/hope-house-dinner-3/2023-11-05/2/
LOCATION:Building
END:VEVENT
BEGIN:VEVENT
DTSTART;VALUE=DATE:20231105
DTEND;VALUE=DATE:20231106
DTSTAMP:20260424T194355
CREATED:20230925T155545Z
LAST-MODIFIED:20230925T165843Z
UID:10007512-1699142400-1699228799@www.kofcutica.org
SUMMARY:Ham Dinner Takeout
DESCRIPTION:
URL:https://www.kofcutica.org/event/hope-house-dinner-3/2023-11-05/1/
LOCATION:Building
END:VEVENT
BEGIN:VEVENT
DTSTART;VALUE=DATE:20231021
DTEND;VALUE=DATE:20231022
DTSTAMP:20260424T194355
CREATED:20230818T153044Z
LAST-MODIFIED:20230818T153044Z
UID:10006888-1697846400-1697932799@www.kofcutica.org
SUMMARY:Building Reserved for the day
DESCRIPTION:
URL:https://www.kofcutica.org/event/building-reserved-for-the-day-2/
LOCATION:Building
END:VEVENT
BEGIN:VEVENT
DTSTART;VALUE=DATE:20231014
DTEND;VALUE=DATE:20231015
DTSTAMP:20260424T194355
CREATED:20230925T170054Z
LAST-MODIFIED:20230925T170239Z
UID:10007516-1697241600-1697327999@www.kofcutica.org
SUMMARY:Hope House Dinner
DESCRIPTION:
URL:https://www.kofcutica.org/event/hope-house-dinner-2/
LOCATION:Building
END:VEVENT
BEGIN:VEVENT
DTSTART;TZID=America/New_York:20231013T120000
DTEND;TZID=America/New_York:20231013T210000
DTSTAMP:20260424T194355
CREATED:20230925T170708Z
LAST-MODIFIED:20230925T170708Z
UID:10007518-1697198400-1697230800@www.kofcutica.org
SUMMARY:Hope House Dinner setup
DESCRIPTION:
URL:https://www.kofcutica.org/event/hope-house-dinner-setup/
LOCATION:Building
END:VEVENT
BEGIN:VEVENT
DTSTART;TZID=America/New_York:20231008T080000
DTEND;TZID=America/New_York:20231008T170000
DTSTAMP:20260424T194355
CREATED:20230901T174200Z
LAST-MODIFIED:20230901T174200Z
UID:10007486-1696752000-1696784400@www.kofcutica.org
SUMMARY:Building reserved from 11 am to 5 pm
DESCRIPTION:
URL:https://www.kofcutica.org/event/building-reserved-from-11-am-to-5-pm/
LOCATION:Building
END:VEVENT
BEGIN:VEVENT
DTSTART;TZID=America/New_York:20230818T163000
DTEND;TZID=America/New_York:20230818T220000
DTSTAMP:20260424T194355
CREATED:20230816T232140Z
LAST-MODIFIED:20230818T102012Z
UID:10006887-1692376200-1692396000@www.kofcutica.org
SUMMARY:Building Reserved from 4:30 pm to 10 pm
DESCRIPTION:
URL:https://www.kofcutica.org/event/gym-reserved-from-430-pm-to-6-pm/
LOCATION:Building
END:VEVENT
BEGIN:VEVENT
DTSTART;VALUE=DATE:20230805
DTEND;VALUE=DATE:20230807
DTSTAMP:20260424T194355
CREATED:20230726T121603Z
LAST-MODIFIED:20230726T121603Z
UID:10006852-1691193600-1691366399@www.kofcutica.org
SUMMARY:Festival Events ONLY!
DESCRIPTION:
URL:https://www.kofcutica.org/event/festival-events-only/
LOCATION:Building
END:VEVENT
BEGIN:VEVENT
DTSTART;TZID=America/New_York:20230721T090000
DTEND;TZID=America/New_York:20230721T150000
DTSTAMP:20260424T194355
CREATED:20230629T164542Z
LAST-MODIFIED:20230629T164542Z
UID:10006839-1689930000-1689951600@www.kofcutica.org
SUMMARY:Parish Event 9 am to 3pm
DESCRIPTION:
URL:https://www.kofcutica.org/event/parish-event-9-am-to-3pm-4/
LOCATION:Building
END:VEVENT
BEGIN:VEVENT
DTSTART;TZID=America/New_York:20230720T090000
DTEND;TZID=America/New_York:20230720T150000
DTSTAMP:20260424T194355
CREATED:20230629T164724Z
LAST-MODIFIED:20230629T164724Z
UID:10006840-1689843600-1689865200@www.kofcutica.org
SUMMARY:Parish Event 9 am to 3pm
DESCRIPTION:
URL:https://www.kofcutica.org/event/parish-event-9-am-to-3pm-5/
LOCATION:Building
END:VEVENT
BEGIN:VEVENT
DTSTART;TZID=America/New_York:20230719T090000
DTEND;TZID=America/New_York:20230719T150000
DTSTAMP:20260424T194355
CREATED:20230629T164412Z
LAST-MODIFIED:20230629T164412Z
UID:10006837-1689757200-1689778800@www.kofcutica.org
SUMMARY:Parish Event 9 am to 3pm
DESCRIPTION:
URL:https://www.kofcutica.org/event/parish-event-9-am-to-3pm-2/
LOCATION:Building
END:VEVENT
BEGIN:VEVENT
DTSTART;TZID=America/New_York:20230718T090000
DTEND;TZID=America/New_York:20230718T150000
DTSTAMP:20260424T194355
CREATED:20230629T164309Z
LAST-MODIFIED:20230629T164309Z
UID:10006836-1689670800-1689692400@www.kofcutica.org
SUMMARY:Parish Event 9 am to 3pm
DESCRIPTION:
URL:https://www.kofcutica.org/event/parish-event-9-am-to-3pm/
LOCATION:Building
END:VEVENT
BEGIN:VEVENT
DTSTART;TZID=America/New_York:20230717T090000
DTEND;TZID=America/New_York:20230717T150000
DTSTAMP:20260424T194355
CREATED:20230629T164215Z
LAST-MODIFIED:20230629T172545Z
UID:10006835-1689584400-1689606000@www.kofcutica.org
SUMMARY:Parish Event 9am to 3pm
DESCRIPTION:
URL:https://www.kofcutica.org/event/parish-event-10am-to-3pm/
LOCATION:Building
END:VEVENT
BEGIN:VEVENT
DTSTART;TZID=America/New_York:20230629T090000
DTEND;TZID=America/New_York:20230629T150000
DTSTAMP:20260424T194355
CREATED:20230629T164451Z
LAST-MODIFIED:20230629T164451Z
UID:10006838-1688029200-1688050800@www.kofcutica.org
SUMMARY:Parish Event 9 am to 3pm
DESCRIPTION:
URL:https://www.kofcutica.org/event/parish-event-9-am-to-3pm-3/
LOCATION:Building
END:VEVENT
BEGIN:VEVENT
DTSTART;TZID=America/New_York:20230513T140000
DTEND;TZID=America/New_York:20230513T213000
DTSTAMP:20260424T194356
CREATED:20230420T225941Z
LAST-MODIFIED:20230510T221424Z
UID:10006687-1683986400-1684013400@www.kofcutica.org
SUMMARY:Building reserved 2 pm to 9 pm
DESCRIPTION:
URL:https://www.kofcutica.org/event/building-reserved-2-pm-to-7-pm/
LOCATION:Building
END:VEVENT
BEGIN:VEVENT
DTSTART;TZID=America/New_York:20230429T000000
DTEND;TZID=America/New_York:20230429T235959
DTSTAMP:20260424T194356
CREATED:20230428T154119Z
LAST-MODIFIED:20230428T154119Z
UID:10006694-1682726400-1682812799@www.kofcutica.org
SUMMARY:Building Reserved for the Day
DESCRIPTION:  \n  \n  \n  \n  \n  \n  \n  \n  \n 
URL:https://www.kofcutica.org/event/building-reserved-for-the-day/
LOCATION:Building
END:VEVENT
BEGIN:VEVENT
DTSTART;TZID=America/New_York:20221009T120000
DTEND;TZID=America/New_York:20221009T190000
DTSTAMP:20260424T194356
CREATED:20220914T183518Z
LAST-MODIFIED:20220914T225508Z
UID:10006045-1665316800-1665342000@www.kofcutica.org
SUMMARY:Building reserved from noon on
DESCRIPTION:
URL:https://www.kofcutica.org/event/build/
LOCATION:Building
END:VEVENT
END:VCALENDAR