BEGIN:VCALENDAR
VERSION:2.0
PRODID:-//The Knights of Columbus Council 189 - ECPv6.15.20//NONSGML v1.0//EN
CALSCALE:GREGORIAN
METHOD:PUBLISH
X-WR-CALNAME:The Knights of Columbus Council 189
X-ORIGINAL-URL:https://www.kofcutica.org
X-WR-CALDESC:Events for The Knights of Columbus Council 189
REFRESH-INTERVAL;VALUE=DURATION:PT1H
X-Robots-Tag:noindex
X-PUBLISHED-TTL:PT1H
BEGIN:VTIMEZONE
TZID:America/New_York
BEGIN:DAYLIGHT
TZOFFSETFROM:-0500
TZOFFSETTO:-0400
TZNAME:EDT
DTSTART:20220313T070000
END:DAYLIGHT
BEGIN:STANDARD
TZOFFSETFROM:-0400
TZOFFSETTO:-0500
TZNAME:EST
DTSTART:20221106T060000
END:STANDARD
BEGIN:DAYLIGHT
TZOFFSETFROM:-0500
TZOFFSETTO:-0400
TZNAME:EDT
DTSTART:20230312T070000
END:DAYLIGHT
BEGIN:STANDARD
TZOFFSETFROM:-0400
TZOFFSETTO:-0500
TZNAME:EST
DTSTART:20231105T060000
END:STANDARD
BEGIN:DAYLIGHT
TZOFFSETFROM:-0500
TZOFFSETTO:-0400
TZNAME:EDT
DTSTART:20240310T070000
END:DAYLIGHT
BEGIN:STANDARD
TZOFFSETFROM:-0400
TZOFFSETTO:-0500
TZNAME:EST
DTSTART:20241103T060000
END:STANDARD
BEGIN:DAYLIGHT
TZOFFSETFROM:-0500
TZOFFSETTO:-0400
TZNAME:EDT
DTSTART:20250309T070000
END:DAYLIGHT
BEGIN:STANDARD
TZOFFSETFROM:-0400
TZOFFSETTO:-0500
TZNAME:EST
DTSTART:20251102T060000
END:STANDARD
END:VTIMEZONE
BEGIN:VEVENT
DTSTART;TZID=America/New_York:20241130T120000
DTEND;TZID=America/New_York:20241130T200000
DTSTAMP:20260424T144228
CREATED:20241026T173940Z
LAST-MODIFIED:20241026T173940Z
UID:10008976-1732968000-1732996800@www.kofcutica.org
SUMMARY:Building Reserved Event noon  for the day
DESCRIPTION:
URL:https://www.kofcutica.org/event/building-reserved-event-noon-for-the-day/
LOCATION:Building
END:VEVENT
BEGIN:VEVENT
DTSTART;TZID=America/New_York:20241119T173000
DTEND;TZID=America/New_York:20241119T200000
DTSTAMP:20260424T144228
CREATED:20241025T201630Z
LAST-MODIFIED:20241025T201630Z
UID:10008957-1732037400-1732046400@www.kofcutica.org
SUMMARY:Meeting Night Turkey Scramble
DESCRIPTION:
URL:https://www.kofcutica.org/event/meeting-night-turkey-scramble/
LOCATION:Building
END:VEVENT
BEGIN:VEVENT
DTSTART;TZID=America/New_York:20241110T120000
DTEND;TZID=America/New_York:20241110T180000
DTSTAMP:20260424T144228
CREATED:20240822T145906Z
LAST-MODIFIED:20240822T145906Z
UID:10008816-1731240000-1731261600@www.kofcutica.org
SUMMARY:Building Reserved from noon till 6 pm
DESCRIPTION:
URL:https://www.kofcutica.org/event/building-reserved-from-noon-till-6-pm/
LOCATION:Building
END:VEVENT
BEGIN:VEVENT
DTSTART;TZID=America/New_York:20241015T173000
DTEND;TZID=America/New_York:20241015T203000
DTSTAMP:20260424T144228
CREATED:20240903T082707Z
LAST-MODIFIED:20240903T082707Z
UID:10008881-1729013400-1729024200@www.kofcutica.org
SUMMARY:Italian Night & Installation of Officers
DESCRIPTION:
URL:https://www.kofcutica.org/event/italian-night-installation-of-officers/
LOCATION:Building
END:VEVENT
BEGIN:VEVENT
DTSTART;VALUE=DATE:20241005
DTEND;VALUE=DATE:20241006
DTSTAMP:20260424T144228
CREATED:20240809T143829Z
LAST-MODIFIED:20240809T143829Z
UID:10008780-1728086400-1728172799@www.kofcutica.org
SUMMARY:Hope House Dinner
DESCRIPTION:
URL:https://www.kofcutica.org/event/hope-house-dinner-4/
LOCATION:Building
END:VEVENT
BEGIN:VEVENT
DTSTART;TZID=America/New_York:20240823T160000
DTEND;TZID=America/New_York:20240823T200000
DTSTAMP:20260424T144228
CREATED:20240625T185204Z
LAST-MODIFIED:20240625T185227Z
UID:10008383-1724428800-1724443200@www.kofcutica.org
SUMMARY:Building  Reserved 4pm to 8pm
DESCRIPTION:
URL:https://www.kofcutica.org/event/gym-cafeteria-reserved-4pm-to-8pm/
LOCATION:Building
END:VEVENT
BEGIN:VEVENT
DTSTART;VALUE=DATE:20240802
DTEND;VALUE=DATE:20240804
DTSTAMP:20260424T144228
CREATED:20240715T170705Z
LAST-MODIFIED:20240715T170705Z
UID:10008392-1722556800-1722729599@www.kofcutica.org
SUMMARY:Flea Market & Basket Sale
DESCRIPTION:
URL:https://www.kofcutica.org/event/flea-market-basket-sale/
LOCATION:Building
END:VEVENT
BEGIN:VEVENT
DTSTART;VALUE=DATE:20240720
DTEND;VALUE=DATE:20240721
DTSTAMP:20260424T144228
CREATED:20240420T144413Z
LAST-MODIFIED:20240420T144413Z
UID:10008226-1721433600-1721519999@www.kofcutica.org
SUMMARY:Building Closed for Event
DESCRIPTION:
URL:https://www.kofcutica.org/event/building-closed-for-event-2/
LOCATION:Building
END:VEVENT
BEGIN:VEVENT
DTSTART;VALUE=DATE:20240608
DTEND;VALUE=DATE:20240609
DTSTAMP:20260424T144228
CREATED:20231022T135811Z
LAST-MODIFIED:20231022T135811Z
UID:10007540-1717804800-1717891199@www.kofcutica.org
SUMMARY:Building reserved 11am to 4pm ??
DESCRIPTION:
URL:https://www.kofcutica.org/event/building-reserved-11am-to-4pm/
LOCATION:Building
END:VEVENT
BEGIN:VEVENT
DTSTART;TZID=America/New_York:20240505T120000
DTEND;TZID=America/New_York:20240505T200000
DTSTAMP:20260424T144228
CREATED:20240419T112752Z
LAST-MODIFIED:20240419T112752Z
UID:10008225-1714910400-1714939200@www.kofcutica.org
SUMMARY:Gym reserved noon to 8 pm
DESCRIPTION:
URL:https://www.kofcutica.org/event/gym-reserved-noon-to-8-pm/
LOCATION:Building
END:VEVENT
BEGIN:VEVENT
DTSTART;VALUE=DATE:20240413
DTEND;VALUE=DATE:20240414
DTSTAMP:20260424T144228
CREATED:20240109T170414Z
LAST-MODIFIED:20240409T142408Z
UID:10007946-1712966400-1713052799@www.kofcutica.org
SUMMARY:BUILDING CLOSED Faith Formation Day
DESCRIPTION:
URL:https://www.kofcutica.org/event/faith-formation-day/
LOCATION:Building
END:VEVENT
BEGIN:VEVENT
DTSTART;TZID=America/New_York:20240412T160000
DTEND;TZID=America/New_York:20240412T200000
DTSTAMP:20260424T144229
CREATED:20240318T170015Z
LAST-MODIFIED:20240318T170015Z
UID:10008191-1712937600-1712952000@www.kofcutica.org
SUMMARY:Building reserved for an Event 4 to 8 pm
DESCRIPTION:
URL:https://www.kofcutica.org/event/building-reserved-for-an-event-4-to-8-pm/
LOCATION:Building
END:VEVENT
BEGIN:VEVENT
DTSTART;TZID=America/New_York:20240407T120000
DTEND;TZID=America/New_York:20240407T180000
DTSTAMP:20260424T144229
CREATED:20240311T133706Z
LAST-MODIFIED:20240311T133829Z
UID:10008181-1712491200-1712512800@www.kofcutica.org
SUMMARY:Gym reserved noon to 6pm
DESCRIPTION:
URL:https://www.kofcutica.org/event/gym-reserved-noon-to-6pm/
LOCATION:Building
END:VEVENT
BEGIN:VEVENT
DTSTART;VALUE=DATE:20240406
DTEND;VALUE=DATE:20240407
DTSTAMP:20260424T144229
CREATED:20240201T160035Z
LAST-MODIFIED:20240201T160035Z
UID:10008053-1712361600-1712447999@www.kofcutica.org
SUMMARY:Suicide League Playoffs
DESCRIPTION:
URL:https://www.kofcutica.org/event/suicide-league-playoffs/
LOCATION:Building
END:VEVENT
BEGIN:VEVENT
DTSTART;VALUE=DATE:20240329
DTEND;VALUE=DATE:20240330
DTSTAMP:20260424T144229
CREATED:20240318T211420Z
LAST-MODIFIED:20240318T211600Z
UID:10008192-1711670400-1711756799@www.kofcutica.org
SUMMARY:National Grid Survey
DESCRIPTION:
URL:https://www.kofcutica.org/event/national-grid-survey/
LOCATION:Building
END:VEVENT
BEGIN:VEVENT
DTSTART;TZID=America/New_York:20240324T120000
DTEND;TZID=America/New_York:20240324T170000
DTSTAMP:20260424T144229
CREATED:20240311T133342Z
LAST-MODIFIED:20240311T133342Z
UID:10008180-1711281600-1711299600@www.kofcutica.org
SUMMARY:Gym Reserved from Noon to 6pm
DESCRIPTION:
URL:https://www.kofcutica.org/event/gym-reserved-from-noon-to-6pm/
LOCATION:Building
END:VEVENT
BEGIN:VEVENT
DTSTART;TZID=America/New_York:20240323T180000
DTEND;TZID=America/New_York:20240323T220000
DTSTAMP:20260424T144229
CREATED:20240116T221844Z
LAST-MODIFIED:20240116T221844Z
UID:10008024-1711216800-1711231200@www.kofcutica.org
SUMMARY:BUILDING RESERVED 6PM - 10PM
DESCRIPTION:
URL:https://www.kofcutica.org/event/building-reserved-6pm-10pm/
LOCATION:Building
END:VEVENT
BEGIN:VEVENT
DTSTART;TZID=America/New_York:20240319T173000
DTEND;TZID=America/New_York:20240319T203000
DTSTAMP:20260424T144229
CREATED:20240202T001132Z
LAST-MODIFIED:20240202T001132Z
UID:10008057-1710869400-1710880200@www.kofcutica.org
SUMMARY:Irish Night Dinner Meeting
DESCRIPTION:
URL:https://www.kofcutica.org/event/irish-night-dinner-meeting/
LOCATION:Building
END:VEVENT
BEGIN:VEVENT
DTSTART;TZID=America/New_York:20240316T120000
DTEND;TZID=America/New_York:20240316T180000
DTSTAMP:20260424T144229
CREATED:20240206T133114Z
LAST-MODIFIED:20240206T133114Z
UID:10008058-1710590400-1710612000@www.kofcutica.org
SUMMARY:Gym reserved for Event noon to 6
DESCRIPTION:
URL:https://www.kofcutica.org/event/gym-reserved-for-event-noon-to-6/
LOCATION:Building
END:VEVENT
BEGIN:VEVENT
DTSTART;TZID=America/New_York:20240220T173000
DTEND;TZID=America/New_York:20240220T200000
DTSTAMP:20260424T144229
CREATED:20240130T001055Z
LAST-MODIFIED:20240130T001055Z
UID:10008052-1708450200-1708459200@www.kofcutica.org
SUMMARY:German Night Dinner Meeting
DESCRIPTION:
URL:https://www.kofcutica.org/event/german-night-dinner-meeting-2/
LOCATION:Building
END:VEVENT
BEGIN:VEVENT
DTSTART;VALUE=DATE:20240120
DTEND;VALUE=DATE:20240121
DTSTAMP:20260424T144229
CREATED:20231212T112832Z
LAST-MODIFIED:20231212T112832Z
UID:10007935-1705708800-1705795199@www.kofcutica.org
SUMMARY:Building reserved for event
DESCRIPTION:
URL:https://www.kofcutica.org/event/building-reserved-for-event-5/
LOCATION:Building
END:VEVENT
BEGIN:VEVENT
DTSTART;TZID=America/New_York:20240116T173000
DTEND;TZID=America/New_York:20240116T203000
DTSTAMP:20260424T144229
CREATED:20231213T211344Z
LAST-MODIFIED:20231213T211624Z
UID:10007938-1705426200-1705437000@www.kofcutica.org
SUMMARY:Meeting Polish Night
DESCRIPTION:
URL:https://www.kofcutica.org/event/meeting-polish-night/
LOCATION:Building
END:VEVENT
BEGIN:VEVENT
DTSTART;VALUE=DATE:20240113
DTEND;VALUE=DATE:20240114
DTSTAMP:20260424T144229
CREATED:20231127T174108Z
LAST-MODIFIED:20231127T174108Z
UID:10007638-1705104000-1705190399@www.kofcutica.org
SUMMARY:Building Reserved for Event
DESCRIPTION:
URL:https://www.kofcutica.org/event/building-reserved-for-event-4/
LOCATION:Building
END:VEVENT
BEGIN:VEVENT
DTSTART;TZID=America/New_York:20240106T100000
DTEND;TZID=America/New_York:20240106T153000
DTSTAMP:20260424T144229
CREATED:20231108T184509Z
LAST-MODIFIED:20240103T150354Z
UID:10007604-1704535200-1704555000@www.kofcutica.org
SUMMARY:Building Closed reserved for event
DESCRIPTION:
URL:https://www.kofcutica.org/event/building-reserved-for-event-3/
LOCATION:Building
END:VEVENT
BEGIN:VEVENT
DTSTART;VALUE=DATE:20231217
DTEND;VALUE=DATE:20231218
DTSTAMP:20260424T144229
CREATED:20231020T164339Z
LAST-MODIFIED:20231212T113438Z
UID:10007538-1702771200-1702857599@www.kofcutica.org
SUMMARY:CHRISTMAS PARTY noon
DESCRIPTION:
URL:https://www.kofcutica.org/event/building-closed-christmas-party/
LOCATION:Building
END:VEVENT
BEGIN:VEVENT
DTSTART;TZID=America/New_York:20231209T160000
DTEND;TZID=America/New_York:20231209T190000
DTSTAMP:20260424T144229
CREATED:20231202T175426Z
LAST-MODIFIED:20231202T175426Z
UID:10007645-1702137600-1702148400@www.kofcutica.org
SUMMARY:Building Reserved 4pm to 7pm
DESCRIPTION:
URL:https://www.kofcutica.org/event/building-reserved-4pm-to-7pm/
LOCATION:Building
END:VEVENT
BEGIN:VEVENT
DTSTART;TZID=America/New_York:20231208T110000
DTEND;TZID=America/New_York:20231208T220000
DTSTAMP:20260424T144229
CREATED:20231101T230949Z
LAST-MODIFIED:20231101T230949Z
UID:10007598-1702033200-1702072800@www.kofcutica.org
SUMMARY:Reserved UCP WINTER BALL 11 am to 10 pm
DESCRIPTION:
URL:https://www.kofcutica.org/event/reserved-ucp-winter-ball-11-am-to-10-pm/
LOCATION:Building
END:VEVENT
BEGIN:VEVENT
DTSTART;TZID=America/New_York:20231121T170000
DTEND;TZID=America/New_York:20231121T210000
DTSTAMP:20260424T144229
CREATED:20230926T145740Z
LAST-MODIFIED:20230926T145740Z
UID:10007521-1700586000-1700600400@www.kofcutica.org
SUMMARY:Turkey Scramble Meeting
DESCRIPTION:
URL:https://www.kofcutica.org/event/turkey-scramble-meeting/
LOCATION:Building
END:VEVENT
BEGIN:VEVENT
DTSTART;VALUE=DATE:20231105
DTEND;VALUE=DATE:20231106
DTSTAMP:20260424T144229
CREATED:20230925T155545Z
LAST-MODIFIED:20230925T165843Z
UID:10007515-1699171200-1699203600@www.kofcutica.org
SUMMARY:Ham Dinner Takeout
DESCRIPTION:
URL:https://www.kofcutica.org/event/hope-house-dinner-3/2023-11-05/2/
LOCATION:Building
END:VEVENT
BEGIN:VEVENT
DTSTART;VALUE=DATE:20231105
DTEND;VALUE=DATE:20231106
DTSTAMP:20260424T144229
CREATED:20230925T155545Z
LAST-MODIFIED:20230925T165843Z
UID:10007512-1699142400-1699228799@www.kofcutica.org
SUMMARY:Ham Dinner Takeout
DESCRIPTION:
URL:https://www.kofcutica.org/event/hope-house-dinner-3/2023-11-05/1/
LOCATION:Building
END:VEVENT
END:VCALENDAR