BEGIN:VCALENDAR
VERSION:2.0
PRODID:-//The Knights of Columbus Council 189 - ECPv6.15.20//NONSGML v1.0//EN
CALSCALE:GREGORIAN
METHOD:PUBLISH
X-WR-CALNAME:The Knights of Columbus Council 189
X-ORIGINAL-URL:https://www.kofcutica.org
X-WR-CALDESC:Events for The Knights of Columbus Council 189
REFRESH-INTERVAL;VALUE=DURATION:PT1H
X-Robots-Tag:noindex
X-PUBLISHED-TTL:PT1H
BEGIN:VTIMEZONE
TZID:America/New_York
BEGIN:DAYLIGHT
TZOFFSETFROM:-0500
TZOFFSETTO:-0400
TZNAME:EDT
DTSTART:20230312T070000
END:DAYLIGHT
BEGIN:STANDARD
TZOFFSETFROM:-0400
TZOFFSETTO:-0500
TZNAME:EST
DTSTART:20231105T060000
END:STANDARD
BEGIN:DAYLIGHT
TZOFFSETFROM:-0500
TZOFFSETTO:-0400
TZNAME:EDT
DTSTART:20240310T070000
END:DAYLIGHT
BEGIN:STANDARD
TZOFFSETFROM:-0400
TZOFFSETTO:-0500
TZNAME:EST
DTSTART:20241103T060000
END:STANDARD
BEGIN:DAYLIGHT
TZOFFSETFROM:-0500
TZOFFSETTO:-0400
TZNAME:EDT
DTSTART:20250309T070000
END:DAYLIGHT
BEGIN:STANDARD
TZOFFSETFROM:-0400
TZOFFSETTO:-0500
TZNAME:EST
DTSTART:20251102T060000
END:STANDARD
BEGIN:DAYLIGHT
TZOFFSETFROM:-0500
TZOFFSETTO:-0400
TZNAME:EDT
DTSTART:20260308T070000
END:DAYLIGHT
BEGIN:STANDARD
TZOFFSETFROM:-0400
TZOFFSETTO:-0500
TZNAME:EST
DTSTART:20261101T060000
END:STANDARD
END:VTIMEZONE
BEGIN:VEVENT
DTSTART;TZID=America/New_York:20250622T120000
DTEND;TZID=America/New_York:20250622T170000
DTSTAMP:20260424T111744
CREATED:20250220T182128Z
LAST-MODIFIED:20250220T182128Z
UID:10010079-1750593600-1750611600@www.kofcutica.org
SUMMARY:Building Reserved noon to 5 pm
DESCRIPTION:
URL:https://www.kofcutica.org/event/building-reserved-noon-to-5-pm/
LOCATION:Building
END:VEVENT
BEGIN:VEVENT
DTSTART;TZID=America/New_York:20250518T120000
DTEND;TZID=America/New_York:20250518T170000
DTSTAMP:20260424T111744
CREATED:20250414T183431Z
LAST-MODIFIED:20250414T183648Z
UID:10010154-1747569600-1747587600@www.kofcutica.org
SUMMARY:Building reserved noon to 5 pm
DESCRIPTION:
URL:https://www.kofcutica.org/event/building-reserved-noon-to-5-pm-2/
LOCATION:Building
END:VEVENT
BEGIN:VEVENT
DTSTART;TZID=America/New_York:20250504T120000
DTEND;TZID=America/New_York:20250504T150000
DTSTAMP:20260424T111744
CREATED:20250309T175604Z
LAST-MODIFIED:20250309T232456Z
UID:10010105-1746360000-1746370800@www.kofcutica.org
SUMMARY:Building reserved noon to 3 pm
DESCRIPTION:
URL:https://www.kofcutica.org/event/building-reserved-noon-to-3-pm/
LOCATION:Building
END:VEVENT
BEGIN:VEVENT
DTSTART;VALUE=DATE:20250426
DTEND;VALUE=DATE:20250427
DTSTAMP:20260424T111744
CREATED:20250108T171143Z
LAST-MODIFIED:20250416T160954Z
UID:10009539-1745625600-1745711999@www.kofcutica.org
SUMMARY:Building Reserved Church Function
DESCRIPTION:
URL:https://www.kofcutica.org/event/building-reserved-church-function/
LOCATION:Building
END:VEVENT
BEGIN:VEVENT
DTSTART;TZID=America/New_York:20250412T130000
DTEND;TZID=America/New_York:20250412T180000
DTSTAMP:20260424T111744
CREATED:20241026T135237Z
LAST-MODIFIED:20241221T214245Z
UID:10008975-1744462800-1744480800@www.kofcutica.org
SUMMARY:Building Reserved 1pm to 6pm
DESCRIPTION:
URL:https://www.kofcutica.org/event/building-reserved-4pm-to-10pm/
LOCATION:Building
END:VEVENT
BEGIN:VEVENT
DTSTART;TZID=America/New_York:20250406T110000
DTEND;TZID=America/New_York:20250406T150000
DTSTAMP:20260424T111744
CREATED:20250121T161422Z
LAST-MODIFIED:20250121T162554Z
UID:10009995-1743937200-1743951600@www.kofcutica.org
SUMMARY:Building Reserved Baptism Event  11am to 3pm
DESCRIPTION:
URL:https://www.kofcutica.org/event/building-reserved-baptism-event-11am-to-3pm/
LOCATION:Building
ORGANIZER;CN="Haley Lallier":MAILTO:setup night before
END:VEVENT
BEGIN:VEVENT
DTSTART;TZID=America/New_York:20250405T120000
DTEND;TZID=America/New_York:20250405T150000
DTSTAMP:20260424T111744
CREATED:20250319T161605Z
LAST-MODIFIED:20250319T161605Z
UID:10010107-1743854400-1743865200@www.kofcutica.org
SUMMARY:League Championship Game  noon to 3 pm
DESCRIPTION:
URL:https://www.kofcutica.org/event/league-championship-game-noon-to-3-pm/
LOCATION:Building
END:VEVENT
BEGIN:VEVENT
DTSTART;TZID=America/New_York:20250315T120000
DTEND;TZID=America/New_York:20250315T160000
DTSTAMP:20260424T111744
CREATED:20250218T205859Z
LAST-MODIFIED:20250218T205859Z
UID:10010073-1742040000-1742054400@www.kofcutica.org
SUMMARY:Building Reserved noon to 4pm
DESCRIPTION:
URL:https://www.kofcutica.org/event/building-reserved-noon-to-4pm/
LOCATION:Building
END:VEVENT
BEGIN:VEVENT
DTSTART;TZID=America/New_York:20250201T110000
DTEND;TZID=America/New_York:20250201T210000
DTSTAMP:20260424T111744
CREATED:20241229T001809Z
LAST-MODIFIED:20250110T212017Z
UID:10009118-1738407600-1738443600@www.kofcutica.org
SUMMARY:Building reserved from 11 am to 9 pm
DESCRIPTION:
URL:https://www.kofcutica.org/event/building-reserved-from-1030-to-9-pm/
LOCATION:Building
END:VEVENT
BEGIN:VEVENT
DTSTART;TZID=America/New_York:20250125T160000
DTEND;TZID=America/New_York:20250125T200000
DTSTAMP:20260424T111744
CREATED:20250112T002651Z
LAST-MODIFIED:20250112T002651Z
UID:10009551-1737820800-1737835200@www.kofcutica.org
SUMMARY:Building Reserved 4:00 pm to 8:30
DESCRIPTION:
URL:https://www.kofcutica.org/event/building-reserved-400-pm-to-830/
LOCATION:Building
END:VEVENT
BEGIN:VEVENT
DTSTART;TZID=America/New_York:20250125T100000
DTEND;TZID=America/New_York:20250125T120000
DTSTAMP:20260424T111744
CREATED:20250124T141703Z
LAST-MODIFIED:20250124T141703Z
UID:10009124-1737799200-1737806400@www.kofcutica.org
SUMMARY:Gym Reserved 10:00am to noon
DESCRIPTION:
URL:https://www.kofcutica.org/event/gym-reserved-1030am-to-1130am-2/
LOCATION:Building
END:VEVENT
BEGIN:VEVENT
DTSTART;TZID=America/New_York:20250111T103000
DTEND;TZID=America/New_York:20250111T113000
DTSTAMP:20260424T111744
CREATED:20241230T124118Z
LAST-MODIFIED:20241230T124118Z
UID:10009122-1736591400-1736595000@www.kofcutica.org
SUMMARY:Gym Reserved 10:30am to 11:30am
DESCRIPTION:
URL:https://www.kofcutica.org/event/gym-reserved-1030am-to-1130am/2025-01-11/
LOCATION:Building
END:VEVENT
BEGIN:VEVENT
DTSTART;TZID=America/New_York:20250104T140000
DTEND;TZID=America/New_York:20250104T190000
DTSTAMP:20260424T111744
CREATED:20240922T092023Z
LAST-MODIFIED:20241229T203910Z
UID:10008913-1735999200-1736017200@www.kofcutica.org
SUMMARY:Building reserved for Event  2pm to 7pm
DESCRIPTION:
URL:https://www.kofcutica.org/event/building-reserved-for-event-7/
LOCATION:Building
END:VEVENT
BEGIN:VEVENT
DTSTART;TZID=America/New_York:20250104T103000
DTEND;TZID=America/New_York:20250104T113000
DTSTAMP:20260424T111744
CREATED:20241230T124118Z
LAST-MODIFIED:20241230T124118Z
UID:10009121-1735986600-1735990200@www.kofcutica.org
SUMMARY:Gym Reserved 10:30am to 11:30am
DESCRIPTION:
URL:https://www.kofcutica.org/event/gym-reserved-1030am-to-1130am/2025-01-04/
LOCATION:Building
END:VEVENT
BEGIN:VEVENT
DTSTART;TZID=America/New_York:20241229T130000
DTEND;TZID=America/New_York:20241229T160000
DTSTAMP:20260424T111744
CREATED:20241217T183847Z
LAST-MODIFIED:20241217T183847Z
UID:10009112-1735477200-1735488000@www.kofcutica.org
SUMMARY:Building Reserved 1pm to 4 pm
DESCRIPTION:
URL:https://www.kofcutica.org/event/building-reserved-1pm-to-4-pm/
LOCATION:Building
END:VEVENT
BEGIN:VEVENT
DTSTART;TZID=America/New_York:20241228T140000
DTEND;TZID=America/New_York:20241228T180000
DTSTAMP:20260424T111744
CREATED:20241217T184233Z
LAST-MODIFIED:20241217T184233Z
UID:10009113-1735394400-1735408800@www.kofcutica.org
SUMMARY:Building Reserved from 2pm to 6pm
DESCRIPTION:
URL:https://www.kofcutica.org/event/building-reserved-from-2pm-to-6pm/
LOCATION:Building
END:VEVENT
BEGIN:VEVENT
DTSTART;TZID=America/New_York:20241222T113000
DTEND;TZID=America/New_York:20241222T170000
DTSTAMP:20260424T111744
CREATED:20241219T212644Z
LAST-MODIFIED:20241219T212644Z
UID:10009114-1734867000-1734886800@www.kofcutica.org
SUMMARY:Building Reserved 11:30 am to 5PM
DESCRIPTION:
URL:https://www.kofcutica.org/event/building-reserved-1130-am-to-5pm/
LOCATION:Building
END:VEVENT
BEGIN:VEVENT
DTSTART;VALUE=DATE:20241222
DTEND;VALUE=DATE:20241223
DTSTAMP:20260424T111744
CREATED:20240821T230159Z
LAST-MODIFIED:20240821T230159Z
UID:10008815-1734825600-1734911999@www.kofcutica.org
SUMMARY:Building Reserved
DESCRIPTION:
URL:https://www.kofcutica.org/event/building-reserved-2/
LOCATION:Building
END:VEVENT
BEGIN:VEVENT
DTSTART;TZID=America/New_York:20241214T110000
DTEND;TZID=America/New_York:20241214T220000
DTSTAMP:20260424T111744
CREATED:20241031T170826Z
LAST-MODIFIED:20241101T134341Z
UID:10008981-1734174000-1734213600@www.kofcutica.org
SUMMARY:Building Reserved 11 am to 10 pm
DESCRIPTION:
URL:https://www.kofcutica.org/event/building-reserved-11-am-to-10-pm/
LOCATION:Building
END:VEVENT
BEGIN:VEVENT
DTSTART;VALUE=DATE:20241208
DTEND;VALUE=DATE:20241209
DTSTAMP:20260424T111744
CREATED:20240913T082744Z
LAST-MODIFIED:20240913T083105Z
UID:10008911-1733616000-1733702399@www.kofcutica.org
SUMMARY:Council Christmas Party
DESCRIPTION:
URL:https://www.kofcutica.org/event/council-christmas-party/
LOCATION:Building
END:VEVENT
BEGIN:VEVENT
DTSTART;TZID=America/New_York:20241130T120000
DTEND;TZID=America/New_York:20241130T200000
DTSTAMP:20260424T111744
CREATED:20241026T173940Z
LAST-MODIFIED:20241026T173940Z
UID:10008976-1732968000-1732996800@www.kofcutica.org
SUMMARY:Building Reserved Event noon  for the day
DESCRIPTION:
URL:https://www.kofcutica.org/event/building-reserved-event-noon-for-the-day/
LOCATION:Building
END:VEVENT
BEGIN:VEVENT
DTSTART;TZID=America/New_York:20241119T173000
DTEND;TZID=America/New_York:20241119T200000
DTSTAMP:20260424T111744
CREATED:20241025T201630Z
LAST-MODIFIED:20241025T201630Z
UID:10008957-1732037400-1732046400@www.kofcutica.org
SUMMARY:Meeting Night Turkey Scramble
DESCRIPTION:
URL:https://www.kofcutica.org/event/meeting-night-turkey-scramble/
LOCATION:Building
END:VEVENT
BEGIN:VEVENT
DTSTART;TZID=America/New_York:20241110T120000
DTEND;TZID=America/New_York:20241110T180000
DTSTAMP:20260424T111744
CREATED:20240822T145906Z
LAST-MODIFIED:20240822T145906Z
UID:10008816-1731240000-1731261600@www.kofcutica.org
SUMMARY:Building Reserved from noon till 6 pm
DESCRIPTION:
URL:https://www.kofcutica.org/event/building-reserved-from-noon-till-6-pm/
LOCATION:Building
END:VEVENT
BEGIN:VEVENT
DTSTART;TZID=America/New_York:20241015T173000
DTEND;TZID=America/New_York:20241015T203000
DTSTAMP:20260424T111744
CREATED:20240903T082707Z
LAST-MODIFIED:20240903T082707Z
UID:10008881-1729013400-1729024200@www.kofcutica.org
SUMMARY:Italian Night & Installation of Officers
DESCRIPTION:
URL:https://www.kofcutica.org/event/italian-night-installation-of-officers/
LOCATION:Building
END:VEVENT
BEGIN:VEVENT
DTSTART;VALUE=DATE:20241005
DTEND;VALUE=DATE:20241006
DTSTAMP:20260424T111744
CREATED:20240809T143829Z
LAST-MODIFIED:20240809T143829Z
UID:10008780-1728086400-1728172799@www.kofcutica.org
SUMMARY:Hope House Dinner
DESCRIPTION:
URL:https://www.kofcutica.org/event/hope-house-dinner-4/
LOCATION:Building
END:VEVENT
BEGIN:VEVENT
DTSTART;TZID=America/New_York:20240823T160000
DTEND;TZID=America/New_York:20240823T200000
DTSTAMP:20260424T111744
CREATED:20240625T185204Z
LAST-MODIFIED:20240625T185227Z
UID:10008383-1724428800-1724443200@www.kofcutica.org
SUMMARY:Building  Reserved 4pm to 8pm
DESCRIPTION:
URL:https://www.kofcutica.org/event/gym-cafeteria-reserved-4pm-to-8pm/
LOCATION:Building
END:VEVENT
BEGIN:VEVENT
DTSTART;VALUE=DATE:20240802
DTEND;VALUE=DATE:20240804
DTSTAMP:20260424T111744
CREATED:20240715T170705Z
LAST-MODIFIED:20240715T170705Z
UID:10008392-1722556800-1722729599@www.kofcutica.org
SUMMARY:Flea Market & Basket Sale
DESCRIPTION:
URL:https://www.kofcutica.org/event/flea-market-basket-sale/
LOCATION:Building
END:VEVENT
BEGIN:VEVENT
DTSTART;VALUE=DATE:20240720
DTEND;VALUE=DATE:20240721
DTSTAMP:20260424T111744
CREATED:20240420T144413Z
LAST-MODIFIED:20240420T144413Z
UID:10008226-1721433600-1721519999@www.kofcutica.org
SUMMARY:Building Closed for Event
DESCRIPTION:
URL:https://www.kofcutica.org/event/building-closed-for-event-2/
LOCATION:Building
END:VEVENT
BEGIN:VEVENT
DTSTART;VALUE=DATE:20240608
DTEND;VALUE=DATE:20240609
DTSTAMP:20260424T111744
CREATED:20231022T135811Z
LAST-MODIFIED:20231022T135811Z
UID:10007540-1717804800-1717891199@www.kofcutica.org
SUMMARY:Building reserved 11am to 4pm ??
DESCRIPTION:
URL:https://www.kofcutica.org/event/building-reserved-11am-to-4pm/
LOCATION:Building
END:VEVENT
BEGIN:VEVENT
DTSTART;TZID=America/New_York:20240505T120000
DTEND;TZID=America/New_York:20240505T200000
DTSTAMP:20260424T111744
CREATED:20240419T112752Z
LAST-MODIFIED:20240419T112752Z
UID:10008225-1714910400-1714939200@www.kofcutica.org
SUMMARY:Gym reserved noon to 8 pm
DESCRIPTION:
URL:https://www.kofcutica.org/event/gym-reserved-noon-to-8-pm/
LOCATION:Building
END:VEVENT
END:VCALENDAR