BEGIN:VCALENDAR
VERSION:2.0
PRODID:-//The Knights of Columbus Council 189 - ECPv6.15.20//NONSGML v1.0//EN
CALSCALE:GREGORIAN
METHOD:PUBLISH
X-WR-CALNAME:The Knights of Columbus Council 189
X-ORIGINAL-URL:https://www.kofcutica.org
X-WR-CALDESC:Events for The Knights of Columbus Council 189
REFRESH-INTERVAL;VALUE=DURATION:PT1H
X-Robots-Tag:noindex
X-PUBLISHED-TTL:PT1H
BEGIN:VTIMEZONE
TZID:America/New_York
BEGIN:DAYLIGHT
TZOFFSETFROM:-0500
TZOFFSETTO:-0400
TZNAME:EDT
DTSTART:20210314T070000
END:DAYLIGHT
BEGIN:STANDARD
TZOFFSETFROM:-0400
TZOFFSETTO:-0500
TZNAME:EST
DTSTART:20211107T060000
END:STANDARD
BEGIN:DAYLIGHT
TZOFFSETFROM:-0500
TZOFFSETTO:-0400
TZNAME:EDT
DTSTART:20220313T070000
END:DAYLIGHT
BEGIN:STANDARD
TZOFFSETFROM:-0400
TZOFFSETTO:-0500
TZNAME:EST
DTSTART:20221106T060000
END:STANDARD
BEGIN:DAYLIGHT
TZOFFSETFROM:-0500
TZOFFSETTO:-0400
TZNAME:EDT
DTSTART:20230312T070000
END:DAYLIGHT
BEGIN:STANDARD
TZOFFSETFROM:-0400
TZOFFSETTO:-0500
TZNAME:EST
DTSTART:20231105T060000
END:STANDARD
BEGIN:DAYLIGHT
TZOFFSETFROM:-0500
TZOFFSETTO:-0400
TZNAME:EDT
DTSTART:20240310T070000
END:DAYLIGHT
BEGIN:STANDARD
TZOFFSETFROM:-0400
TZOFFSETTO:-0500
TZNAME:EST
DTSTART:20241103T060000
END:STANDARD
BEGIN:DAYLIGHT
TZOFFSETFROM:-0500
TZOFFSETTO:-0400
TZNAME:EDT
DTSTART:20250309T070000
END:DAYLIGHT
BEGIN:STANDARD
TZOFFSETFROM:-0400
TZOFFSETTO:-0500
TZNAME:EST
DTSTART:20251102T060000
END:STANDARD
BEGIN:DAYLIGHT
TZOFFSETFROM:-0500
TZOFFSETTO:-0400
TZNAME:EDT
DTSTART:20260308T070000
END:DAYLIGHT
BEGIN:STANDARD
TZOFFSETFROM:-0400
TZOFFSETTO:-0500
TZNAME:EST
DTSTART:20261101T060000
END:STANDARD
END:VTIMEZONE
BEGIN:VEVENT
DTSTART;TZID=America/New_York:20251230T130000
DTEND;TZID=America/New_York:20251230T140000
DTSTAMP:20260424T091350
CREATED:20251223T235949Z
LAST-MODIFIED:20251223T235949Z
UID:10011094-1767099600-1767103200@www.kofcutica.org
SUMMARY:Gym reserved 1 pm to 2 pm
DESCRIPTION:
URL:https://www.kofcutica.org/event/gym-reserved-1-pm-to-2-pm-2/
LOCATION:Gym
END:VEVENT
BEGIN:VEVENT
DTSTART;TZID=America/New_York:20251223T130000
DTEND;TZID=America/New_York:20251223T140000
DTSTAMP:20260424T091350
CREATED:20251211T183245Z
LAST-MODIFIED:20251211T183245Z
UID:10011067-1766494800-1766498400@www.kofcutica.org
SUMMARY:Gym Reserved 1pm to 2pm
DESCRIPTION:
URL:https://www.kofcutica.org/event/gym-reserved-1pm-to-2pm/
LOCATION:Gym
END:VEVENT
BEGIN:VEVENT
DTSTART;TZID=America/New_York:20251222T130000
DTEND;TZID=America/New_York:20251222T140000
DTSTAMP:20260424T091350
CREATED:20251222T103408Z
LAST-MODIFIED:20251222T103408Z
UID:10011091-1766408400-1766412000@www.kofcutica.org
SUMMARY:Gym reserved 1 pm to 2 pm
DESCRIPTION:
URL:https://www.kofcutica.org/event/gym-reserved-1-pm-to-2-pm/
LOCATION:Gym
END:VEVENT
BEGIN:VEVENT
DTSTART;TZID=America/New_York:20251126T133000
DTEND;TZID=America/New_York:20251126T150000
DTSTAMP:20260424T091350
CREATED:20251125T174829Z
LAST-MODIFIED:20251125T174829Z
UID:10010991-1764163800-1764169200@www.kofcutica.org
SUMMARY:Gym Reserved 1:30pm to 3pm
DESCRIPTION:
URL:https://www.kofcutica.org/event/gym-reserved-130pm-to-3pm/
LOCATION:Gym
END:VEVENT
BEGIN:VEVENT
DTSTART;TZID=America/New_York:20250409T170000
DTEND;TZID=America/New_York:20250409T190000
DTSTAMP:20260424T091350
CREATED:20250307T153013Z
LAST-MODIFIED:20250307T153146Z
UID:10010102-1744218000-1744225200@www.kofcutica.org
SUMMARY:Gym reserved 5 pm 7pm
DESCRIPTION:
URL:https://www.kofcutica.org/event/gym-reserved-5-pm-7pm/2025-04-09/
LOCATION:Gym
END:VEVENT
BEGIN:VEVENT
DTSTART;TZID=America/New_York:20250402T170000
DTEND;TZID=America/New_York:20250402T190000
DTSTAMP:20260424T091350
CREATED:20250307T153013Z
LAST-MODIFIED:20250307T153146Z
UID:10010101-1743613200-1743620400@www.kofcutica.org
SUMMARY:Gym reserved 5 pm 7pm
DESCRIPTION:
URL:https://www.kofcutica.org/event/gym-reserved-5-pm-7pm/2025-04-02/
LOCATION:Gym
END:VEVENT
BEGIN:VEVENT
DTSTART;TZID=America/New_York:20250103T090000
DTEND;TZID=America/New_York:20250103T110000
DTSTAMP:20260424T091350
CREATED:20250101T221928Z
LAST-MODIFIED:20250101T221928Z
UID:10009125-1735894800-1735902000@www.kofcutica.org
SUMMARY:Gym reserved from 9 am to 10 am
DESCRIPTION:
URL:https://www.kofcutica.org/event/gym-reserved-from-9-am-to-10-am/
LOCATION:Gym
END:VEVENT
BEGIN:VEVENT
DTSTART;TZID=America/New_York:20241129T110000
DTEND;TZID=America/New_York:20241129T120000
DTSTAMP:20260424T091350
CREATED:20241126T150451Z
LAST-MODIFIED:20241126T150451Z
UID:10009094-1732878000-1732881600@www.kofcutica.org
SUMMARY:Gym Reserved from 11 am to noon
DESCRIPTION:
URL:https://www.kofcutica.org/event/gym-reserved-from-11-am-to-noon-2/
LOCATION:Gym
END:VEVENT
BEGIN:VEVENT
DTSTART;TZID=America/New_York:20241127T143000
DTEND;TZID=America/New_York:20241127T143000
DTSTAMP:20260424T091350
CREATED:20241126T150320Z
LAST-MODIFIED:20241126T150320Z
UID:10009093-1732717800-1732717800@www.kofcutica.org
SUMMARY:Gym Reserved from 2:30 pm to 3:30 pm
DESCRIPTION:
URL:https://www.kofcutica.org/event/gym-reserved-from-230-pm-to-330-pm/
LOCATION:Gym
END:VEVENT
BEGIN:VEVENT
DTSTART;TZID=America/New_York:20230224T133000
DTEND;TZID=America/New_York:20230224T153000
DTSTAMP:20260424T091350
CREATED:20230216T165929Z
LAST-MODIFIED:20230221T220029Z
UID:10006352-1677245400-1677252600@www.kofcutica.org
SUMMARY:Gym reserved from 1:30pm to 3:30pm
DESCRIPTION:
URL:https://www.kofcutica.org/event/gym-reserved-from-3pm-to-5pm-2/
LOCATION:Gym & Cafeteria
END:VEVENT
BEGIN:VEVENT
DTSTART;TZID=America/New_York:20230219T150000
DTEND;TZID=America/New_York:20230219T170000
DTSTAMP:20260424T091350
CREATED:20230216T165604Z
LAST-MODIFIED:20230216T165604Z
UID:10006351-1676818800-1676826000@www.kofcutica.org
SUMMARY:Gym Reserved from 3pm to 5pm
DESCRIPTION:
URL:https://www.kofcutica.org/event/gym-reserved-from-3pm-to-5pm/
LOCATION:Gym & Cafeteria
END:VEVENT
BEGIN:VEVENT
DTSTART;TZID=America/New_York:20230211T120000
DTEND;TZID=America/New_York:20230211T140000
DTSTAMP:20260424T091350
CREATED:20230201T174215Z
LAST-MODIFIED:20230201T174215Z
UID:10006225-1676116800-1676124000@www.kofcutica.org
SUMMARY:GYM Reserved noon to 2 pm
DESCRIPTION:
URL:https://www.kofcutica.org/event/gym-reserved-noon-to-2-pm/
LOCATION:Gym & Cafeteria
END:VEVENT
BEGIN:VEVENT
DTSTART;TZID=America/New_York:20221119T150000
DTEND;TZID=America/New_York:20221119T170000
DTSTAMP:20260424T091350
CREATED:20221103T210856Z
LAST-MODIFIED:20221103T210856Z
UID:10006134-1668870000-1668877200@www.kofcutica.org
SUMMARY:Building Reserved 3pm to 5 pm
DESCRIPTION:
URL:https://www.kofcutica.org/event/building-reserved-3pm-to-5-pm/
LOCATION:Gym & Cafeteria
END:VEVENT
BEGIN:VEVENT
DTSTART;TZID=America/New_York:20220319T080000
DTEND;TZID=America/New_York:20220319T100000
DTSTAMP:20260424T091350
CREATED:20220308T184209Z
LAST-MODIFIED:20220308T184209Z
UID:10005973-1647676800-1647684000@www.kofcutica.org
SUMMARY:Gym Reserved 8 am to 10 am
DESCRIPTION:
URL:https://www.kofcutica.org/event/gym-reserved-8-am-to-10-am-2/
LOCATION:Gym & Cafeteria
END:VEVENT
BEGIN:VEVENT
DTSTART;TZID=America/New_York:20220227T080000
DTEND;TZID=America/New_York:20220227T120000
DTSTAMP:20260424T091350
CREATED:20220211T221553Z
LAST-MODIFIED:20220211T221553Z
UID:10005937-1645948800-1645963200@www.kofcutica.org
SUMMARY:Gym reserved from 8 am to noon
DESCRIPTION:
URL:https://www.kofcutica.org/event/gym-reserved-from-8-am-to-noon/
LOCATION:Gym & Cafeteria
END:VEVENT
END:VCALENDAR