BEGIN:VCALENDAR
VERSION:2.0
PRODID:-//The Knights of Columbus Council 189 - ECPv6.15.20//NONSGML v1.0//EN
CALSCALE:GREGORIAN
METHOD:PUBLISH
X-ORIGINAL-URL:https://www.kofcutica.org
X-WR-CALDESC:Events for The Knights of Columbus Council 189
REFRESH-INTERVAL;VALUE=DURATION:PT1H
X-Robots-Tag:noindex
X-PUBLISHED-TTL:PT1H
BEGIN:VTIMEZONE
TZID:America/New_York
BEGIN:DAYLIGHT
TZOFFSETFROM:-0500
TZOFFSETTO:-0400
TZNAME:EDT
DTSTART:20220313T070000
END:DAYLIGHT
BEGIN:STANDARD
TZOFFSETFROM:-0400
TZOFFSETTO:-0500
TZNAME:EST
DTSTART:20221106T060000
END:STANDARD
BEGIN:DAYLIGHT
TZOFFSETFROM:-0500
TZOFFSETTO:-0400
TZNAME:EDT
DTSTART:20230312T070000
END:DAYLIGHT
BEGIN:STANDARD
TZOFFSETFROM:-0400
TZOFFSETTO:-0500
TZNAME:EST
DTSTART:20231105T060000
END:STANDARD
BEGIN:DAYLIGHT
TZOFFSETFROM:-0500
TZOFFSETTO:-0400
TZNAME:EDT
DTSTART:20240310T070000
END:DAYLIGHT
BEGIN:STANDARD
TZOFFSETFROM:-0400
TZOFFSETTO:-0500
TZNAME:EST
DTSTART:20241103T060000
END:STANDARD
BEGIN:DAYLIGHT
TZOFFSETFROM:-0500
TZOFFSETTO:-0400
TZNAME:EDT
DTSTART:20250309T070000
END:DAYLIGHT
BEGIN:STANDARD
TZOFFSETFROM:-0400
TZOFFSETTO:-0500
TZNAME:EST
DTSTART:20251102T060000
END:STANDARD
BEGIN:DAYLIGHT
TZOFFSETFROM:-0500
TZOFFSETTO:-0400
TZNAME:EDT
DTSTART:20260308T070000
END:DAYLIGHT
BEGIN:STANDARD
TZOFFSETFROM:-0400
TZOFFSETTO:-0500
TZNAME:EST
DTSTART:20261101T060000
END:STANDARD
END:VTIMEZONE
BEGIN:VEVENT
DTSTART;TZID=America/New_York:20250201T110000
DTEND;TZID=America/New_York:20250201T210000
DTSTAMP:20260424T111905
CREATED:20241229T001809Z
LAST-MODIFIED:20250110T212017Z
UID:10009118-1738407600-1738443600@www.kofcutica.org
SUMMARY:Building reserved from 11 am to 9 pm
DESCRIPTION:
URL:https://www.kofcutica.org/event/building-reserved-from-1030-to-9-pm/
LOCATION:Building
END:VEVENT
BEGIN:VEVENT
DTSTART;TZID=America/New_York:20241214T110000
DTEND;TZID=America/New_York:20241214T220000
DTSTAMP:20260424T111905
CREATED:20241031T170826Z
LAST-MODIFIED:20241101T134341Z
UID:10008981-1734174000-1734213600@www.kofcutica.org
SUMMARY:Building Reserved 11 am to 10 pm
DESCRIPTION:
URL:https://www.kofcutica.org/event/building-reserved-11-am-to-10-pm/
LOCATION:Building
END:VEVENT
BEGIN:VEVENT
DTSTART;VALUE=DATE:20240720
DTEND;VALUE=DATE:20240721
DTSTAMP:20260424T111905
CREATED:20240420T144413Z
LAST-MODIFIED:20240420T144413Z
UID:10008226-1721433600-1721519999@www.kofcutica.org
SUMMARY:Building Closed for Event
DESCRIPTION:
URL:https://www.kofcutica.org/event/building-closed-for-event-2/
LOCATION:Building
END:VEVENT
BEGIN:VEVENT
DTSTART;TZID=America/New_York:20240719T120000
DTEND;TZID=America/New_York:20240719T223000
DTSTAMP:20260424T111905
CREATED:20240420T144623Z
LAST-MODIFIED:20240716T162403Z
UID:10008227-1721390400-1721428200@www.kofcutica.org
SUMMARY:Gym & Cafeteria Reserved 12pm to 10:30pm
DESCRIPTION:
URL:https://www.kofcutica.org/event/gym-cafeteria-5pm-to-1030/
LOCATION:Gym & Cafeteria
END:VEVENT
BEGIN:VEVENT
DTSTART;TZID=America/New_York:20240702T080000
DTEND;TZID=America/New_York:20240702T170000
DTSTAMP:20260424T111905
CREATED:20240630T221740Z
LAST-MODIFIED:20240630T221740Z
UID:10008384-1719907200-1719939600@www.kofcutica.org
SUMMARY:Gym & Cafeteria reserved from 5 pm to 7 pm
DESCRIPTION:
URL:https://www.kofcutica.org/event/gym-cafeteria-reserved-from-5-pm-to-7-pm/
LOCATION:Gym & Cafeteria
END:VEVENT
BEGIN:VEVENT
DTSTART;VALUE=DATE:20240113
DTEND;VALUE=DATE:20240114
DTSTAMP:20260424T111905
CREATED:20231127T174108Z
LAST-MODIFIED:20231127T174108Z
UID:10007638-1705104000-1705190399@www.kofcutica.org
SUMMARY:Building Reserved for Event
DESCRIPTION:
URL:https://www.kofcutica.org/event/building-reserved-for-event-4/
LOCATION:Building
END:VEVENT
BEGIN:VEVENT
DTSTART;TZID=America/New_York:20231008T080000
DTEND;TZID=America/New_York:20231008T170000
DTSTAMP:20260424T111905
CREATED:20230901T174200Z
LAST-MODIFIED:20230901T174200Z
UID:10007486-1696752000-1696784400@www.kofcutica.org
SUMMARY:Building reserved from 11 am to 5 pm
DESCRIPTION:
URL:https://www.kofcutica.org/event/building-reserved-from-11-am-to-5-pm/
LOCATION:Building
END:VEVENT
END:VCALENDAR