BEGIN:VCALENDAR
VERSION:2.0
PRODID:-//The Knights of Columbus Council 189 - ECPv6.15.20//NONSGML v1.0//EN
CALSCALE:GREGORIAN
METHOD:PUBLISH
X-WR-CALNAME:The Knights of Columbus Council 189
X-ORIGINAL-URL:https://www.kofcutica.org
X-WR-CALDESC:Events for The Knights of Columbus Council 189
REFRESH-INTERVAL;VALUE=DURATION:PT1H
X-Robots-Tag:noindex
X-PUBLISHED-TTL:PT1H
BEGIN:VTIMEZONE
TZID:America/New_York
BEGIN:DAYLIGHT
TZOFFSETFROM:-0500
TZOFFSETTO:-0400
TZNAME:EDT
DTSTART:20230312T070000
END:DAYLIGHT
BEGIN:STANDARD
TZOFFSETFROM:-0400
TZOFFSETTO:-0500
TZNAME:EST
DTSTART:20231105T060000
END:STANDARD
BEGIN:DAYLIGHT
TZOFFSETFROM:-0500
TZOFFSETTO:-0400
TZNAME:EDT
DTSTART:20240310T070000
END:DAYLIGHT
BEGIN:STANDARD
TZOFFSETFROM:-0400
TZOFFSETTO:-0500
TZNAME:EST
DTSTART:20241103T060000
END:STANDARD
BEGIN:DAYLIGHT
TZOFFSETFROM:-0500
TZOFFSETTO:-0400
TZNAME:EDT
DTSTART:20250309T070000
END:DAYLIGHT
BEGIN:STANDARD
TZOFFSETFROM:-0400
TZOFFSETTO:-0500
TZNAME:EST
DTSTART:20251102T060000
END:STANDARD
END:VTIMEZONE
BEGIN:VEVENT
DTSTART;VALUE=DATE:20240624
DTEND;VALUE=DATE:20240625
DTSTAMP:20260424T142117
CREATED:20240514T124153Z
LAST-MODIFIED:20240514T124153Z
UID:10008256-1719187200-1719273599@www.kofcutica.org
SUMMARY:Cooking for Festival Kitchen
DESCRIPTION:
URL:https://www.kofcutica.org/event/cooking-for-festival-kitchen-7/
LOCATION:Kitchen
END:VEVENT
BEGIN:VEVENT
DTSTART;VALUE=DATE:20240613
DTEND;VALUE=DATE:20240614
DTSTAMP:20260424T142117
CREATED:20240514T123021Z
LAST-MODIFIED:20240514T124112Z
UID:10008253-1718236800-1718323199@www.kofcutica.org
SUMMARY:Cooking for Festival Kitchen
DESCRIPTION:
URL:https://www.kofcutica.org/event/cooking-for-festival-kitchen-4/
LOCATION:Kitchen
END:VEVENT
BEGIN:VEVENT
DTSTART;VALUE=DATE:20240612
DTEND;VALUE=DATE:20240613
DTSTAMP:20260424T142117
CREATED:20240514T125725Z
LAST-MODIFIED:20240514T125725Z
UID:10008263-1718150400-1718236799@www.kofcutica.org
SUMMARY:Cooking for Festival Kitchen & Cafeteria
DESCRIPTION:
URL:https://www.kofcutica.org/event/cooking-for-festival-kitchen-cafeteria-4/
LOCATION:Kitchen & Cafteria
END:VEVENT
BEGIN:VEVENT
DTSTART;VALUE=DATE:20240611
DTEND;VALUE=DATE:20240612
DTSTAMP:20260424T142117
CREATED:20240514T125653Z
LAST-MODIFIED:20240514T125653Z
UID:10008262-1718064000-1718150399@www.kofcutica.org
SUMMARY:Cooking for Festival Kitchen & Cafeteria
DESCRIPTION:
URL:https://www.kofcutica.org/event/cooking-for-festival-kitchen-cafeteria-3/
LOCATION:Kitchen & Cafteria
END:VEVENT
BEGIN:VEVENT
DTSTART;VALUE=DATE:20240610
DTEND;VALUE=DATE:20240611
DTSTAMP:20260424T142117
CREATED:20240514T123908Z
LAST-MODIFIED:20240514T123908Z
UID:10008255-1717977600-1718063999@www.kofcutica.org
SUMMARY:Cooking for Festival Kitchen
DESCRIPTION:
URL:https://www.kofcutica.org/event/cooking-for-festival-kitchen-6/
LOCATION:Kitchen
END:VEVENT
BEGIN:VEVENT
DTSTART;VALUE=DATE:20240606
DTEND;VALUE=DATE:20240607
DTSTAMP:20260424T142117
CREATED:20240514T123745Z
LAST-MODIFIED:20240514T123745Z
UID:10008254-1717632000-1717718399@www.kofcutica.org
SUMMARY:Cooking for Festival Kitchen
DESCRIPTION:
URL:https://www.kofcutica.org/event/cooking-for-festival-kitchen-5/
LOCATION:Kitchen
END:VEVENT
BEGIN:VEVENT
DTSTART;VALUE=DATE:20240605
DTEND;VALUE=DATE:20240606
DTSTAMP:20260424T142117
CREATED:20240514T125602Z
LAST-MODIFIED:20240514T125602Z
UID:10008261-1717545600-1717631999@www.kofcutica.org
SUMMARY:Cooking for Festival Kitchen & Cafeteria
DESCRIPTION:
URL:https://www.kofcutica.org/event/cooking-for-festival-kitchen-cafeteria-2/
LOCATION:Kitchen & Cafteria
END:VEVENT
BEGIN:VEVENT
DTSTART;VALUE=DATE:20240604
DTEND;VALUE=DATE:20240605
DTSTAMP:20260424T142117
CREATED:20240514T125514Z
LAST-MODIFIED:20240514T125514Z
UID:10008260-1717459200-1717545599@www.kofcutica.org
SUMMARY:Cooking for Festival Kitchen & Cafeteria
DESCRIPTION:
URL:https://www.kofcutica.org/event/cooking-for-festival-kitchen-cafeteria/
LOCATION:Kitchen & Cafteria
END:VEVENT
BEGIN:VEVENT
DTSTART;VALUE=DATE:20240603
DTEND;VALUE=DATE:20240604
DTSTAMP:20260424T142117
CREATED:20240514T122213Z
LAST-MODIFIED:20240514T122522Z
UID:10008252-1717372800-1717459199@www.kofcutica.org
SUMMARY:Cooking for Festival Kitchen
DESCRIPTION:
URL:https://www.kofcutica.org/event/cooking-for-festival-kitchen/
LOCATION:Kitchen
END:VEVENT
END:VCALENDAR