BEGIN:VCALENDAR
VERSION:2.0
PRODID:-//The Knights of Columbus Council 189 - ECPv6.15.20//NONSGML v1.0//EN
CALSCALE:GREGORIAN
METHOD:PUBLISH
X-ORIGINAL-URL:https://www.kofcutica.org
X-WR-CALDESC:Events for The Knights of Columbus Council 189
REFRESH-INTERVAL;VALUE=DURATION:PT1H
X-Robots-Tag:noindex
X-PUBLISHED-TTL:PT1H
BEGIN:VTIMEZONE
TZID:America/New_York
BEGIN:DAYLIGHT
TZOFFSETFROM:-0500
TZOFFSETTO:-0400
TZNAME:EDT
DTSTART:20230312T070000
END:DAYLIGHT
BEGIN:STANDARD
TZOFFSETFROM:-0400
TZOFFSETTO:-0500
TZNAME:EST
DTSTART:20231105T060000
END:STANDARD
BEGIN:DAYLIGHT
TZOFFSETFROM:-0500
TZOFFSETTO:-0400
TZNAME:EDT
DTSTART:20240310T070000
END:DAYLIGHT
BEGIN:STANDARD
TZOFFSETFROM:-0400
TZOFFSETTO:-0500
TZNAME:EST
DTSTART:20241103T060000
END:STANDARD
BEGIN:DAYLIGHT
TZOFFSETFROM:-0500
TZOFFSETTO:-0400
TZNAME:EDT
DTSTART:20250309T070000
END:DAYLIGHT
BEGIN:STANDARD
TZOFFSETFROM:-0400
TZOFFSETTO:-0500
TZNAME:EST
DTSTART:20251102T060000
END:STANDARD
BEGIN:DAYLIGHT
TZOFFSETFROM:-0500
TZOFFSETTO:-0400
TZNAME:EDT
DTSTART:20260308T070000
END:DAYLIGHT
BEGIN:STANDARD
TZOFFSETFROM:-0400
TZOFFSETTO:-0500
TZNAME:EST
DTSTART:20261101T060000
END:STANDARD
BEGIN:DAYLIGHT
TZOFFSETFROM:-0500
TZOFFSETTO:-0400
TZNAME:EDT
DTSTART:20270314T070000
END:DAYLIGHT
BEGIN:STANDARD
TZOFFSETFROM:-0400
TZOFFSETTO:-0500
TZNAME:EST
DTSTART:20271107T060000
END:STANDARD
END:VTIMEZONE
BEGIN:VEVENT
DTSTART;TZID=America/New_York:20260419T080000
DTEND;TZID=America/New_York:20260419T093000
DTSTAMP:20260424T111838
CREATED:20260208T122303Z
LAST-MODIFIED:20260208T122303Z
UID:10012345-1776585600-1776591000@www.kofcutica.org
SUMMARY:Sunday Orginal Group
DESCRIPTION:
URL:https://www.kofcutica.org/event/sunday-orginal-group/2026-04-19/
LOCATION:Gym
END:VEVENT
BEGIN:VEVENT
DTSTART;TZID=America/New_York:20260412T080000
DTEND;TZID=America/New_York:20260412T093000
DTSTAMP:20260424T111838
CREATED:20260208T122303Z
LAST-MODIFIED:20260208T122303Z
UID:10012344-1775980800-1775986200@www.kofcutica.org
SUMMARY:Sunday Orginal Group
DESCRIPTION:
URL:https://www.kofcutica.org/event/sunday-orginal-group/2026-04-12/
LOCATION:Gym
END:VEVENT
BEGIN:VEVENT
DTSTART;TZID=America/New_York:20260405T080000
DTEND;TZID=America/New_York:20260405T093000
DTSTAMP:20260424T111838
CREATED:20260208T122303Z
LAST-MODIFIED:20260208T122303Z
UID:10012343-1775376000-1775381400@www.kofcutica.org
SUMMARY:Sunday Orginal Group
DESCRIPTION:
URL:https://www.kofcutica.org/event/sunday-orginal-group/2026-04-05/
LOCATION:Gym
END:VEVENT
BEGIN:VEVENT
DTSTART;TZID=America/New_York:20260329T080000
DTEND;TZID=America/New_York:20260329T093000
DTSTAMP:20260424T111838
CREATED:20260208T122303Z
LAST-MODIFIED:20260208T122303Z
UID:10012342-1774771200-1774776600@www.kofcutica.org
SUMMARY:Sunday Orginal Group
DESCRIPTION:
URL:https://www.kofcutica.org/event/sunday-orginal-group/2026-03-29/
LOCATION:Gym
END:VEVENT
BEGIN:VEVENT
DTSTART;TZID=America/New_York:20260322T080000
DTEND;TZID=America/New_York:20260322T093000
DTSTAMP:20260424T111838
CREATED:20260208T122303Z
LAST-MODIFIED:20260208T122303Z
UID:10012341-1774166400-1774171800@www.kofcutica.org
SUMMARY:Sunday Orginal Group
DESCRIPTION:
URL:https://www.kofcutica.org/event/sunday-orginal-group/2026-03-22/
LOCATION:Gym
END:VEVENT
BEGIN:VEVENT
DTSTART;TZID=America/New_York:20260315T080000
DTEND;TZID=America/New_York:20260315T093000
DTSTAMP:20260424T111838
CREATED:20260208T122303Z
LAST-MODIFIED:20260208T122303Z
UID:10012340-1773561600-1773567000@www.kofcutica.org
SUMMARY:Sunday Orginal Group
DESCRIPTION:
URL:https://www.kofcutica.org/event/sunday-orginal-group/2026-03-15/
LOCATION:Gym
END:VEVENT
BEGIN:VEVENT
DTSTART;TZID=America/New_York:20260308T080000
DTEND;TZID=America/New_York:20260308T093000
DTSTAMP:20260424T111838
CREATED:20260208T122303Z
LAST-MODIFIED:20260208T122303Z
UID:10012339-1772956800-1772962200@www.kofcutica.org
SUMMARY:Sunday Orginal Group
DESCRIPTION:
URL:https://www.kofcutica.org/event/sunday-orginal-group/2026-03-08/
LOCATION:Gym
END:VEVENT
BEGIN:VEVENT
DTSTART;TZID=America/New_York:20260301T080000
DTEND;TZID=America/New_York:20260301T093000
DTSTAMP:20260424T111838
CREATED:20260208T122303Z
LAST-MODIFIED:20260208T122303Z
UID:10012338-1772352000-1772357400@www.kofcutica.org
SUMMARY:Sunday Orginal Group
DESCRIPTION:
URL:https://www.kofcutica.org/event/sunday-orginal-group/2026-03-01/
LOCATION:Gym
END:VEVENT
BEGIN:VEVENT
DTSTART;TZID=America/New_York:20260222T080000
DTEND;TZID=America/New_York:20260222T093000
DTSTAMP:20260424T111838
CREATED:20260208T122303Z
LAST-MODIFIED:20260208T122303Z
UID:10012337-1771747200-1771752600@www.kofcutica.org
SUMMARY:Sunday Orginal Group
DESCRIPTION:
URL:https://www.kofcutica.org/event/sunday-orginal-group/2026-02-22/
LOCATION:Gym
END:VEVENT
BEGIN:VEVENT
DTSTART;TZID=America/New_York:20260215T080000
DTEND;TZID=America/New_York:20260215T093000
DTSTAMP:20260424T111838
CREATED:20260208T122303Z
LAST-MODIFIED:20260208T122303Z
UID:10012336-1771142400-1771147800@www.kofcutica.org
SUMMARY:Sunday Orginal Group
DESCRIPTION:
URL:https://www.kofcutica.org/event/sunday-orginal-group/2026-02-15/
LOCATION:Gym
END:VEVENT
BEGIN:VEVENT
DTSTART;TZID=America/New_York:20260125T080000
DTEND;TZID=America/New_York:20260125T213000
DTSTAMP:20260424T111838
CREATED:20251012T131522Z
LAST-MODIFIED:20251012T131522Z
UID:10010825-1769328000-1769376600@www.kofcutica.org
SUMMARY:Sunday Original Group 8:00 am to 9:30 am
DESCRIPTION:
URL:https://www.kofcutica.org/event/sunday-original-group-800-am-to-930-am/2026-01-25/
LOCATION:Gym
END:VEVENT
BEGIN:VEVENT
DTSTART;TZID=America/New_York:20260118T080000
DTEND;TZID=America/New_York:20260118T213000
DTSTAMP:20260424T111838
CREATED:20251012T131522Z
LAST-MODIFIED:20251012T131522Z
UID:10010824-1768723200-1768771800@www.kofcutica.org
SUMMARY:Sunday Original Group 8:00 am to 9:30 am
DESCRIPTION:
URL:https://www.kofcutica.org/event/sunday-original-group-800-am-to-930-am/2026-01-18/
LOCATION:Gym
END:VEVENT
BEGIN:VEVENT
DTSTART;TZID=America/New_York:20260111T080000
DTEND;TZID=America/New_York:20260111T213000
DTSTAMP:20260424T111838
CREATED:20251012T131522Z
LAST-MODIFIED:20251012T131522Z
UID:10010823-1768118400-1768167000@www.kofcutica.org
SUMMARY:Sunday Original Group 8:00 am to 9:30 am
DESCRIPTION:
URL:https://www.kofcutica.org/event/sunday-original-group-800-am-to-930-am/2026-01-11/
LOCATION:Gym
END:VEVENT
BEGIN:VEVENT
DTSTART;TZID=America/New_York:20260104T080000
DTEND;TZID=America/New_York:20260104T213000
DTSTAMP:20260424T111838
CREATED:20251012T131522Z
LAST-MODIFIED:20251012T131522Z
UID:10010822-1767513600-1767562200@www.kofcutica.org
SUMMARY:Sunday Original Group 8:00 am to 9:30 am
DESCRIPTION:
URL:https://www.kofcutica.org/event/sunday-original-group-800-am-to-930-am/2026-01-04/
LOCATION:Gym
END:VEVENT
BEGIN:VEVENT
DTSTART;TZID=America/New_York:20251228T080000
DTEND;TZID=America/New_York:20251228T213000
DTSTAMP:20260424T111838
CREATED:20251012T131522Z
LAST-MODIFIED:20251012T131522Z
UID:10010821-1766908800-1766957400@www.kofcutica.org
SUMMARY:Sunday Original Group 8:00 am to 9:30 am
DESCRIPTION:
URL:https://www.kofcutica.org/event/sunday-original-group-800-am-to-930-am/2025-12-28/
LOCATION:Gym
END:VEVENT
BEGIN:VEVENT
DTSTART;TZID=America/New_York:20251221T080000
DTEND;TZID=America/New_York:20251221T213000
DTSTAMP:20260424T111838
CREATED:20251012T131522Z
LAST-MODIFIED:20251012T131522Z
UID:10010820-1766304000-1766352600@www.kofcutica.org
SUMMARY:Sunday Original Group 8:00 am to 9:30 am
DESCRIPTION:
URL:https://www.kofcutica.org/event/sunday-original-group-800-am-to-930-am/2025-12-21/
LOCATION:Gym
END:VEVENT
BEGIN:VEVENT
DTSTART;TZID=America/New_York:20251207T080000
DTEND;TZID=America/New_York:20251207T213000
DTSTAMP:20260424T111838
CREATED:20251012T131522Z
LAST-MODIFIED:20251012T131522Z
UID:10010818-1765094400-1765143000@www.kofcutica.org
SUMMARY:Sunday Original Group 8:00 am to 9:30 am
DESCRIPTION:
URL:https://www.kofcutica.org/event/sunday-original-group-800-am-to-930-am/2025-12-07/
LOCATION:Gym
END:VEVENT
BEGIN:VEVENT
DTSTART;TZID=America/New_York:20251127T080000
DTEND;TZID=America/New_York:20251127T103000
DTSTAMP:20260424T111838
CREATED:20251124T124604Z
LAST-MODIFIED:20251124T124604Z
UID:10010989-1764230400-1764239400@www.kofcutica.org
SUMMARY:OSG PICKUP
DESCRIPTION:
URL:https://www.kofcutica.org/event/osg-pickup/
END:VEVENT
BEGIN:VEVENT
DTSTART;TZID=America/New_York:20251123T080000
DTEND;TZID=America/New_York:20251123T213000
DTSTAMP:20260424T111838
CREATED:20251012T131522Z
LAST-MODIFIED:20251012T131522Z
UID:10010816-1763884800-1763933400@www.kofcutica.org
SUMMARY:Sunday Original Group 8:00 am to 9:30 am
DESCRIPTION:
URL:https://www.kofcutica.org/event/sunday-original-group-800-am-to-930-am/2025-11-23/
LOCATION:Gym
END:VEVENT
BEGIN:VEVENT
DTSTART;TZID=America/New_York:20251116T080000
DTEND;TZID=America/New_York:20251116T213000
DTSTAMP:20260424T111838
CREATED:20251012T131522Z
LAST-MODIFIED:20251012T131522Z
UID:10010815-1763280000-1763328600@www.kofcutica.org
SUMMARY:Sunday Original Group 8:00 am to 9:30 am
DESCRIPTION:
URL:https://www.kofcutica.org/event/sunday-original-group-800-am-to-930-am/2025-11-16/
LOCATION:Gym
END:VEVENT
BEGIN:VEVENT
DTSTART;TZID=America/New_York:20251109T080000
DTEND;TZID=America/New_York:20251109T213000
DTSTAMP:20260424T111838
CREATED:20251012T131522Z
LAST-MODIFIED:20251012T131522Z
UID:10010814-1762675200-1762723800@www.kofcutica.org
SUMMARY:Sunday Original Group 8:00 am to 9:30 am
DESCRIPTION:
URL:https://www.kofcutica.org/event/sunday-original-group-800-am-to-930-am/2025-11-09/
LOCATION:Gym
END:VEVENT
BEGIN:VEVENT
DTSTART;TZID=America/New_York:20251102T080000
DTEND;TZID=America/New_York:20251102T213000
DTSTAMP:20260424T111838
CREATED:20251012T131522Z
LAST-MODIFIED:20251012T131522Z
UID:10010813-1762070400-1762119000@www.kofcutica.org
SUMMARY:Sunday Original Group 8:00 am to 9:30 am
DESCRIPTION:
URL:https://www.kofcutica.org/event/sunday-original-group-800-am-to-930-am/2025-11-02/
LOCATION:Gym
END:VEVENT
BEGIN:VEVENT
DTSTART;TZID=America/New_York:20251026T080000
DTEND;TZID=America/New_York:20251026T213000
DTSTAMP:20260424T111838
CREATED:20251012T131522Z
LAST-MODIFIED:20251012T131522Z
UID:10010812-1761465600-1761514200@www.kofcutica.org
SUMMARY:Sunday Original Group 8:00 am to 9:30 am
DESCRIPTION:
URL:https://www.kofcutica.org/event/sunday-original-group-800-am-to-930-am/2025-10-26/
LOCATION:Gym
END:VEVENT
BEGIN:VEVENT
DTSTART;TZID=America/New_York:20251019T080000
DTEND;TZID=America/New_York:20251019T213000
DTSTAMP:20260424T111838
CREATED:20251012T131522Z
LAST-MODIFIED:20251012T131522Z
UID:10010811-1760860800-1760909400@www.kofcutica.org
SUMMARY:Sunday Original Group 8:00 am to 9:30 am
DESCRIPTION:
URL:https://www.kofcutica.org/event/sunday-original-group-800-am-to-930-am/2025-10-19/
LOCATION:Gym
END:VEVENT
BEGIN:VEVENT
DTSTART;TZID=America/New_York:20250928T080000
DTEND;TZID=America/New_York:20250928T100000
DTSTAMP:20260424T111838
CREATED:20250906T100719Z
LAST-MODIFIED:20250906T101011Z
UID:10010521-1759046400-1759053600@www.kofcutica.org
SUMMARY:Pickup 8 am to 10 am
DESCRIPTION:
URL:https://www.kofcutica.org/event/pickup-8-am-to-10-am/2025-09-28/
LOCATION:Gym
END:VEVENT
BEGIN:VEVENT
DTSTART;TZID=America/New_York:20250921T080000
DTEND;TZID=America/New_York:20250921T100000
DTSTAMP:20260424T111838
CREATED:20250906T100719Z
LAST-MODIFIED:20250906T101011Z
UID:10010520-1758441600-1758448800@www.kofcutica.org
SUMMARY:Pickup 8 am to 10 am
DESCRIPTION:
URL:https://www.kofcutica.org/event/pickup-8-am-to-10-am/2025-09-21/
LOCATION:Gym
END:VEVENT
BEGIN:VEVENT
DTSTART;TZID=America/New_York:20250914T080000
DTEND;TZID=America/New_York:20250914T100000
DTSTAMP:20260424T111838
CREATED:20250906T100719Z
LAST-MODIFIED:20250906T101011Z
UID:10010519-1757836800-1757844000@www.kofcutica.org
SUMMARY:Pickup 8 am to 10 am
DESCRIPTION:
URL:https://www.kofcutica.org/event/pickup-8-am-to-10-am/2025-09-14/
LOCATION:Gym
END:VEVENT
BEGIN:VEVENT
DTSTART;TZID=America/New_York:20250907T080000
DTEND;TZID=America/New_York:20250907T100000
DTSTAMP:20260424T111838
CREATED:20250906T100719Z
LAST-MODIFIED:20250906T101011Z
UID:10010518-1757232000-1757239200@www.kofcutica.org
SUMMARY:Pickup 8 am to 10 am
DESCRIPTION:
URL:https://www.kofcutica.org/event/pickup-8-am-to-10-am/2025-09-07/
LOCATION:Gym
END:VEVENT
BEGIN:VEVENT
DTSTART;VALUE=DATE:20240608
DTEND;VALUE=DATE:20240609
DTSTAMP:20260424T111838
CREATED:20231022T135811Z
LAST-MODIFIED:20231022T135811Z
UID:10007540-1717804800-1717891199@www.kofcutica.org
SUMMARY:Building reserved 11am to 4pm ??
DESCRIPTION:
URL:https://www.kofcutica.org/event/building-reserved-11am-to-4pm/
LOCATION:Building
END:VEVENT
END:VCALENDAR