BEGIN:VCALENDAR
VERSION:2.0
PRODID:-//The Knights of Columbus Council 189 - ECPv6.15.20//NONSGML v1.0//EN
CALSCALE:GREGORIAN
METHOD:PUBLISH
X-ORIGINAL-URL:https://www.kofcutica.org
X-WR-CALDESC:Events for The Knights of Columbus Council 189
REFRESH-INTERVAL;VALUE=DURATION:PT1H
X-Robots-Tag:noindex
X-PUBLISHED-TTL:PT1H
BEGIN:VTIMEZONE
TZID:America/New_York
BEGIN:DAYLIGHT
TZOFFSETFROM:-0500
TZOFFSETTO:-0400
TZNAME:EDT
DTSTART:20250309T070000
END:DAYLIGHT
BEGIN:STANDARD
TZOFFSETFROM:-0400
TZOFFSETTO:-0500
TZNAME:EST
DTSTART:20251102T060000
END:STANDARD
BEGIN:DAYLIGHT
TZOFFSETFROM:-0500
TZOFFSETTO:-0400
TZNAME:EDT
DTSTART:20260308T070000
END:DAYLIGHT
BEGIN:STANDARD
TZOFFSETFROM:-0400
TZOFFSETTO:-0500
TZNAME:EST
DTSTART:20261101T060000
END:STANDARD
BEGIN:DAYLIGHT
TZOFFSETFROM:-0500
TZOFFSETTO:-0400
TZNAME:EDT
DTSTART:20270314T070000
END:DAYLIGHT
BEGIN:STANDARD
TZOFFSETFROM:-0400
TZOFFSETTO:-0500
TZNAME:EST
DTSTART:20271107T060000
END:STANDARD
END:VTIMEZONE
BEGIN:VEVENT
DTSTART;TZID=America/New_York:20260427T090000
DTEND;TZID=America/New_York:20260427T100000
DTSTAMP:20260424T004128
CREATED:20260102T143340Z
LAST-MODIFIED:20260102T143340Z
UID:10011160-1777280400-1777284000@www.kofcutica.org
SUMMARY:Aerobics 9am to 10 am
DESCRIPTION:
URL:https://www.kofcutica.org/event/aerobics-9am-to-10-am-2/2026-04-27/
LOCATION:Gym & Cafeteria
END:VEVENT
BEGIN:VEVENT
DTSTART;TZID=America/New_York:20260428T090000
DTEND;TZID=America/New_York:20260428T100000
DTSTAMP:20260424T004128
CREATED:20260102T143340Z
LAST-MODIFIED:20260102T143340Z
UID:10011161-1777366800-1777370400@www.kofcutica.org
SUMMARY:Aerobics 9am to 10 am
DESCRIPTION:
URL:https://www.kofcutica.org/event/aerobics-9am-to-10-am-2/2026-04-28/
LOCATION:Gym & Cafeteria
END:VEVENT
BEGIN:VEVENT
DTSTART;TZID=America/New_York:20260429T090000
DTEND;TZID=America/New_York:20260429T100000
DTSTAMP:20260424T004128
CREATED:20260102T143340Z
LAST-MODIFIED:20260102T143340Z
UID:10011162-1777453200-1777456800@www.kofcutica.org
SUMMARY:Aerobics 9am to 10 am
DESCRIPTION:
URL:https://www.kofcutica.org/event/aerobics-9am-to-10-am-2/2026-04-29/
LOCATION:Gym & Cafeteria
END:VEVENT
BEGIN:VEVENT
DTSTART;TZID=America/New_York:20260430T090000
DTEND;TZID=America/New_York:20260430T100000
DTSTAMP:20260424T004128
CREATED:20260102T143340Z
LAST-MODIFIED:20260102T143340Z
UID:10011163-1777539600-1777543200@www.kofcutica.org
SUMMARY:Aerobics 9am to 10 am
DESCRIPTION:
URL:https://www.kofcutica.org/event/aerobics-9am-to-10-am-2/2026-04-30/
LOCATION:Gym & Cafeteria
END:VEVENT
BEGIN:VEVENT
DTSTART;TZID=America/New_York:20260504T090000
DTEND;TZID=America/New_York:20260504T100000
DTSTAMP:20260424T004128
CREATED:20260102T143340Z
LAST-MODIFIED:20260102T143340Z
UID:10011164-1777885200-1777888800@www.kofcutica.org
SUMMARY:Aerobics 9am to 10 am
DESCRIPTION:
URL:https://www.kofcutica.org/event/aerobics-9am-to-10-am-2/2026-05-04/
LOCATION:Gym & Cafeteria
END:VEVENT
BEGIN:VEVENT
DTSTART;TZID=America/New_York:20260505T090000
DTEND;TZID=America/New_York:20260505T100000
DTSTAMP:20260424T004128
CREATED:20260102T143340Z
LAST-MODIFIED:20260102T143340Z
UID:10011165-1777971600-1777975200@www.kofcutica.org
SUMMARY:Aerobics 9am to 10 am
DESCRIPTION:
URL:https://www.kofcutica.org/event/aerobics-9am-to-10-am-2/2026-05-05/
LOCATION:Gym & Cafeteria
END:VEVENT
BEGIN:VEVENT
DTSTART;TZID=America/New_York:20260506T090000
DTEND;TZID=America/New_York:20260506T100000
DTSTAMP:20260424T004128
CREATED:20260102T143340Z
LAST-MODIFIED:20260102T143340Z
UID:10011166-1778058000-1778061600@www.kofcutica.org
SUMMARY:Aerobics 9am to 10 am
DESCRIPTION:
URL:https://www.kofcutica.org/event/aerobics-9am-to-10-am-2/2026-05-06/
LOCATION:Gym & Cafeteria
END:VEVENT
BEGIN:VEVENT
DTSTART;TZID=America/New_York:20260507T090000
DTEND;TZID=America/New_York:20260507T100000
DTSTAMP:20260424T004128
CREATED:20260102T143340Z
LAST-MODIFIED:20260102T143340Z
UID:10011167-1778144400-1778148000@www.kofcutica.org
SUMMARY:Aerobics 9am to 10 am
DESCRIPTION:
URL:https://www.kofcutica.org/event/aerobics-9am-to-10-am-2/2026-05-07/
LOCATION:Gym & Cafeteria
END:VEVENT
BEGIN:VEVENT
DTSTART;TZID=America/New_York:20260511T090000
DTEND;TZID=America/New_York:20260511T100000
DTSTAMP:20260424T004128
CREATED:20260102T143340Z
LAST-MODIFIED:20260102T143340Z
UID:10011168-1778490000-1778493600@www.kofcutica.org
SUMMARY:Aerobics 9am to 10 am
DESCRIPTION:
URL:https://www.kofcutica.org/event/aerobics-9am-to-10-am-2/2026-05-11/
LOCATION:Gym & Cafeteria
END:VEVENT
BEGIN:VEVENT
DTSTART;TZID=America/New_York:20260512T090000
DTEND;TZID=America/New_York:20260512T100000
DTSTAMP:20260424T004128
CREATED:20260102T143340Z
LAST-MODIFIED:20260102T143340Z
UID:10011169-1778576400-1778580000@www.kofcutica.org
SUMMARY:Aerobics 9am to 10 am
DESCRIPTION:
URL:https://www.kofcutica.org/event/aerobics-9am-to-10-am-2/2026-05-12/
LOCATION:Gym & Cafeteria
END:VEVENT
BEGIN:VEVENT
DTSTART;TZID=America/New_York:20260513T090000
DTEND;TZID=America/New_York:20260513T100000
DTSTAMP:20260424T004128
CREATED:20260102T143340Z
LAST-MODIFIED:20260102T143340Z
UID:10011170-1778662800-1778666400@www.kofcutica.org
SUMMARY:Aerobics 9am to 10 am
DESCRIPTION:
URL:https://www.kofcutica.org/event/aerobics-9am-to-10-am-2/2026-05-13/
LOCATION:Gym & Cafeteria
END:VEVENT
BEGIN:VEVENT
DTSTART;TZID=America/New_York:20260514T090000
DTEND;TZID=America/New_York:20260514T100000
DTSTAMP:20260424T004128
CREATED:20260102T143340Z
LAST-MODIFIED:20260102T143340Z
UID:10011171-1778749200-1778752800@www.kofcutica.org
SUMMARY:Aerobics 9am to 10 am
DESCRIPTION:
URL:https://www.kofcutica.org/event/aerobics-9am-to-10-am-2/2026-05-14/
LOCATION:Gym & Cafeteria
END:VEVENT
BEGIN:VEVENT
DTSTART;TZID=America/New_York:20260518T090000
DTEND;TZID=America/New_York:20260518T100000
DTSTAMP:20260424T004128
CREATED:20260102T143340Z
LAST-MODIFIED:20260102T143340Z
UID:10011172-1779094800-1779098400@www.kofcutica.org
SUMMARY:Aerobics 9am to 10 am
DESCRIPTION:
URL:https://www.kofcutica.org/event/aerobics-9am-to-10-am-2/2026-05-18/
LOCATION:Gym & Cafeteria
END:VEVENT
BEGIN:VEVENT
DTSTART;TZID=America/New_York:20260519T090000
DTEND;TZID=America/New_York:20260519T100000
DTSTAMP:20260424T004128
CREATED:20260102T143340Z
LAST-MODIFIED:20260102T143340Z
UID:10011173-1779181200-1779184800@www.kofcutica.org
SUMMARY:Aerobics 9am to 10 am
DESCRIPTION:
URL:https://www.kofcutica.org/event/aerobics-9am-to-10-am-2/2026-05-19/
LOCATION:Gym & Cafeteria
END:VEVENT
BEGIN:VEVENT
DTSTART;TZID=America/New_York:20260520T090000
DTEND;TZID=America/New_York:20260520T100000
DTSTAMP:20260424T004128
CREATED:20260102T143340Z
LAST-MODIFIED:20260102T143340Z
UID:10011174-1779267600-1779271200@www.kofcutica.org
SUMMARY:Aerobics 9am to 10 am
DESCRIPTION:
URL:https://www.kofcutica.org/event/aerobics-9am-to-10-am-2/2026-05-20/
LOCATION:Gym & Cafeteria
END:VEVENT
BEGIN:VEVENT
DTSTART;TZID=America/New_York:20260521T090000
DTEND;TZID=America/New_York:20260521T100000
DTSTAMP:20260424T004128
CREATED:20260102T143340Z
LAST-MODIFIED:20260102T143340Z
UID:10011175-1779354000-1779357600@www.kofcutica.org
SUMMARY:Aerobics 9am to 10 am
DESCRIPTION:
URL:https://www.kofcutica.org/event/aerobics-9am-to-10-am-2/2026-05-21/
LOCATION:Gym & Cafeteria
END:VEVENT
BEGIN:VEVENT
DTSTART;TZID=America/New_York:20260525T090000
DTEND;TZID=America/New_York:20260525T100000
DTSTAMP:20260424T004128
CREATED:20260102T143340Z
LAST-MODIFIED:20260102T143340Z
UID:10011176-1779699600-1779703200@www.kofcutica.org
SUMMARY:Aerobics 9am to 10 am
DESCRIPTION:
URL:https://www.kofcutica.org/event/aerobics-9am-to-10-am-2/2026-05-25/
LOCATION:Gym & Cafeteria
END:VEVENT
BEGIN:VEVENT
DTSTART;TZID=America/New_York:20260526T090000
DTEND;TZID=America/New_York:20260526T100000
DTSTAMP:20260424T004128
CREATED:20260102T143340Z
LAST-MODIFIED:20260102T143340Z
UID:10011177-1779786000-1779789600@www.kofcutica.org
SUMMARY:Aerobics 9am to 10 am
DESCRIPTION:
URL:https://www.kofcutica.org/event/aerobics-9am-to-10-am-2/2026-05-26/
LOCATION:Gym & Cafeteria
END:VEVENT
BEGIN:VEVENT
DTSTART;TZID=America/New_York:20260527T090000
DTEND;TZID=America/New_York:20260527T100000
DTSTAMP:20260424T004128
CREATED:20260102T143340Z
LAST-MODIFIED:20260102T143340Z
UID:10011178-1779872400-1779876000@www.kofcutica.org
SUMMARY:Aerobics 9am to 10 am
DESCRIPTION:
URL:https://www.kofcutica.org/event/aerobics-9am-to-10-am-2/2026-05-27/
LOCATION:Gym & Cafeteria
END:VEVENT
BEGIN:VEVENT
DTSTART;TZID=America/New_York:20260528T090000
DTEND;TZID=America/New_York:20260528T100000
DTSTAMP:20260424T004128
CREATED:20260102T143340Z
LAST-MODIFIED:20260102T143340Z
UID:10011179-1779958800-1779962400@www.kofcutica.org
SUMMARY:Aerobics 9am to 10 am
DESCRIPTION:
URL:https://www.kofcutica.org/event/aerobics-9am-to-10-am-2/2026-05-28/
LOCATION:Gym & Cafeteria
END:VEVENT
BEGIN:VEVENT
DTSTART;TZID=America/New_York:20260601T090000
DTEND;TZID=America/New_York:20260601T100000
DTSTAMP:20260424T004128
CREATED:20260102T143340Z
LAST-MODIFIED:20260102T143340Z
UID:10011180-1780304400-1780308000@www.kofcutica.org
SUMMARY:Aerobics 9am to 10 am
DESCRIPTION:
URL:https://www.kofcutica.org/event/aerobics-9am-to-10-am-2/2026-06-01/
LOCATION:Gym & Cafeteria
END:VEVENT
BEGIN:VEVENT
DTSTART;TZID=America/New_York:20260602T090000
DTEND;TZID=America/New_York:20260602T100000
DTSTAMP:20260424T004128
CREATED:20260102T143340Z
LAST-MODIFIED:20260102T143340Z
UID:10011181-1780390800-1780394400@www.kofcutica.org
SUMMARY:Aerobics 9am to 10 am
DESCRIPTION:
URL:https://www.kofcutica.org/event/aerobics-9am-to-10-am-2/2026-06-02/
LOCATION:Gym & Cafeteria
END:VEVENT
BEGIN:VEVENT
DTSTART;TZID=America/New_York:20260603T090000
DTEND;TZID=America/New_York:20260603T100000
DTSTAMP:20260424T004128
CREATED:20260102T143340Z
LAST-MODIFIED:20260102T143340Z
UID:10011182-1780477200-1780480800@www.kofcutica.org
SUMMARY:Aerobics 9am to 10 am
DESCRIPTION:
URL:https://www.kofcutica.org/event/aerobics-9am-to-10-am-2/2026-06-03/
LOCATION:Gym & Cafeteria
END:VEVENT
BEGIN:VEVENT
DTSTART;TZID=America/New_York:20260604T090000
DTEND;TZID=America/New_York:20260604T100000
DTSTAMP:20260424T004128
CREATED:20260102T143340Z
LAST-MODIFIED:20260102T143340Z
UID:10011183-1780563600-1780567200@www.kofcutica.org
SUMMARY:Aerobics 9am to 10 am
DESCRIPTION:
URL:https://www.kofcutica.org/event/aerobics-9am-to-10-am-2/2026-06-04/
LOCATION:Gym & Cafeteria
END:VEVENT
BEGIN:VEVENT
DTSTART;TZID=America/New_York:20260608T090000
DTEND;TZID=America/New_York:20260608T100000
DTSTAMP:20260424T004128
CREATED:20260102T143340Z
LAST-MODIFIED:20260102T143340Z
UID:10011184-1780909200-1780912800@www.kofcutica.org
SUMMARY:Aerobics 9am to 10 am
DESCRIPTION:
URL:https://www.kofcutica.org/event/aerobics-9am-to-10-am-2/2026-06-08/
LOCATION:Gym & Cafeteria
END:VEVENT
BEGIN:VEVENT
DTSTART;TZID=America/New_York:20260609T090000
DTEND;TZID=America/New_York:20260609T100000
DTSTAMP:20260424T004128
CREATED:20260102T143340Z
LAST-MODIFIED:20260102T143340Z
UID:10011185-1780995600-1780999200@www.kofcutica.org
SUMMARY:Aerobics 9am to 10 am
DESCRIPTION:
URL:https://www.kofcutica.org/event/aerobics-9am-to-10-am-2/2026-06-09/
LOCATION:Gym & Cafeteria
END:VEVENT
BEGIN:VEVENT
DTSTART;TZID=America/New_York:20260610T090000
DTEND;TZID=America/New_York:20260610T100000
DTSTAMP:20260424T004128
CREATED:20260102T143340Z
LAST-MODIFIED:20260102T143340Z
UID:10011186-1781082000-1781085600@www.kofcutica.org
SUMMARY:Aerobics 9am to 10 am
DESCRIPTION:
URL:https://www.kofcutica.org/event/aerobics-9am-to-10-am-2/2026-06-10/
LOCATION:Gym & Cafeteria
END:VEVENT
BEGIN:VEVENT
DTSTART;TZID=America/New_York:20260611T090000
DTEND;TZID=America/New_York:20260611T100000
DTSTAMP:20260424T004128
CREATED:20260102T143340Z
LAST-MODIFIED:20260102T143340Z
UID:10011187-1781168400-1781172000@www.kofcutica.org
SUMMARY:Aerobics 9am to 10 am
DESCRIPTION:
URL:https://www.kofcutica.org/event/aerobics-9am-to-10-am-2/2026-06-11/
LOCATION:Gym & Cafeteria
END:VEVENT
BEGIN:VEVENT
DTSTART;TZID=America/New_York:20260615T090000
DTEND;TZID=America/New_York:20260615T100000
DTSTAMP:20260424T004128
CREATED:20260102T143340Z
LAST-MODIFIED:20260102T143340Z
UID:10011188-1781514000-1781517600@www.kofcutica.org
SUMMARY:Aerobics 9am to 10 am
DESCRIPTION:
URL:https://www.kofcutica.org/event/aerobics-9am-to-10-am-2/2026-06-15/
LOCATION:Gym & Cafeteria
END:VEVENT
BEGIN:VEVENT
DTSTART;TZID=America/New_York:20260616T090000
DTEND;TZID=America/New_York:20260616T100000
DTSTAMP:20260424T004128
CREATED:20260102T143340Z
LAST-MODIFIED:20260102T143340Z
UID:10011189-1781600400-1781604000@www.kofcutica.org
SUMMARY:Aerobics 9am to 10 am
DESCRIPTION:
URL:https://www.kofcutica.org/event/aerobics-9am-to-10-am-2/2026-06-16/
LOCATION:Gym & Cafeteria
END:VEVENT
END:VCALENDAR