BEGIN:VCALENDAR
VERSION:2.0
PRODID:-//The Knights of Columbus Council 189 - ECPv6.15.20//NONSGML v1.0//EN
CALSCALE:GREGORIAN
METHOD:PUBLISH
X-ORIGINAL-URL:https://www.kofcutica.org
X-WR-CALDESC:Events for The Knights of Columbus Council 189
REFRESH-INTERVAL;VALUE=DURATION:PT1H
X-Robots-Tag:noindex
X-PUBLISHED-TTL:PT1H
BEGIN:VTIMEZONE
TZID:America/New_York
BEGIN:DAYLIGHT
TZOFFSETFROM:-0500
TZOFFSETTO:-0400
TZNAME:EDT
DTSTART:20250309T070000
END:DAYLIGHT
BEGIN:STANDARD
TZOFFSETFROM:-0400
TZOFFSETTO:-0500
TZNAME:EST
DTSTART:20251102T060000
END:STANDARD
BEGIN:DAYLIGHT
TZOFFSETFROM:-0500
TZOFFSETTO:-0400
TZNAME:EDT
DTSTART:20260308T070000
END:DAYLIGHT
BEGIN:STANDARD
TZOFFSETFROM:-0400
TZOFFSETTO:-0500
TZNAME:EST
DTSTART:20261101T060000
END:STANDARD
BEGIN:DAYLIGHT
TZOFFSETFROM:-0500
TZOFFSETTO:-0400
TZNAME:EDT
DTSTART:20270314T070000
END:DAYLIGHT
BEGIN:STANDARD
TZOFFSETFROM:-0400
TZOFFSETTO:-0500
TZNAME:EST
DTSTART:20271107T060000
END:STANDARD
END:VTIMEZONE
BEGIN:VEVENT
DTSTART;TZID=America/New_York:20260519T150000
DTEND;TZID=America/New_York:20260519T210000
DTSTAMP:20260424T004040
CREATED:20260204T115930Z
LAST-MODIFIED:20260204T115930Z
UID:10012332-1779202800-1779224400@www.kofcutica.org
SUMMARY:Council meeting night
DESCRIPTION:
URL:https://www.kofcutica.org/event/council-meeting-night/2026-05-19/
LOCATION:Gym\, cafateria\, kitchen
END:VEVENT
BEGIN:VEVENT
DTSTART;TZID=America/New_York:20260519T170000
DTEND;TZID=America/New_York:20260519T200000
DTSTAMP:20260424T004040
CREATED:20251003T162947Z
LAST-MODIFIED:20251003T162948Z
UID:10010538-1779210000-1779220800@www.kofcutica.org
SUMMARY:Council Meeting 5 pm to 8 pm
DESCRIPTION:
URL:https://www.kofcutica.org/event/council-meeting-630-pm-to-8-pm-2/2026-05-19/
LOCATION:Building
END:VEVENT
BEGIN:VEVENT
DTSTART;TZID=America/New_York:20260616T150000
DTEND;TZID=America/New_York:20260616T210000
DTSTAMP:20260424T004040
CREATED:20260204T115930Z
LAST-MODIFIED:20260204T115930Z
UID:10012333-1781622000-1781643600@www.kofcutica.org
SUMMARY:Council meeting night
DESCRIPTION:
URL:https://www.kofcutica.org/event/council-meeting-night/2026-06-16/
LOCATION:Gym\, cafateria\, kitchen
END:VEVENT
BEGIN:VEVENT
DTSTART;TZID=America/New_York:20260616T170000
DTEND;TZID=America/New_York:20260616T200000
DTSTAMP:20260424T004040
CREATED:20251003T162947Z
LAST-MODIFIED:20251003T162948Z
UID:10010539-1781629200-1781640000@www.kofcutica.org
SUMMARY:Council Meeting 5 pm to 8 pm
DESCRIPTION:
URL:https://www.kofcutica.org/event/council-meeting-630-pm-to-8-pm-2/2026-06-16/
LOCATION:Building
END:VEVENT
BEGIN:VEVENT
DTSTART;TZID=America/New_York:20260721T170000
DTEND;TZID=America/New_York:20260721T200000
DTSTAMP:20260424T004040
CREATED:20251003T162947Z
LAST-MODIFIED:20251003T162948Z
UID:10010540-1784653200-1784664000@www.kofcutica.org
SUMMARY:Council Meeting 5 pm to 8 pm
DESCRIPTION:
URL:https://www.kofcutica.org/event/council-meeting-630-pm-to-8-pm-2/2026-07-21/
LOCATION:Building
END:VEVENT
BEGIN:VEVENT
DTSTART;TZID=America/New_York:20260818T170000
DTEND;TZID=America/New_York:20260818T200000
DTSTAMP:20260424T004040
CREATED:20251003T162947Z
LAST-MODIFIED:20251003T162948Z
UID:10010541-1787072400-1787083200@www.kofcutica.org
SUMMARY:Council Meeting 5 pm to 8 pm
DESCRIPTION:
URL:https://www.kofcutica.org/event/council-meeting-630-pm-to-8-pm-2/2026-08-18/
LOCATION:Building
END:VEVENT
BEGIN:VEVENT
DTSTART;TZID=America/New_York:20260915T170000
DTEND;TZID=America/New_York:20260915T200000
DTSTAMP:20260424T004040
CREATED:20251003T162947Z
LAST-MODIFIED:20251003T162948Z
UID:10010542-1789491600-1789502400@www.kofcutica.org
SUMMARY:Council Meeting 5 pm to 8 pm
DESCRIPTION:
URL:https://www.kofcutica.org/event/council-meeting-630-pm-to-8-pm-2/2026-09-15/
LOCATION:Building
END:VEVENT
END:VCALENDAR