BEGIN:VCALENDAR
VERSION:2.0
PRODID:-//The Knights of Columbus Council 189 - ECPv6.15.20//NONSGML v1.0//EN
CALSCALE:GREGORIAN
METHOD:PUBLISH
X-ORIGINAL-URL:https://www.kofcutica.org
X-WR-CALDESC:Events for The Knights of Columbus Council 189
REFRESH-INTERVAL;VALUE=DURATION:PT1H
X-Robots-Tag:noindex
X-PUBLISHED-TTL:PT1H
BEGIN:VTIMEZONE
TZID:America/New_York
BEGIN:DAYLIGHT
TZOFFSETFROM:-0500
TZOFFSETTO:-0400
TZNAME:EDT
DTSTART:20240310T070000
END:DAYLIGHT
BEGIN:STANDARD
TZOFFSETFROM:-0400
TZOFFSETTO:-0500
TZNAME:EST
DTSTART:20241103T060000
END:STANDARD
BEGIN:DAYLIGHT
TZOFFSETFROM:-0500
TZOFFSETTO:-0400
TZNAME:EDT
DTSTART:20250309T070000
END:DAYLIGHT
BEGIN:STANDARD
TZOFFSETFROM:-0400
TZOFFSETTO:-0500
TZNAME:EST
DTSTART:20251102T060000
END:STANDARD
BEGIN:DAYLIGHT
TZOFFSETFROM:-0500
TZOFFSETTO:-0400
TZNAME:EDT
DTSTART:20260308T070000
END:DAYLIGHT
BEGIN:STANDARD
TZOFFSETFROM:-0400
TZOFFSETTO:-0500
TZNAME:EST
DTSTART:20261101T060000
END:STANDARD
BEGIN:DAYLIGHT
TZOFFSETFROM:-0500
TZOFFSETTO:-0400
TZNAME:EDT
DTSTART:20270314T070000
END:DAYLIGHT
BEGIN:STANDARD
TZOFFSETFROM:-0400
TZOFFSETTO:-0500
TZNAME:EST
DTSTART:20271107T060000
END:STANDARD
END:VTIMEZONE
BEGIN:VEVENT
DTSTART;TZID=America/New_York:20260321T100000
DTEND;TZID=America/New_York:20260321T110000
DTSTAMP:20260424T025208
CREATED:20260222T184713Z
LAST-MODIFIED:20260222T184713Z
UID:10013146-1774087200-1774090800@www.kofcutica.org
SUMMARY:Officers Meeting
DESCRIPTION:
URL:https://www.kofcutica.org/event/officers-meeting-2/
LOCATION:Community room
END:VEVENT
BEGIN:VEVENT
DTSTART;TZID=America/New_York:20260317T170000
DTEND;TZID=America/New_York:20260317T200000
DTSTAMP:20260424T025208
CREATED:20251003T162947Z
LAST-MODIFIED:20251003T162948Z
UID:10010536-1773766800-1773777600@www.kofcutica.org
SUMMARY:Council Meeting 5 pm to 8 pm
DESCRIPTION:
URL:https://www.kofcutica.org/event/council-meeting-630-pm-to-8-pm-2/2026-03-17/
LOCATION:Building
END:VEVENT
BEGIN:VEVENT
DTSTART;TZID=America/New_York:20260317T150000
DTEND;TZID=America/New_York:20260317T210000
DTSTAMP:20260424T025208
CREATED:20260204T115930Z
LAST-MODIFIED:20260204T115930Z
UID:10012330-1773759600-1773781200@www.kofcutica.org
SUMMARY:Council meeting night
DESCRIPTION:
URL:https://www.kofcutica.org/event/council-meeting-night/2026-03-17/
LOCATION:Gym\, cafateria\, kitchen
END:VEVENT
BEGIN:VEVENT
DTSTART;TZID=America/New_York:20260306T150000
DTEND;TZID=America/New_York:20260306T160000
DTSTAMP:20260424T025208
CREATED:20260305T141206Z
LAST-MODIFIED:20260305T141206Z
UID:10013467-1772809200-1772812800@www.kofcutica.org
SUMMARY:Gym Reserved 3pm to 4pm
DESCRIPTION:
URL:https://www.kofcutica.org/event/gym-reserved-3pm-to-4pm/
LOCATION:Gym
END:VEVENT
BEGIN:VEVENT
DTSTART;TZID=America/New_York:20260303T150000
DTEND;TZID=America/New_York:20260303T160000
DTSTAMP:20260424T025208
CREATED:20260302T112615Z
LAST-MODIFIED:20260302T112615Z
UID:10013219-1772550000-1772553600@www.kofcutica.org
SUMMARY:Gym reserved 3 pm to 4pm
DESCRIPTION:
URL:https://www.kofcutica.org/event/gym-reserved-3-pm-to-4pm/
LOCATION:Gym
END:VEVENT
BEGIN:VEVENT
DTSTART;TZID=America/New_York:20260228T083000
DTEND;TZID=America/New_York:20260228T110000
DTSTAMP:20260424T025208
CREATED:20250827T174438Z
LAST-MODIFIED:20250827T174438Z
UID:10010482-1772267400-1772276400@www.kofcutica.org
SUMMARY:YOUTH PROGRM 8:30 AM
DESCRIPTION:
URL:https://www.kofcutica.org/event/youth-progrm-830-am/2026-02-28/
LOCATION:Gym & Cafeteria
END:VEVENT
BEGIN:VEVENT
DTSTART;TZID=America/New_York:20260226T150000
DTEND;TZID=America/New_York:20260226T153000
DTSTAMP:20260424T025208
CREATED:20260225T212852Z
LAST-MODIFIED:20260225T212852Z
UID:10013152-1772118000-1772119800@www.kofcutica.org
SUMMARY:Gym reserved 3 pm to 3:30 pm
DESCRIPTION:
URL:https://www.kofcutica.org/event/gym-reserved-3-pm-to-330-pm/2026-02-26/2/
LOCATION:Gym
END:VEVENT
BEGIN:VEVENT
DTSTART;TZID=America/New_York:20260226T080000
DTEND;TZID=America/New_York:20260226T170000
DTSTAMP:20260424T025208
CREATED:20260225T212852Z
LAST-MODIFIED:20260225T212852Z
UID:10013151-1772092800-1772125200@www.kofcutica.org
SUMMARY:Gym reserved 3 pm to 3:30 pm
DESCRIPTION:
URL:https://www.kofcutica.org/event/gym-reserved-3-pm-to-330-pm/2026-02-26/1/
LOCATION:Gym
END:VEVENT
BEGIN:VEVENT
DTSTART;TZID=America/New_York:20260221T100000
DTEND;TZID=America/New_York:20260221T110000
DTSTAMP:20260424T025208
CREATED:20260207T151331Z
LAST-MODIFIED:20260207T151331Z
UID:10012335-1771668000-1771671600@www.kofcutica.org
SUMMARY:Officers Meeting
DESCRIPTION:
URL:https://www.kofcutica.org/event/officers-meeting/
LOCATION:Community room
END:VEVENT
BEGIN:VEVENT
DTSTART;TZID=America/New_York:20260221T083000
DTEND;TZID=America/New_York:20260221T110000
DTSTAMP:20260424T025208
CREATED:20250827T174438Z
LAST-MODIFIED:20250827T174438Z
UID:10010481-1771662600-1771671600@www.kofcutica.org
SUMMARY:YOUTH PROGRM 8:30 AM
DESCRIPTION:
URL:https://www.kofcutica.org/event/youth-progrm-830-am/2026-02-21/
LOCATION:Gym & Cafeteria
END:VEVENT
BEGIN:VEVENT
DTSTART;TZID=America/New_York:20260218T180000
DTEND;TZID=America/New_York:20260218T200000
DTSTAMP:20260424T025208
CREATED:20260217T161104Z
LAST-MODIFIED:20260217T161105Z
UID:10012186-1771437600-1771444800@www.kofcutica.org
SUMMARY:Gym Reserved  6 pm to 8pm
DESCRIPTION: 
URL:https://www.kofcutica.org/event/member-pickup-basketball-2-3/
LOCATION:Gym
END:VEVENT
BEGIN:VEVENT
DTSTART;TZID=America/New_York:20260217T170000
DTEND;TZID=America/New_York:20260217T200000
DTSTAMP:20260424T025208
CREATED:20251003T162947Z
LAST-MODIFIED:20251003T162948Z
UID:10010535-1771347600-1771358400@www.kofcutica.org
SUMMARY:Council Meeting 5 pm to 8 pm
DESCRIPTION:
URL:https://www.kofcutica.org/event/council-meeting-630-pm-to-8-pm-2/2026-02-17/
LOCATION:Building
END:VEVENT
BEGIN:VEVENT
DTSTART;TZID=America/New_York:20260217T150000
DTEND;TZID=America/New_York:20260217T210000
DTSTAMP:20260424T025208
CREATED:20260204T115930Z
LAST-MODIFIED:20260204T115930Z
UID:10012329-1771340400-1771362000@www.kofcutica.org
SUMMARY:Council meeting night
DESCRIPTION:
URL:https://www.kofcutica.org/event/council-meeting-night/2026-02-17/
LOCATION:Gym\, cafateria\, kitchen
END:VEVENT
BEGIN:VEVENT
DTSTART;TZID=America/New_York:20260214T083000
DTEND;TZID=America/New_York:20260214T110000
DTSTAMP:20260424T025208
CREATED:20250827T174438Z
LAST-MODIFIED:20250827T174438Z
UID:10010480-1771057800-1771066800@www.kofcutica.org
SUMMARY:YOUTH PROGRM 8:30 AM
DESCRIPTION:
URL:https://www.kofcutica.org/event/youth-progrm-830-am/2026-02-14/
LOCATION:Gym & Cafeteria
END:VEVENT
BEGIN:VEVENT
DTSTART;TZID=America/New_York:20260207T083000
DTEND;TZID=America/New_York:20260207T110000
DTSTAMP:20260424T025208
CREATED:20250827T174438Z
LAST-MODIFIED:20250827T174438Z
UID:10010479-1770453000-1770462000@www.kofcutica.org
SUMMARY:YOUTH PROGRM 8:30 AM
DESCRIPTION:
URL:https://www.kofcutica.org/event/youth-progrm-830-am/2026-02-07/
LOCATION:Gym & Cafeteria
END:VEVENT
BEGIN:VEVENT
DTSTART;TZID=America/New_York:20260131T083000
DTEND;TZID=America/New_York:20260131T110000
DTSTAMP:20260424T025208
CREATED:20250827T174438Z
LAST-MODIFIED:20250827T174438Z
UID:10010478-1769848200-1769857200@www.kofcutica.org
SUMMARY:YOUTH PROGRM 8:30 AM
DESCRIPTION:
URL:https://www.kofcutica.org/event/youth-progrm-830-am/2026-01-31/
LOCATION:Gym & Cafeteria
END:VEVENT
BEGIN:VEVENT
DTSTART;TZID=America/New_York:20260124T083000
DTEND;TZID=America/New_York:20260124T110000
DTSTAMP:20260424T025208
CREATED:20250827T174438Z
LAST-MODIFIED:20250827T174438Z
UID:10010477-1769243400-1769252400@www.kofcutica.org
SUMMARY:YOUTH PROGRM 8:30 AM
DESCRIPTION:
URL:https://www.kofcutica.org/event/youth-progrm-830-am/2026-01-24/
LOCATION:Gym & Cafeteria
END:VEVENT
BEGIN:VEVENT
DTSTART;TZID=America/New_York:20260117T083000
DTEND;TZID=America/New_York:20260117T110000
DTSTAMP:20260424T025208
CREATED:20250827T174438Z
LAST-MODIFIED:20250827T174438Z
UID:10010476-1768638600-1768647600@www.kofcutica.org
SUMMARY:YOUTH PROGRM 8:30 AM
DESCRIPTION:
URL:https://www.kofcutica.org/event/youth-progrm-830-am/2026-01-17/
LOCATION:Gym & Cafeteria
END:VEVENT
BEGIN:VEVENT
DTSTART;TZID=America/New_York:20260110T083000
DTEND;TZID=America/New_York:20260110T110000
DTSTAMP:20260424T025208
CREATED:20250827T174438Z
LAST-MODIFIED:20250827T174438Z
UID:10010475-1768033800-1768042800@www.kofcutica.org
SUMMARY:YOUTH PROGRM 8:30 AM
DESCRIPTION:
URL:https://www.kofcutica.org/event/youth-progrm-830-am/2026-01-10/
LOCATION:Gym & Cafeteria
END:VEVENT
BEGIN:VEVENT
DTSTART;TZID=America/New_York:20260103T083000
DTEND;TZID=America/New_York:20260103T110000
DTSTAMP:20260424T025208
CREATED:20250827T174438Z
LAST-MODIFIED:20250827T174438Z
UID:10010474-1767429000-1767438000@www.kofcutica.org
SUMMARY:YOUTH PROGRM 8:30 AM
DESCRIPTION:
URL:https://www.kofcutica.org/event/youth-progrm-830-am/2026-01-03/
LOCATION:Gym & Cafeteria
END:VEVENT
BEGIN:VEVENT
DTSTART;TZID=America/New_York:20251227T083000
DTEND;TZID=America/New_York:20251227T110000
DTSTAMP:20260424T025208
CREATED:20250827T174438Z
LAST-MODIFIED:20250827T174438Z
UID:10010473-1766824200-1766833200@www.kofcutica.org
SUMMARY:YOUTH PROGRM 8:30 AM
DESCRIPTION:
URL:https://www.kofcutica.org/event/youth-progrm-830-am/2025-12-27/
LOCATION:Gym & Cafeteria
END:VEVENT
BEGIN:VEVENT
DTSTART;TZID=America/New_York:20251220T083000
DTEND;TZID=America/New_York:20251220T110000
DTSTAMP:20260424T025208
CREATED:20250827T174438Z
LAST-MODIFIED:20250827T174438Z
UID:10010472-1766219400-1766228400@www.kofcutica.org
SUMMARY:YOUTH PROGRM 8:30 AM
DESCRIPTION:
URL:https://www.kofcutica.org/event/youth-progrm-830-am/2025-12-20/
LOCATION:Gym & Cafeteria
END:VEVENT
BEGIN:VEVENT
DTSTART;VALUE=DATE:20251214
DTEND;VALUE=DATE:20251215
DTSTAMP:20260424T025208
CREATED:20251013T160600Z
LAST-MODIFIED:20251014T174204Z
UID:10010826-1765670400-1765756799@www.kofcutica.org
SUMMARY:Council Christmas Party
DESCRIPTION:
URL:https://www.kofcutica.org/event/council-christmas-party-2/
LOCATION:Building
END:VEVENT
BEGIN:VEVENT
DTSTART;TZID=America/New_York:20251213T083000
DTEND;TZID=America/New_York:20251213T110000
DTSTAMP:20260424T025208
CREATED:20250827T174438Z
LAST-MODIFIED:20250827T174438Z
UID:10010471-1765614600-1765623600@www.kofcutica.org
SUMMARY:YOUTH PROGRM 8:30 AM
DESCRIPTION:
URL:https://www.kofcutica.org/event/youth-progrm-830-am/2025-12-13/
LOCATION:Gym & Cafeteria
END:VEVENT
BEGIN:VEVENT
DTSTART;VALUE=DATE:20251213
DTEND;VALUE=DATE:20251214
DTSTAMP:20260424T025208
CREATED:20251207T113342Z
LAST-MODIFIED:20251207T113342Z
UID:10011010-1765584000-1765670399@www.kofcutica.org
SUMMARY:Building Closed after Youth Program
DESCRIPTION:
URL:https://www.kofcutica.org/event/building-closed-after-youth-program/
LOCATION:Building
END:VEVENT
BEGIN:VEVENT
DTSTART;VALUE=DATE:20251213
DTEND;VALUE=DATE:20251214
DTSTAMP:20260424T025208
CREATED:20251013T161048Z
LAST-MODIFIED:20251013T161048Z
UID:10010829-1765584000-1765670399@www.kofcutica.org
SUMMARY:Council Christmas setup
DESCRIPTION:
URL:https://www.kofcutica.org/event/council-christmas-setup/2025-12-13/
LOCATION:Building
END:VEVENT
BEGIN:VEVENT
DTSTART;VALUE=DATE:20251212
DTEND;VALUE=DATE:20251213
DTSTAMP:20260424T025208
CREATED:20251013T161048Z
LAST-MODIFIED:20251013T161048Z
UID:10010828-1765497600-1765583999@www.kofcutica.org
SUMMARY:Council Christmas setup
DESCRIPTION:
URL:https://www.kofcutica.org/event/council-christmas-setup/2025-12-12/
LOCATION:Building
END:VEVENT
BEGIN:VEVENT
DTSTART;VALUE=DATE:20251211
DTEND;VALUE=DATE:20251212
DTSTAMP:20260424T025208
CREATED:20251013T161048Z
LAST-MODIFIED:20251013T161048Z
UID:10010827-1765411200-1765497599@www.kofcutica.org
SUMMARY:Council Christmas setup
DESCRIPTION:
URL:https://www.kofcutica.org/event/council-christmas-setup/2025-12-11/
LOCATION:Building
END:VEVENT
BEGIN:VEVENT
DTSTART;TZID=America/New_York:20251206T083000
DTEND;TZID=America/New_York:20251206T110000
DTSTAMP:20260424T025208
CREATED:20250827T174438Z
LAST-MODIFIED:20250827T174438Z
UID:10010470-1765009800-1765018800@www.kofcutica.org
SUMMARY:YOUTH PROGRM 8:30 AM
DESCRIPTION:
URL:https://www.kofcutica.org/event/youth-progrm-830-am/2025-12-06/
LOCATION:Gym & Cafeteria
END:VEVENT
BEGIN:VEVENT
DTSTART;VALUE=DATE:20251130
DTEND;VALUE=DATE:20251201
DTSTAMP:20260424T025208
CREATED:20251113T135420Z
LAST-MODIFIED:20251113T135420Z
UID:10010984-1764460800-1764547199@www.kofcutica.org
SUMMARY:Council Memorial Mass & Open House
DESCRIPTION:
URL:https://www.kofcutica.org/event/council-memorial-mass-open-house/
LOCATION:Building
END:VEVENT
END:VCALENDAR