BEGIN:VCALENDAR
VERSION:2.0
PRODID:-//The Knights of Columbus Council 189 - ECPv6.15.20//NONSGML v1.0//EN
CALSCALE:GREGORIAN
METHOD:PUBLISH
X-WR-CALNAME:The Knights of Columbus Council 189
X-ORIGINAL-URL:https://www.kofcutica.org
X-WR-CALDESC:Events for The Knights of Columbus Council 189
REFRESH-INTERVAL;VALUE=DURATION:PT1H
X-Robots-Tag:noindex
X-PUBLISHED-TTL:PT1H
BEGIN:VTIMEZONE
TZID:America/New_York
BEGIN:DAYLIGHT
TZOFFSETFROM:-0500
TZOFFSETTO:-0400
TZNAME:EDT
DTSTART:20240310T070000
END:DAYLIGHT
BEGIN:STANDARD
TZOFFSETFROM:-0400
TZOFFSETTO:-0500
TZNAME:EST
DTSTART:20241103T060000
END:STANDARD
BEGIN:DAYLIGHT
TZOFFSETFROM:-0500
TZOFFSETTO:-0400
TZNAME:EDT
DTSTART:20250309T070000
END:DAYLIGHT
BEGIN:STANDARD
TZOFFSETFROM:-0400
TZOFFSETTO:-0500
TZNAME:EST
DTSTART:20251102T060000
END:STANDARD
BEGIN:DAYLIGHT
TZOFFSETFROM:-0500
TZOFFSETTO:-0400
TZNAME:EDT
DTSTART:20260308T070000
END:DAYLIGHT
BEGIN:STANDARD
TZOFFSETFROM:-0400
TZOFFSETTO:-0500
TZNAME:EST
DTSTART:20261101T060000
END:STANDARD
BEGIN:DAYLIGHT
TZOFFSETFROM:-0500
TZOFFSETTO:-0400
TZNAME:EDT
DTSTART:20270314T070000
END:DAYLIGHT
BEGIN:STANDARD
TZOFFSETFROM:-0400
TZOFFSETTO:-0500
TZNAME:EST
DTSTART:20271107T060000
END:STANDARD
END:VTIMEZONE
BEGIN:VEVENT
DTSTART;TZID=America/New_York:20260412T080000
DTEND;TZID=America/New_York:20260412T120000
DTSTAMP:20260424T054937
CREATED:20260305T120736Z
LAST-MODIFIED:20260305T120736Z
UID:10013465-1775980800-1775995200@www.kofcutica.org
SUMMARY:MVF Rehearsal 8am to noon
DESCRIPTION:
URL:https://www.kofcutica.org/event/mvf-rehearsal-8am-to-noon/
LOCATION:Community room
END:VEVENT
BEGIN:VEVENT
DTSTART;TZID=America/New_York:20260321T090000
DTEND;TZID=America/New_York:20260321T113000
DTSTAMP:20260424T054937
CREATED:20251020T125450Z
LAST-MODIFIED:20251020T125450Z
UID:10010842-1774083600-1774092600@www.kofcutica.org
SUMMARY:MVF Rehersal 9am to 11:30am
DESCRIPTION:
URL:https://www.kofcutica.org/event/mvf-rehersal-9am-to-1130am-9/
LOCATION:Community room
END:VEVENT
BEGIN:VEVENT
DTSTART;TZID=America/New_York:20260221T090000
DTEND;TZID=America/New_York:20260221T113000
DTSTAMP:20260424T054937
CREATED:20251020T125240Z
LAST-MODIFIED:20251020T125240Z
UID:10010840-1771664400-1771673400@www.kofcutica.org
SUMMARY:MVF Rehersal 9am to 11:30am
DESCRIPTION:
URL:https://www.kofcutica.org/event/mvf-rehersal-9am-to-1130am-7/
LOCATION:Community room
END:VEVENT
BEGIN:VEVENT
DTSTART;TZID=America/New_York:20260207T090000
DTEND;TZID=America/New_York:20260207T113000
DTSTAMP:20260424T054937
CREATED:20251020T125139Z
LAST-MODIFIED:20251020T125139Z
UID:10010839-1770454800-1770463800@www.kofcutica.org
SUMMARY:MVF Rehersal 9am to 11:30am
DESCRIPTION:
URL:https://www.kofcutica.org/event/mvf-rehersal-9am-to-1130am-6/
LOCATION:Community room
END:VEVENT
BEGIN:VEVENT
DTSTART;TZID=America/New_York:20260124T090000
DTEND;TZID=America/New_York:20260124T113000
DTSTAMP:20260424T054937
CREATED:20251020T125043Z
LAST-MODIFIED:20251020T125043Z
UID:10010838-1769245200-1769254200@www.kofcutica.org
SUMMARY:MVF Rehersal 9am to 11:30am
DESCRIPTION:
URL:https://www.kofcutica.org/event/mvf-rehersal-9am-to-1130am-5/
LOCATION:Community room
END:VEVENT
BEGIN:VEVENT
DTSTART;TZID=America/New_York:20260110T090000
DTEND;TZID=America/New_York:20260110T113000
DTSTAMP:20260424T054937
CREATED:20251020T124913Z
LAST-MODIFIED:20251020T124913Z
UID:10010837-1768035600-1768044600@www.kofcutica.org
SUMMARY:MVF Rehersal 9am to 11:30am
DESCRIPTION:
URL:https://www.kofcutica.org/event/mvf-rehersal-9am-to-1130am-4/
LOCATION:Community room
END:VEVENT
BEGIN:VEVENT
DTSTART;TZID=America/New_York:20251206T090000
DTEND;TZID=America/New_York:20251206T113000
DTSTAMP:20260424T054937
CREATED:20251020T124740Z
LAST-MODIFIED:20251020T124740Z
UID:10010836-1765011600-1765020600@www.kofcutica.org
SUMMARY:MVF Rehersal 9am to 11:30am
DESCRIPTION:
URL:https://www.kofcutica.org/event/mvf-rehersal-9am-to-1130am-3/
LOCATION:Community room
END:VEVENT
BEGIN:VEVENT
DTSTART;TZID=America/New_York:20251122T090000
DTEND;TZID=America/New_York:20251122T113000
DTSTAMP:20260424T054937
CREATED:20251020T124538Z
LAST-MODIFIED:20251020T124538Z
UID:10010835-1763802000-1763811000@www.kofcutica.org
SUMMARY:MVF Rehersal 9am to 11:30am
DESCRIPTION:
URL:https://www.kofcutica.org/event/mvf-rehersal-9am-to-1130am-2/
LOCATION:Community room
END:VEVENT
END:VCALENDAR