BEGIN:VCALENDAR
VERSION:2.0
PRODID:-//The Knights of Columbus Council 189 - ECPv6.15.20//NONSGML v1.0//EN
CALSCALE:GREGORIAN
METHOD:PUBLISH
X-ORIGINAL-URL:https://www.kofcutica.org
X-WR-CALDESC:Events for The Knights of Columbus Council 189
REFRESH-INTERVAL;VALUE=DURATION:PT1H
X-Robots-Tag:noindex
X-PUBLISHED-TTL:PT1H
BEGIN:VTIMEZONE
TZID:America/New_York
BEGIN:DAYLIGHT
TZOFFSETFROM:-0500
TZOFFSETTO:-0400
TZNAME:EDT
DTSTART:20210314T070000
END:DAYLIGHT
BEGIN:STANDARD
TZOFFSETFROM:-0400
TZOFFSETTO:-0500
TZNAME:EST
DTSTART:20211107T060000
END:STANDARD
BEGIN:DAYLIGHT
TZOFFSETFROM:-0500
TZOFFSETTO:-0400
TZNAME:EDT
DTSTART:20220313T070000
END:DAYLIGHT
BEGIN:STANDARD
TZOFFSETFROM:-0400
TZOFFSETTO:-0500
TZNAME:EST
DTSTART:20221106T060000
END:STANDARD
BEGIN:DAYLIGHT
TZOFFSETFROM:-0500
TZOFFSETTO:-0400
TZNAME:EDT
DTSTART:20230312T070000
END:DAYLIGHT
BEGIN:STANDARD
TZOFFSETFROM:-0400
TZOFFSETTO:-0500
TZNAME:EST
DTSTART:20231105T060000
END:STANDARD
BEGIN:DAYLIGHT
TZOFFSETFROM:-0500
TZOFFSETTO:-0400
TZNAME:EDT
DTSTART:20240310T070000
END:DAYLIGHT
BEGIN:STANDARD
TZOFFSETFROM:-0400
TZOFFSETTO:-0500
TZNAME:EST
DTSTART:20241103T060000
END:STANDARD
BEGIN:DAYLIGHT
TZOFFSETFROM:-0500
TZOFFSETTO:-0400
TZNAME:EDT
DTSTART:20250309T070000
END:DAYLIGHT
BEGIN:STANDARD
TZOFFSETFROM:-0400
TZOFFSETTO:-0500
TZNAME:EST
DTSTART:20251102T060000
END:STANDARD
BEGIN:DAYLIGHT
TZOFFSETFROM:-0500
TZOFFSETTO:-0400
TZNAME:EDT
DTSTART:20260308T070000
END:DAYLIGHT
BEGIN:STANDARD
TZOFFSETFROM:-0400
TZOFFSETTO:-0500
TZNAME:EST
DTSTART:20261101T060000
END:STANDARD
BEGIN:DAYLIGHT
TZOFFSETFROM:-0500
TZOFFSETTO:-0400
TZNAME:EDT
DTSTART:20270314T070000
END:DAYLIGHT
BEGIN:STANDARD
TZOFFSETFROM:-0400
TZOFFSETTO:-0500
TZNAME:EST
DTSTART:20271107T060000
END:STANDARD
END:VTIMEZONE
BEGIN:VEVENT
DTSTART;TZID=America/New_York:20260315T113000
DTEND;TZID=America/New_York:20260315T150000
DTSTAMP:20260424T155616
CREATED:20260219T163526Z
LAST-MODIFIED:20260219T163526Z
UID:10013094-1773574200-1773586800@www.kofcutica.org
SUMMARY:Building Reserved from 11:30 am to 3pm
DESCRIPTION:
URL:https://www.kofcutica.org/event/building-reserved-from-1130-am-to-3pm/
LOCATION:Cafeteria
END:VEVENT
BEGIN:VEVENT
DTSTART;TZID=America/New_York:20250315T120000
DTEND;TZID=America/New_York:20250315T160000
DTSTAMP:20260424T155616
CREATED:20250218T205859Z
LAST-MODIFIED:20250218T205859Z
UID:10010073-1742040000-1742054400@www.kofcutica.org
SUMMARY:Building Reserved noon to 4pm
DESCRIPTION:
URL:https://www.kofcutica.org/event/building-reserved-noon-to-4pm/
LOCATION:Building
END:VEVENT
BEGIN:VEVENT
DTSTART;TZID=America/New_York:20240316T120000
DTEND;TZID=America/New_York:20240316T180000
DTSTAMP:20260424T155616
CREATED:20240206T133114Z
LAST-MODIFIED:20240206T133114Z
UID:10008058-1710590400-1710612000@www.kofcutica.org
SUMMARY:Gym reserved for Event noon to 6
DESCRIPTION:
URL:https://www.kofcutica.org/event/gym-reserved-for-event-noon-to-6/
LOCATION:Building
END:VEVENT
BEGIN:VEVENT
DTSTART;TZID=America/New_York:20231028T120000
DTEND;TZID=America/New_York:20231028T180000
DTSTAMP:20260424T155616
CREATED:20231002T195649Z
LAST-MODIFIED:20231002T195649Z
UID:10007528-1698494400-1698516000@www.kofcutica.org
SUMMARY:Building Reserved
DESCRIPTION:
URL:https://www.kofcutica.org/event/building-reserved/
LOCATION:Gym & Cafeteria
END:VEVENT
BEGIN:VEVENT
DTSTART;TZID=America/New_York:20230311T120000
DTEND;TZID=America/New_York:20230311T170000
DTSTAMP:20260424T155616
CREATED:20230221T225511Z
LAST-MODIFIED:20230221T225511Z
UID:10006358-1678536000-1678554000@www.kofcutica.org
SUMMARY:Gym Reserved noon to 5 pm
DESCRIPTION:
URL:https://www.kofcutica.org/event/gym-reserved-noon-to-5-pm/
LOCATION:Gym\, cafateria\, kitchen
END:VEVENT
BEGIN:VEVENT
DTSTART;TZID=America/New_York:20221029T140000
DTEND;TZID=America/New_York:20221029T180000
DTSTAMP:20260424T155616
CREATED:20220922T203303Z
LAST-MODIFIED:20220922T203303Z
UID:10006092-1667052000-1667066400@www.kofcutica.org
SUMMARY:Gym and cafeteria reserved 1 pm to 6 pm
DESCRIPTION:
URL:https://www.kofcutica.org/event/gym-and-cafeteria-reserved-1-pm-to-6-pm/
LOCATION:Gym & Cafeteria
END:VEVENT
BEGIN:VEVENT
DTSTART;TZID=America/New_York:20220709T100000
DTEND;TZID=America/New_York:20220709T190000
DTSTAMP:20260424T155616
CREATED:20220524T191434Z
LAST-MODIFIED:20220524T191434Z
UID:10006023-1657360800-1657393200@www.kofcutica.org
SUMMARY:Gym & cafeteria reserved for event
DESCRIPTION: 
URL:https://www.kofcutica.org/event/gym-cafeteria-reserved-for-event-3/
LOCATION:Gym & Cafeteria
END:VEVENT
BEGIN:VEVENT
DTSTART;TZID=America/New_York:20220313T120000
DTEND;TZID=America/New_York:20220313T170000
DTSTAMP:20260424T155616
CREATED:20220204T133304Z
LAST-MODIFIED:20220204T133345Z
UID:10005936-1647172800-1647190800@www.kofcutica.org
SUMMARY:Gym & Cafeteria reserved for Event Noon to 5 pm
DESCRIPTION:
URL:https://www.kofcutica.org/event/gym-reserved-for-event-noon-to-5-pm/
LOCATION:Gym & Cafeteria
END:VEVENT
END:VCALENDAR