BEGIN:VCALENDAR
VERSION:2.0
PRODID:-//The Knights of Columbus Council 189 - ECPv6.15.20//NONSGML v1.0//EN
CALSCALE:GREGORIAN
METHOD:PUBLISH
X-WR-CALNAME:The Knights of Columbus Council 189
X-ORIGINAL-URL:https://www.kofcutica.org
X-WR-CALDESC:Events for The Knights of Columbus Council 189
REFRESH-INTERVAL;VALUE=DURATION:PT1H
X-Robots-Tag:noindex
X-PUBLISHED-TTL:PT1H
BEGIN:VTIMEZONE
TZID:America/New_York
BEGIN:DAYLIGHT
TZOFFSETFROM:-0500
TZOFFSETTO:-0400
TZNAME:EDT
DTSTART:20220313T070000
END:DAYLIGHT
BEGIN:STANDARD
TZOFFSETFROM:-0400
TZOFFSETTO:-0500
TZNAME:EST
DTSTART:20221106T060000
END:STANDARD
BEGIN:DAYLIGHT
TZOFFSETFROM:-0500
TZOFFSETTO:-0400
TZNAME:EDT
DTSTART:20230312T070000
END:DAYLIGHT
BEGIN:STANDARD
TZOFFSETFROM:-0400
TZOFFSETTO:-0500
TZNAME:EST
DTSTART:20231105T060000
END:STANDARD
BEGIN:DAYLIGHT
TZOFFSETFROM:-0500
TZOFFSETTO:-0400
TZNAME:EDT
DTSTART:20240310T070000
END:DAYLIGHT
BEGIN:STANDARD
TZOFFSETFROM:-0400
TZOFFSETTO:-0500
TZNAME:EST
DTSTART:20241103T060000
END:STANDARD
BEGIN:DAYLIGHT
TZOFFSETFROM:-0500
TZOFFSETTO:-0400
TZNAME:EDT
DTSTART:20250309T070000
END:DAYLIGHT
BEGIN:STANDARD
TZOFFSETFROM:-0400
TZOFFSETTO:-0500
TZNAME:EST
DTSTART:20251102T060000
END:STANDARD
END:VTIMEZONE
BEGIN:VEVENT
DTSTART;TZID=America/New_York:20241218T120000
DTEND;TZID=America/New_York:20241218T140000
DTSTAMP:20260424T213105
CREATED:20241216T171637Z
LAST-MODIFIED:20241216T171637Z
UID:10008972-1734523200-1734530400@www.kofcutica.org
SUMMARY:Senior Knights Meeting
DESCRIPTION:
URL:https://www.kofcutica.org/event/senior-knights-meeting-2/2024-12-18/
LOCATION:New Hartford American Legion\, Middlesettlement Rd.\, New Hartford\, NY\, 13413\, United States
END:VEVENT
BEGIN:VEVENT
DTSTART;TZID=America/New_York:20241216T120000
DTEND;TZID=America/New_York:20241216T140000
DTSTAMP:20260424T213105
CREATED:20241216T171637Z
LAST-MODIFIED:20241216T171637Z
UID:10009110-1734350400-1734357600@www.kofcutica.org
SUMMARY:Senior Knights Meeting
DESCRIPTION:
URL:https://www.kofcutica.org/event/senior-knights-meeting-2/2024-12-16/
LOCATION:New Hartford American Legion\, Middlesettlement Rd.\, New Hartford\, NY\, 13413\, United States
END:VEVENT
BEGIN:VEVENT
DTSTART;TZID=America/New_York:20241127T120000
DTEND;TZID=America/New_York:20241127T140000
DTSTAMP:20260424T213105
CREATED:20241025T202249Z
LAST-MODIFIED:20241025T202249Z
UID:10008971-1732708800-1732716000@www.kofcutica.org
SUMMARY:Senior Knights Meeting
DESCRIPTION:
URL:https://www.kofcutica.org/event/senior-knights-meeting/
LOCATION:New Hartford American Legion\, Middlesettlement Rd.\, New Hartford\, NY\, 13413\, United States
END:VEVENT
BEGIN:VEVENT
DTSTART;TZID=America/New_York:20240228T120000
DTEND;TZID=America/New_York:20240228T140000
DTSTAMP:20260424T213105
CREATED:20240202T000507Z
LAST-MODIFIED:20240202T000507Z
UID:10008055-1709121600-1709128800@www.kofcutica.org
SUMMARY:Senior Knights Luncheon
DESCRIPTION:
URL:https://www.kofcutica.org/event/senior-knights-luncheon/
LOCATION:New Hartford American Legion\, Middlesettlement Rd.\, New Hartford\, NY\, 13413\, United States
END:VEVENT
BEGIN:VEVENT
DTSTART;TZID=America/New_York:20231129T120000
DTEND;TZID=America/New_York:20231129T140000
DTSTAMP:20260424T213105
CREATED:20231024T162711Z
LAST-MODIFIED:20231024T162711Z
UID:10007545-1701259200-1701266400@www.kofcutica.org
SUMMARY:Senior Nights Luncheon Meeting
DESCRIPTION:
URL:https://www.kofcutica.org/event/senior-nights-luncheon-meeting/
LOCATION:New Hartford American Legion\, Middlesettlement Rd.\, New Hartford\, NY\, 13413\, United States
END:VEVENT
BEGIN:VEVENT
DTSTART;TZID=America/New_York:20231025T120000
DTEND;TZID=America/New_York:20231025T140000
DTSTAMP:20260424T213105
CREATED:20230917T112633Z
LAST-MODIFIED:20230917T112633Z
UID:10007504-1698235200-1698242400@www.kofcutica.org
SUMMARY:Senior Nights Luncheon
DESCRIPTION:
URL:https://www.kofcutica.org/event/senior-nights-luncheon/
LOCATION:New Hartford American Legion\, Middlesettlement Rd.\, New Hartford\, NY\, 13413\, United States
END:VEVENT
END:VCALENDAR