BEGIN:VCALENDAR
VERSION:2.0
PRODID:-//The Knights of Columbus Council 189 - ECPv6.15.20//NONSGML v1.0//EN
CALSCALE:GREGORIAN
METHOD:PUBLISH
X-WR-CALNAME:The Knights of Columbus Council 189
X-ORIGINAL-URL:https://www.kofcutica.org
X-WR-CALDESC:Events for The Knights of Columbus Council 189
REFRESH-INTERVAL;VALUE=DURATION:PT1H
X-Robots-Tag:noindex
X-PUBLISHED-TTL:PT1H
BEGIN:VTIMEZONE
TZID:America/New_York
BEGIN:DAYLIGHT
TZOFFSETFROM:-0500
TZOFFSETTO:-0400
TZNAME:EDT
DTSTART:20240310T070000
END:DAYLIGHT
BEGIN:STANDARD
TZOFFSETFROM:-0400
TZOFFSETTO:-0500
TZNAME:EST
DTSTART:20241103T060000
END:STANDARD
BEGIN:DAYLIGHT
TZOFFSETFROM:-0500
TZOFFSETTO:-0400
TZNAME:EDT
DTSTART:20250309T070000
END:DAYLIGHT
BEGIN:STANDARD
TZOFFSETFROM:-0400
TZOFFSETTO:-0500
TZNAME:EST
DTSTART:20251102T060000
END:STANDARD
BEGIN:DAYLIGHT
TZOFFSETFROM:-0500
TZOFFSETTO:-0400
TZNAME:EDT
DTSTART:20260308T070000
END:DAYLIGHT
BEGIN:STANDARD
TZOFFSETFROM:-0400
TZOFFSETTO:-0500
TZNAME:EST
DTSTART:20261101T060000
END:STANDARD
BEGIN:DAYLIGHT
TZOFFSETFROM:-0500
TZOFFSETTO:-0400
TZNAME:EDT
DTSTART:20270314T070000
END:DAYLIGHT
BEGIN:STANDARD
TZOFFSETFROM:-0400
TZOFFSETTO:-0500
TZNAME:EST
DTSTART:20271107T060000
END:STANDARD
END:VTIMEZONE
BEGIN:VEVENT
DTSTART;TZID=America/New_York:20260422T100000
DTEND;TZID=America/New_York:20260422T120000
DTSTAMP:20260424T050722
CREATED:20250809T144619Z
LAST-MODIFIED:20250809T145108Z
UID:10010453-1776852000-1776859200@www.kofcutica.org
SUMMARY:Quilting Group 10 am to noon
DESCRIPTION:
URL:https://www.kofcutica.org/event/quilting-group-10-am-to-noon-2/2026-04-22/
LOCATION:Community room
END:VEVENT
BEGIN:VEVENT
DTSTART;TZID=America/New_York:20260415T100000
DTEND;TZID=America/New_York:20260415T120000
DTSTAMP:20260424T050722
CREATED:20250809T144619Z
LAST-MODIFIED:20250809T145108Z
UID:10010452-1776247200-1776254400@www.kofcutica.org
SUMMARY:Quilting Group 10 am to noon
DESCRIPTION:
URL:https://www.kofcutica.org/event/quilting-group-10-am-to-noon-2/2026-04-15/
LOCATION:Community room
END:VEVENT
BEGIN:VEVENT
DTSTART;TZID=America/New_York:20260408T100000
DTEND;TZID=America/New_York:20260408T120000
DTSTAMP:20260424T050722
CREATED:20250809T144619Z
LAST-MODIFIED:20250809T145108Z
UID:10010451-1775642400-1775649600@www.kofcutica.org
SUMMARY:Quilting Group 10 am to noon
DESCRIPTION:
URL:https://www.kofcutica.org/event/quilting-group-10-am-to-noon-2/2026-04-08/
LOCATION:Community room
END:VEVENT
BEGIN:VEVENT
DTSTART;TZID=America/New_York:20260401T100000
DTEND;TZID=America/New_York:20260401T120000
DTSTAMP:20260424T050722
CREATED:20250809T144619Z
LAST-MODIFIED:20250809T145108Z
UID:10010450-1775037600-1775044800@www.kofcutica.org
SUMMARY:Quilting Group 10 am to noon
DESCRIPTION:
URL:https://www.kofcutica.org/event/quilting-group-10-am-to-noon-2/2026-04-01/
LOCATION:Community room
END:VEVENT
BEGIN:VEVENT
DTSTART;TZID=America/New_York:20260325T100000
DTEND;TZID=America/New_York:20260325T120000
DTSTAMP:20260424T050722
CREATED:20250809T144619Z
LAST-MODIFIED:20250809T145108Z
UID:10010449-1774432800-1774440000@www.kofcutica.org
SUMMARY:Quilting Group 10 am to noon
DESCRIPTION:
URL:https://www.kofcutica.org/event/quilting-group-10-am-to-noon-2/2026-03-25/
LOCATION:Community room
END:VEVENT
BEGIN:VEVENT
DTSTART;TZID=America/New_York:20260318T100000
DTEND;TZID=America/New_York:20260318T120000
DTSTAMP:20260424T050722
CREATED:20250809T144619Z
LAST-MODIFIED:20250809T145108Z
UID:10010448-1773828000-1773835200@www.kofcutica.org
SUMMARY:Quilting Group 10 am to noon
DESCRIPTION:
URL:https://www.kofcutica.org/event/quilting-group-10-am-to-noon-2/2026-03-18/
LOCATION:Community room
END:VEVENT
BEGIN:VEVENT
DTSTART;TZID=America/New_York:20260311T100000
DTEND;TZID=America/New_York:20260311T120000
DTSTAMP:20260424T050722
CREATED:20250809T144619Z
LAST-MODIFIED:20250809T145108Z
UID:10010447-1773223200-1773230400@www.kofcutica.org
SUMMARY:Quilting Group 10 am to noon
DESCRIPTION:
URL:https://www.kofcutica.org/event/quilting-group-10-am-to-noon-2/2026-03-11/
LOCATION:Community room
END:VEVENT
BEGIN:VEVENT
DTSTART;TZID=America/New_York:20260304T100000
DTEND;TZID=America/New_York:20260304T120000
DTSTAMP:20260424T050722
CREATED:20250809T144619Z
LAST-MODIFIED:20250809T145108Z
UID:10010446-1772618400-1772625600@www.kofcutica.org
SUMMARY:Quilting Group 10 am to noon
DESCRIPTION:
URL:https://www.kofcutica.org/event/quilting-group-10-am-to-noon-2/2026-03-04/
LOCATION:Community room
END:VEVENT
BEGIN:VEVENT
DTSTART;TZID=America/New_York:20260225T100000
DTEND;TZID=America/New_York:20260225T120000
DTSTAMP:20260424T050722
CREATED:20250809T144619Z
LAST-MODIFIED:20250809T145108Z
UID:10010445-1772013600-1772020800@www.kofcutica.org
SUMMARY:Quilting Group 10 am to noon
DESCRIPTION:
URL:https://www.kofcutica.org/event/quilting-group-10-am-to-noon-2/2026-02-25/
LOCATION:Community room
END:VEVENT
BEGIN:VEVENT
DTSTART;TZID=America/New_York:20260218T100000
DTEND;TZID=America/New_York:20260218T120000
DTSTAMP:20260424T050722
CREATED:20250809T144619Z
LAST-MODIFIED:20250809T145108Z
UID:10010444-1771408800-1771416000@www.kofcutica.org
SUMMARY:Quilting Group 10 am to noon
DESCRIPTION:
URL:https://www.kofcutica.org/event/quilting-group-10-am-to-noon-2/2026-02-18/
LOCATION:Community room
END:VEVENT
BEGIN:VEVENT
DTSTART;TZID=America/New_York:20260211T100000
DTEND;TZID=America/New_York:20260211T120000
DTSTAMP:20260424T050723
CREATED:20250809T144619Z
LAST-MODIFIED:20250809T145108Z
UID:10010443-1770804000-1770811200@www.kofcutica.org
SUMMARY:Quilting Group 10 am to noon
DESCRIPTION:
URL:https://www.kofcutica.org/event/quilting-group-10-am-to-noon-2/2026-02-11/
LOCATION:Community room
END:VEVENT
BEGIN:VEVENT
DTSTART;TZID=America/New_York:20260204T100000
DTEND;TZID=America/New_York:20260204T120000
DTSTAMP:20260424T050723
CREATED:20250809T144619Z
LAST-MODIFIED:20250809T145108Z
UID:10010442-1770199200-1770206400@www.kofcutica.org
SUMMARY:Quilting Group 10 am to noon
DESCRIPTION:
URL:https://www.kofcutica.org/event/quilting-group-10-am-to-noon-2/2026-02-04/
LOCATION:Community room
END:VEVENT
BEGIN:VEVENT
DTSTART;TZID=America/New_York:20260128T100000
DTEND;TZID=America/New_York:20260128T120000
DTSTAMP:20260424T050723
CREATED:20250809T144619Z
LAST-MODIFIED:20250809T145108Z
UID:10010441-1769594400-1769601600@www.kofcutica.org
SUMMARY:Quilting Group 10 am to noon
DESCRIPTION:
URL:https://www.kofcutica.org/event/quilting-group-10-am-to-noon-2/2026-01-28/
LOCATION:Community room
END:VEVENT
BEGIN:VEVENT
DTSTART;TZID=America/New_York:20260121T100000
DTEND;TZID=America/New_York:20260121T120000
DTSTAMP:20260424T050723
CREATED:20250809T144619Z
LAST-MODIFIED:20250809T145108Z
UID:10010440-1768989600-1768996800@www.kofcutica.org
SUMMARY:Quilting Group 10 am to noon
DESCRIPTION:
URL:https://www.kofcutica.org/event/quilting-group-10-am-to-noon-2/2026-01-21/
LOCATION:Community room
END:VEVENT
BEGIN:VEVENT
DTSTART;TZID=America/New_York:20260114T100000
DTEND;TZID=America/New_York:20260114T120000
DTSTAMP:20260424T050723
CREATED:20250809T144619Z
LAST-MODIFIED:20250809T145108Z
UID:10010439-1768384800-1768392000@www.kofcutica.org
SUMMARY:Quilting Group 10 am to noon
DESCRIPTION:
URL:https://www.kofcutica.org/event/quilting-group-10-am-to-noon-2/2026-01-14/
LOCATION:Community room
END:VEVENT
BEGIN:VEVENT
DTSTART;TZID=America/New_York:20260107T100000
DTEND;TZID=America/New_York:20260107T120000
DTSTAMP:20260424T050723
CREATED:20250809T144619Z
LAST-MODIFIED:20250809T145108Z
UID:10010438-1767780000-1767787200@www.kofcutica.org
SUMMARY:Quilting Group 10 am to noon
DESCRIPTION:
URL:https://www.kofcutica.org/event/quilting-group-10-am-to-noon-2/2026-01-07/
LOCATION:Community room
END:VEVENT
BEGIN:VEVENT
DTSTART;TZID=America/New_York:20251217T100000
DTEND;TZID=America/New_York:20251217T120000
DTSTAMP:20260424T050723
CREATED:20250809T144619Z
LAST-MODIFIED:20250809T145108Z
UID:10010435-1765965600-1765972800@www.kofcutica.org
SUMMARY:Quilting Group 10 am to noon
DESCRIPTION:
URL:https://www.kofcutica.org/event/quilting-group-10-am-to-noon-2/2025-12-17/
LOCATION:Community room
END:VEVENT
BEGIN:VEVENT
DTSTART;TZID=America/New_York:20251210T100000
DTEND;TZID=America/New_York:20251210T120000
DTSTAMP:20260424T050723
CREATED:20250809T144619Z
LAST-MODIFIED:20250809T145108Z
UID:10010434-1765360800-1765368000@www.kofcutica.org
SUMMARY:Quilting Group 10 am to noon
DESCRIPTION:
URL:https://www.kofcutica.org/event/quilting-group-10-am-to-noon-2/2025-12-10/
LOCATION:Community room
END:VEVENT
BEGIN:VEVENT
DTSTART;TZID=America/New_York:20251203T100000
DTEND;TZID=America/New_York:20251203T120000
DTSTAMP:20260424T050723
CREATED:20250809T144619Z
LAST-MODIFIED:20250809T145108Z
UID:10010433-1764756000-1764763200@www.kofcutica.org
SUMMARY:Quilting Group 10 am to noon
DESCRIPTION:
URL:https://www.kofcutica.org/event/quilting-group-10-am-to-noon-2/2025-12-03/
LOCATION:Community room
END:VEVENT
BEGIN:VEVENT
DTSTART;TZID=America/New_York:20251126T100000
DTEND;TZID=America/New_York:20251126T120000
DTSTAMP:20260424T050723
CREATED:20250809T144619Z
LAST-MODIFIED:20250809T145108Z
UID:10010432-1764151200-1764158400@www.kofcutica.org
SUMMARY:Quilting Group 10 am to noon
DESCRIPTION:
URL:https://www.kofcutica.org/event/quilting-group-10-am-to-noon-2/2025-11-26/
LOCATION:Community room
END:VEVENT
BEGIN:VEVENT
DTSTART;TZID=America/New_York:20251119T100000
DTEND;TZID=America/New_York:20251119T120000
DTSTAMP:20260424T050723
CREATED:20250809T144619Z
LAST-MODIFIED:20250809T145108Z
UID:10010431-1763546400-1763553600@www.kofcutica.org
SUMMARY:Quilting Group 10 am to noon
DESCRIPTION:
URL:https://www.kofcutica.org/event/quilting-group-10-am-to-noon-2/2025-11-19/
LOCATION:Community room
END:VEVENT
BEGIN:VEVENT
DTSTART;TZID=America/New_York:20251112T100000
DTEND;TZID=America/New_York:20251112T120000
DTSTAMP:20260424T050723
CREATED:20250809T144619Z
LAST-MODIFIED:20250809T145108Z
UID:10010430-1762941600-1762948800@www.kofcutica.org
SUMMARY:Quilting Group 10 am to noon
DESCRIPTION:
URL:https://www.kofcutica.org/event/quilting-group-10-am-to-noon-2/2025-11-12/
LOCATION:Community room
END:VEVENT
BEGIN:VEVENT
DTSTART;TZID=America/New_York:20251105T100000
DTEND;TZID=America/New_York:20251105T120000
DTSTAMP:20260424T050723
CREATED:20250809T144619Z
LAST-MODIFIED:20250809T145108Z
UID:10010429-1762336800-1762344000@www.kofcutica.org
SUMMARY:Quilting Group 10 am to noon
DESCRIPTION:
URL:https://www.kofcutica.org/event/quilting-group-10-am-to-noon-2/2025-11-05/
LOCATION:Community room
END:VEVENT
BEGIN:VEVENT
DTSTART;TZID=America/New_York:20251029T100000
DTEND;TZID=America/New_York:20251029T120000
DTSTAMP:20260424T050723
CREATED:20250809T144619Z
LAST-MODIFIED:20250809T145108Z
UID:10010428-1761732000-1761739200@www.kofcutica.org
SUMMARY:Quilting Group 10 am to noon
DESCRIPTION:
URL:https://www.kofcutica.org/event/quilting-group-10-am-to-noon-2/2025-10-29/
LOCATION:Community room
END:VEVENT
BEGIN:VEVENT
DTSTART;TZID=America/New_York:20251022T100000
DTEND;TZID=America/New_York:20251022T120000
DTSTAMP:20260424T050723
CREATED:20250809T144619Z
LAST-MODIFIED:20250809T145108Z
UID:10010427-1761127200-1761134400@www.kofcutica.org
SUMMARY:Quilting Group 10 am to noon
DESCRIPTION:
URL:https://www.kofcutica.org/event/quilting-group-10-am-to-noon-2/2025-10-22/
LOCATION:Community room
END:VEVENT
BEGIN:VEVENT
DTSTART;TZID=America/New_York:20251015T100000
DTEND;TZID=America/New_York:20251015T120000
DTSTAMP:20260424T050723
CREATED:20250809T144619Z
LAST-MODIFIED:20250809T145108Z
UID:10010426-1760522400-1760529600@www.kofcutica.org
SUMMARY:Quilting Group 10 am to noon
DESCRIPTION:
URL:https://www.kofcutica.org/event/quilting-group-10-am-to-noon-2/2025-10-15/
LOCATION:Community room
END:VEVENT
BEGIN:VEVENT
DTSTART;TZID=America/New_York:20251008T100000
DTEND;TZID=America/New_York:20251008T120000
DTSTAMP:20260424T050723
CREATED:20250809T144619Z
LAST-MODIFIED:20250809T145108Z
UID:10010425-1759917600-1759924800@www.kofcutica.org
SUMMARY:Quilting Group 10 am to noon
DESCRIPTION:
URL:https://www.kofcutica.org/event/quilting-group-10-am-to-noon-2/2025-10-08/
LOCATION:Community room
END:VEVENT
BEGIN:VEVENT
DTSTART;TZID=America/New_York:20251001T100000
DTEND;TZID=America/New_York:20251001T120000
DTSTAMP:20260424T050723
CREATED:20250809T144619Z
LAST-MODIFIED:20250809T145108Z
UID:10010424-1759312800-1759320000@www.kofcutica.org
SUMMARY:Quilting Group 10 am to noon
DESCRIPTION:
URL:https://www.kofcutica.org/event/quilting-group-10-am-to-noon-2/2025-10-01/
LOCATION:Community room
END:VEVENT
BEGIN:VEVENT
DTSTART;TZID=America/New_York:20250924T100000
DTEND;TZID=America/New_York:20250924T120000
DTSTAMP:20260424T050723
CREATED:20250809T144619Z
LAST-MODIFIED:20250809T145108Z
UID:10010423-1758708000-1758715200@www.kofcutica.org
SUMMARY:Quilting Group 10 am to noon
DESCRIPTION:
URL:https://www.kofcutica.org/event/quilting-group-10-am-to-noon-2/2025-09-24/
LOCATION:Community room
END:VEVENT
BEGIN:VEVENT
DTSTART;TZID=America/New_York:20250917T100000
DTEND;TZID=America/New_York:20250917T120000
DTSTAMP:20260424T050723
CREATED:20250809T144619Z
LAST-MODIFIED:20250809T145108Z
UID:10010422-1758103200-1758110400@www.kofcutica.org
SUMMARY:Quilting Group 10 am to noon
DESCRIPTION:
URL:https://www.kofcutica.org/event/quilting-group-10-am-to-noon-2/2025-09-17/
LOCATION:Community room
END:VEVENT
END:VCALENDAR