BEGIN:VCALENDAR
VERSION:2.0
PRODID:-//The Knights of Columbus Council 189 - ECPv6.15.20//NONSGML v1.0//EN
CALSCALE:GREGORIAN
METHOD:PUBLISH
X-ORIGINAL-URL:https://www.kofcutica.org
X-WR-CALDESC:Events for The Knights of Columbus Council 189
REFRESH-INTERVAL;VALUE=DURATION:PT1H
X-Robots-Tag:noindex
X-PUBLISHED-TTL:PT1H
BEGIN:VTIMEZONE
TZID:America/New_York
BEGIN:DAYLIGHT
TZOFFSETFROM:-0500
TZOFFSETTO:-0400
TZNAME:EDT
DTSTART:20220313T070000
END:DAYLIGHT
BEGIN:STANDARD
TZOFFSETFROM:-0400
TZOFFSETTO:-0500
TZNAME:EST
DTSTART:20221106T060000
END:STANDARD
BEGIN:DAYLIGHT
TZOFFSETFROM:-0500
TZOFFSETTO:-0400
TZNAME:EDT
DTSTART:20230312T070000
END:DAYLIGHT
BEGIN:STANDARD
TZOFFSETFROM:-0400
TZOFFSETTO:-0500
TZNAME:EST
DTSTART:20231105T060000
END:STANDARD
BEGIN:DAYLIGHT
TZOFFSETFROM:-0500
TZOFFSETTO:-0400
TZNAME:EDT
DTSTART:20240310T070000
END:DAYLIGHT
BEGIN:STANDARD
TZOFFSETFROM:-0400
TZOFFSETTO:-0500
TZNAME:EST
DTSTART:20241103T060000
END:STANDARD
BEGIN:DAYLIGHT
TZOFFSETFROM:-0500
TZOFFSETTO:-0400
TZNAME:EDT
DTSTART:20250309T070000
END:DAYLIGHT
BEGIN:STANDARD
TZOFFSETFROM:-0400
TZOFFSETTO:-0500
TZNAME:EST
DTSTART:20251102T060000
END:STANDARD
BEGIN:DAYLIGHT
TZOFFSETFROM:-0500
TZOFFSETTO:-0400
TZNAME:EDT
DTSTART:20260308T070000
END:DAYLIGHT
BEGIN:STANDARD
TZOFFSETFROM:-0400
TZOFFSETTO:-0500
TZNAME:EST
DTSTART:20261101T060000
END:STANDARD
END:VTIMEZONE
BEGIN:VEVENT
DTSTART;TZID=America/New_York:20250330T080000
DTEND;TZID=America/New_York:20250330T100000
DTSTAMP:20260424T220707
CREATED:20250107T173031Z
LAST-MODIFIED:20250107T173031Z
UID:10009538-1743321600-1743328800@www.kofcutica.org
SUMMARY:Gym reserved 8:30 am to 10 am
DESCRIPTION:
URL:https://www.kofcutica.org/event/gym-reserved-830-am-to-10-am-2/2025-03-30/
LOCATION:Gym & Cafeteria
END:VEVENT
BEGIN:VEVENT
DTSTART;TZID=America/New_York:20250323T080000
DTEND;TZID=America/New_York:20250323T100000
DTSTAMP:20260424T220707
CREATED:20250107T173031Z
LAST-MODIFIED:20250107T173031Z
UID:10009537-1742716800-1742724000@www.kofcutica.org
SUMMARY:Gym reserved 8:30 am to 10 am
DESCRIPTION:
URL:https://www.kofcutica.org/event/gym-reserved-830-am-to-10-am-2/2025-03-23/
LOCATION:Gym & Cafeteria
END:VEVENT
BEGIN:VEVENT
DTSTART;TZID=America/New_York:20250316T080000
DTEND;TZID=America/New_York:20250316T100000
DTSTAMP:20260424T220707
CREATED:20250107T173031Z
LAST-MODIFIED:20250107T173031Z
UID:10009536-1742112000-1742119200@www.kofcutica.org
SUMMARY:Gym reserved 8:30 am to 10 am
DESCRIPTION:
URL:https://www.kofcutica.org/event/gym-reserved-830-am-to-10-am-2/2025-03-16/
LOCATION:Gym & Cafeteria
END:VEVENT
BEGIN:VEVENT
DTSTART;TZID=America/New_York:20250309T080000
DTEND;TZID=America/New_York:20250309T100000
DTSTAMP:20260424T220707
CREATED:20250107T173031Z
LAST-MODIFIED:20250107T173031Z
UID:10009535-1741507200-1741514400@www.kofcutica.org
SUMMARY:Gym reserved 8:30 am to 10 am
DESCRIPTION:
URL:https://www.kofcutica.org/event/gym-reserved-830-am-to-10-am-2/2025-03-09/
LOCATION:Gym & Cafeteria
END:VEVENT
BEGIN:VEVENT
DTSTART;TZID=America/New_York:20250302T080000
DTEND;TZID=America/New_York:20250302T100000
DTSTAMP:20260424T220707
CREATED:20250107T173031Z
LAST-MODIFIED:20250107T173031Z
UID:10009534-1740902400-1740909600@www.kofcutica.org
SUMMARY:Gym reserved 8:30 am to 10 am
DESCRIPTION:
URL:https://www.kofcutica.org/event/gym-reserved-830-am-to-10-am-2/2025-03-02/
LOCATION:Gym & Cafeteria
END:VEVENT
BEGIN:VEVENT
DTSTART;TZID=America/New_York:20250223T080000
DTEND;TZID=America/New_York:20250223T100000
DTSTAMP:20260424T220707
CREATED:20250107T173031Z
LAST-MODIFIED:20250107T173031Z
UID:10009533-1740297600-1740304800@www.kofcutica.org
SUMMARY:Gym reserved 8:30 am to 10 am
DESCRIPTION:
URL:https://www.kofcutica.org/event/gym-reserved-830-am-to-10-am-2/2025-02-23/
LOCATION:Gym & Cafeteria
END:VEVENT
BEGIN:VEVENT
DTSTART;TZID=America/New_York:20250216T080000
DTEND;TZID=America/New_York:20250216T100000
DTSTAMP:20260424T220707
CREATED:20250107T173031Z
LAST-MODIFIED:20250107T173031Z
UID:10009532-1739692800-1739700000@www.kofcutica.org
SUMMARY:Gym reserved 8:30 am to 10 am
DESCRIPTION:
URL:https://www.kofcutica.org/event/gym-reserved-830-am-to-10-am-2/2025-02-16/
LOCATION:Gym & Cafeteria
END:VEVENT
BEGIN:VEVENT
DTSTART;TZID=America/New_York:20250209T080000
DTEND;TZID=America/New_York:20250209T100000
DTSTAMP:20260424T220707
CREATED:20250107T173031Z
LAST-MODIFIED:20250107T173031Z
UID:10009531-1739088000-1739095200@www.kofcutica.org
SUMMARY:Gym reserved 8:30 am to 10 am
DESCRIPTION:
URL:https://www.kofcutica.org/event/gym-reserved-830-am-to-10-am-2/2025-02-09/
LOCATION:Gym & Cafeteria
END:VEVENT
BEGIN:VEVENT
DTSTART;TZID=America/New_York:20250202T080000
DTEND;TZID=America/New_York:20250202T100000
DTSTAMP:20260424T220707
CREATED:20250107T173031Z
LAST-MODIFIED:20250107T173031Z
UID:10009530-1738483200-1738490400@www.kofcutica.org
SUMMARY:Gym reserved 8:30 am to 10 am
DESCRIPTION:
URL:https://www.kofcutica.org/event/gym-reserved-830-am-to-10-am-2/2025-02-02/
LOCATION:Gym & Cafeteria
END:VEVENT
BEGIN:VEVENT
DTSTART;TZID=America/New_York:20250126T080000
DTEND;TZID=America/New_York:20250126T100000
DTSTAMP:20260424T220707
CREATED:20250107T173031Z
LAST-MODIFIED:20250107T173031Z
UID:10009529-1737878400-1737885600@www.kofcutica.org
SUMMARY:Gym reserved 8:30 am to 10 am
DESCRIPTION:
URL:https://www.kofcutica.org/event/gym-reserved-830-am-to-10-am-2/2025-01-26/
LOCATION:Gym & Cafeteria
END:VEVENT
BEGIN:VEVENT
DTSTART;TZID=America/New_York:20250119T080000
DTEND;TZID=America/New_York:20250119T100000
DTSTAMP:20260424T220707
CREATED:20250107T173031Z
LAST-MODIFIED:20250107T173031Z
UID:10009528-1737273600-1737280800@www.kofcutica.org
SUMMARY:Gym reserved 8:30 am to 10 am
DESCRIPTION:
URL:https://www.kofcutica.org/event/gym-reserved-830-am-to-10-am-2/2025-01-19/
LOCATION:Gym & Cafeteria
END:VEVENT
BEGIN:VEVENT
DTSTART;TZID=America/New_York:20241229T080000
DTEND;TZID=America/New_York:20241229T100000
DTSTAMP:20260424T220707
CREATED:20241129T204135Z
LAST-MODIFIED:20241129T204135Z
UID:10009100-1735459200-1735466400@www.kofcutica.org
SUMMARY:Gym Reserved from 8:30 am to 10 AM
DESCRIPTION:
URL:https://www.kofcutica.org/event/gym-reserved-from-830-am-to-10-am/2024-12-29/
LOCATION:Gym
END:VEVENT
BEGIN:VEVENT
DTSTART;TZID=America/New_York:20241222T080000
DTEND;TZID=America/New_York:20241222T100000
DTSTAMP:20260424T220707
CREATED:20241129T204135Z
LAST-MODIFIED:20241129T204135Z
UID:10009099-1734854400-1734861600@www.kofcutica.org
SUMMARY:Gym Reserved from 8:30 am to 10 AM
DESCRIPTION:
URL:https://www.kofcutica.org/event/gym-reserved-from-830-am-to-10-am/2024-12-22/
LOCATION:Gym
END:VEVENT
BEGIN:VEVENT
DTSTART;TZID=America/New_York:20241215T080000
DTEND;TZID=America/New_York:20241215T100000
DTSTAMP:20260424T220707
CREATED:20241129T204135Z
LAST-MODIFIED:20241129T204135Z
UID:10009098-1734249600-1734256800@www.kofcutica.org
SUMMARY:Gym Reserved from 8:30 am to 10 AM
DESCRIPTION:
URL:https://www.kofcutica.org/event/gym-reserved-from-830-am-to-10-am/2024-12-15/
LOCATION:Gym
END:VEVENT
BEGIN:VEVENT
DTSTART;TZID=America/New_York:20241201T080000
DTEND;TZID=America/New_York:20241201T100000
DTSTAMP:20260424T220707
CREATED:20241129T204135Z
LAST-MODIFIED:20241129T204135Z
UID:10009096-1733040000-1733047200@www.kofcutica.org
SUMMARY:Gym Reserved from 8:30 am to 10 AM
DESCRIPTION:
URL:https://www.kofcutica.org/event/gym-reserved-from-830-am-to-10-am/2024-12-01/
LOCATION:Gym
END:VEVENT
BEGIN:VEVENT
DTSTART;TZID=America/New_York:20240303T080000
DTEND;TZID=America/New_York:20240303T103000
DTSTAMP:20260424T220707
CREATED:20230202T182218Z
LAST-MODIFIED:20230202T183050Z
UID:10006284-1709452800-1709461800@www.kofcutica.org
SUMMARY:GYM Reserved from 8am to 10:30 am
DESCRIPTION:
URL:https://www.kofcutica.org/event/gym-reserved-from-8am-to-1030-am/2024-03-03/
LOCATION:Gym & Cafeteria
END:VEVENT
BEGIN:VEVENT
DTSTART;TZID=America/New_York:20240225T080000
DTEND;TZID=America/New_York:20240225T103000
DTSTAMP:20260424T220707
CREATED:20230202T182218Z
LAST-MODIFIED:20230202T183050Z
UID:10006283-1708848000-1708857000@www.kofcutica.org
SUMMARY:GYM Reserved from 8am to 10:30 am
DESCRIPTION:
URL:https://www.kofcutica.org/event/gym-reserved-from-8am-to-1030-am/2024-02-25/
LOCATION:Gym & Cafeteria
END:VEVENT
BEGIN:VEVENT
DTSTART;TZID=America/New_York:20240218T080000
DTEND;TZID=America/New_York:20240218T103000
DTSTAMP:20260424T220707
CREATED:20230202T182218Z
LAST-MODIFIED:20230202T183050Z
UID:10006282-1708243200-1708252200@www.kofcutica.org
SUMMARY:GYM Reserved from 8am to 10:30 am
DESCRIPTION:
URL:https://www.kofcutica.org/event/gym-reserved-from-8am-to-1030-am/2024-02-18/
LOCATION:Gym & Cafeteria
END:VEVENT
BEGIN:VEVENT
DTSTART;TZID=America/New_York:20240211T080000
DTEND;TZID=America/New_York:20240211T103000
DTSTAMP:20260424T220707
CREATED:20230202T182218Z
LAST-MODIFIED:20230202T183050Z
UID:10006281-1707638400-1707647400@www.kofcutica.org
SUMMARY:GYM Reserved from 8am to 10:30 am
DESCRIPTION:
URL:https://www.kofcutica.org/event/gym-reserved-from-8am-to-1030-am/2024-02-11/
LOCATION:Gym & Cafeteria
END:VEVENT
BEGIN:VEVENT
DTSTART;TZID=America/New_York:20240204T080000
DTEND;TZID=America/New_York:20240204T103000
DTSTAMP:20260424T220707
CREATED:20230202T182218Z
LAST-MODIFIED:20230202T183050Z
UID:10006280-1707033600-1707042600@www.kofcutica.org
SUMMARY:GYM Reserved from 8am to 10:30 am
DESCRIPTION:
URL:https://www.kofcutica.org/event/gym-reserved-from-8am-to-1030-am/2024-02-04/
LOCATION:Gym & Cafeteria
END:VEVENT
BEGIN:VEVENT
DTSTART;TZID=America/New_York:20240128T080000
DTEND;TZID=America/New_York:20240128T103000
DTSTAMP:20260424T220707
CREATED:20230202T182218Z
LAST-MODIFIED:20230202T183050Z
UID:10006279-1706428800-1706437800@www.kofcutica.org
SUMMARY:GYM Reserved from 8am to 10:30 am
DESCRIPTION:
URL:https://www.kofcutica.org/event/gym-reserved-from-8am-to-1030-am/2024-01-28/
LOCATION:Gym & Cafeteria
END:VEVENT
BEGIN:VEVENT
DTSTART;TZID=America/New_York:20240121T080000
DTEND;TZID=America/New_York:20240121T103000
DTSTAMP:20260424T220707
CREATED:20230202T182218Z
LAST-MODIFIED:20230202T183050Z
UID:10006278-1705824000-1705833000@www.kofcutica.org
SUMMARY:GYM Reserved from 8am to 10:30 am
DESCRIPTION:
URL:https://www.kofcutica.org/event/gym-reserved-from-8am-to-1030-am/2024-01-21/
LOCATION:Gym & Cafeteria
END:VEVENT
BEGIN:VEVENT
DTSTART;TZID=America/New_York:20240114T080000
DTEND;TZID=America/New_York:20240114T103000
DTSTAMP:20260424T220707
CREATED:20230202T182218Z
LAST-MODIFIED:20230202T183050Z
UID:10006277-1705219200-1705228200@www.kofcutica.org
SUMMARY:GYM Reserved from 8am to 10:30 am
DESCRIPTION:
URL:https://www.kofcutica.org/event/gym-reserved-from-8am-to-1030-am/2024-01-14/
LOCATION:Gym & Cafeteria
END:VEVENT
BEGIN:VEVENT
DTSTART;TZID=America/New_York:20240107T080000
DTEND;TZID=America/New_York:20240107T103000
DTSTAMP:20260424T220707
CREATED:20230202T182218Z
LAST-MODIFIED:20230202T183050Z
UID:10006276-1704614400-1704623400@www.kofcutica.org
SUMMARY:GYM Reserved from 8am to 10:30 am
DESCRIPTION:
URL:https://www.kofcutica.org/event/gym-reserved-from-8am-to-1030-am/2024-01-07/
LOCATION:Gym & Cafeteria
END:VEVENT
BEGIN:VEVENT
DTSTART;TZID=America/New_York:20231231T080000
DTEND;TZID=America/New_York:20231231T103000
DTSTAMP:20260424T220707
CREATED:20230202T182218Z
LAST-MODIFIED:20230202T183050Z
UID:10006275-1704009600-1704018600@www.kofcutica.org
SUMMARY:GYM Reserved from 8am to 10:30 am
DESCRIPTION:
URL:https://www.kofcutica.org/event/gym-reserved-from-8am-to-1030-am/2023-12-31/
LOCATION:Gym & Cafeteria
END:VEVENT
BEGIN:VEVENT
DTSTART;TZID=America/New_York:20231224T080000
DTEND;TZID=America/New_York:20231224T103000
DTSTAMP:20260424T220707
CREATED:20230202T182218Z
LAST-MODIFIED:20230202T183050Z
UID:10006274-1703404800-1703413800@www.kofcutica.org
SUMMARY:GYM Reserved from 8am to 10:30 am
DESCRIPTION:
URL:https://www.kofcutica.org/event/gym-reserved-from-8am-to-1030-am/2023-12-24/
LOCATION:Gym & Cafeteria
END:VEVENT
BEGIN:VEVENT
DTSTART;TZID=America/New_York:20231210T080000
DTEND;TZID=America/New_York:20231210T103000
DTSTAMP:20260424T220707
CREATED:20230202T182218Z
LAST-MODIFIED:20230202T183050Z
UID:10006272-1702195200-1702204200@www.kofcutica.org
SUMMARY:GYM Reserved from 8am to 10:30 am
DESCRIPTION:
URL:https://www.kofcutica.org/event/gym-reserved-from-8am-to-1030-am/2023-12-10/
LOCATION:Gym & Cafeteria
END:VEVENT
BEGIN:VEVENT
DTSTART;TZID=America/New_York:20231203T080000
DTEND;TZID=America/New_York:20231203T103000
DTSTAMP:20260424T220707
CREATED:20230202T182218Z
LAST-MODIFIED:20230202T183050Z
UID:10006271-1701590400-1701599400@www.kofcutica.org
SUMMARY:GYM Reserved from 8am to 10:30 am
DESCRIPTION:
URL:https://www.kofcutica.org/event/gym-reserved-from-8am-to-1030-am/2023-12-03/
LOCATION:Gym & Cafeteria
END:VEVENT
BEGIN:VEVENT
DTSTART;TZID=America/New_York:20231126T080000
DTEND;TZID=America/New_York:20231126T103000
DTSTAMP:20260424T220707
CREATED:20230202T182218Z
LAST-MODIFIED:20230202T183050Z
UID:10006270-1700985600-1700994600@www.kofcutica.org
SUMMARY:GYM Reserved from 8am to 10:30 am
DESCRIPTION:
URL:https://www.kofcutica.org/event/gym-reserved-from-8am-to-1030-am/2023-11-26/
LOCATION:Gym & Cafeteria
END:VEVENT
BEGIN:VEVENT
DTSTART;TZID=America/New_York:20231119T080000
DTEND;TZID=America/New_York:20231119T103000
DTSTAMP:20260424T220707
CREATED:20230202T182218Z
LAST-MODIFIED:20230202T183050Z
UID:10006269-1700380800-1700389800@www.kofcutica.org
SUMMARY:GYM Reserved from 8am to 10:30 am
DESCRIPTION:
URL:https://www.kofcutica.org/event/gym-reserved-from-8am-to-1030-am/2023-11-19/
LOCATION:Gym & Cafeteria
END:VEVENT
END:VCALENDAR