BEGIN:VCALENDAR
VERSION:2.0
PRODID:-//The Knights of Columbus Council 189 - ECPv6.15.20//NONSGML v1.0//EN
CALSCALE:GREGORIAN
METHOD:PUBLISH
X-ORIGINAL-URL:https://www.kofcutica.org
X-WR-CALDESC:Events for The Knights of Columbus Council 189
REFRESH-INTERVAL;VALUE=DURATION:PT1H
X-Robots-Tag:noindex
X-PUBLISHED-TTL:PT1H
BEGIN:VTIMEZONE
TZID:America/New_York
BEGIN:DAYLIGHT
TZOFFSETFROM:-0500
TZOFFSETTO:-0400
TZNAME:EDT
DTSTART:20210314T070000
END:DAYLIGHT
BEGIN:STANDARD
TZOFFSETFROM:-0400
TZOFFSETTO:-0500
TZNAME:EST
DTSTART:20211107T060000
END:STANDARD
BEGIN:DAYLIGHT
TZOFFSETFROM:-0500
TZOFFSETTO:-0400
TZNAME:EDT
DTSTART:20220313T070000
END:DAYLIGHT
BEGIN:STANDARD
TZOFFSETFROM:-0400
TZOFFSETTO:-0500
TZNAME:EST
DTSTART:20221106T060000
END:STANDARD
BEGIN:DAYLIGHT
TZOFFSETFROM:-0500
TZOFFSETTO:-0400
TZNAME:EDT
DTSTART:20230312T070000
END:DAYLIGHT
BEGIN:STANDARD
TZOFFSETFROM:-0400
TZOFFSETTO:-0500
TZNAME:EST
DTSTART:20231105T060000
END:STANDARD
BEGIN:DAYLIGHT
TZOFFSETFROM:-0500
TZOFFSETTO:-0400
TZNAME:EDT
DTSTART:20240310T070000
END:DAYLIGHT
BEGIN:STANDARD
TZOFFSETFROM:-0400
TZOFFSETTO:-0500
TZNAME:EST
DTSTART:20241103T060000
END:STANDARD
END:VTIMEZONE
BEGIN:VEVENT
DTSTART;TZID=America/New_York:20231007T120000
DTEND;TZID=America/New_York:20231007T170000
DTSTAMP:20260424T171449
CREATED:20230802T005821Z
LAST-MODIFIED:20230802T005821Z
UID:10006853-1696680000-1696698000@www.kofcutica.org
SUMMARY:Reserved for Event noon to5 pm
DESCRIPTION:
URL:https://www.kofcutica.org/event/reserved-for-event-noon-to5-pm/
LOCATION:Gym\, cafateria\, kitchen
END:VEVENT
BEGIN:VEVENT
DTSTART;TZID=America/New_York:20230218T120000
DTEND;TZID=America/New_York:20230218T170000
DTSTAMP:20260424T171449
CREATED:20230112T131524Z
LAST-MODIFIED:20230112T131524Z
UID:10006218-1676721600-1676739600@www.kofcutica.org
SUMMARY:Reserved for Event noon to 5 pm
DESCRIPTION:
URL:https://www.kofcutica.org/event/reserved-for-event-noon-to-5-pm/
LOCATION:Gym & Cafeteria
END:VEVENT
BEGIN:VEVENT
DTSTART;TZID=America/New_York:20220628T180000
DTEND;TZID=America/New_York:20220628T200000
DTSTAMP:20260424T171449
CREATED:20220525T213112Z
LAST-MODIFIED:20220525T213112Z
UID:10006026-1656439200-1656446400@www.kofcutica.org
SUMMARY:4th Degree Meeting
DESCRIPTION:
URL:https://www.kofcutica.org/event/4th-degree-meeting-21/
LOCATION:4th Degree Chambers
END:VEVENT
BEGIN:VEVENT
DTSTART;TZID=America/New_York:20220605T100000
DTEND;TZID=America/New_York:20220605T170000
DTSTAMP:20260424T171449
CREATED:20220503T234933Z
LAST-MODIFIED:20220503T234933Z
UID:10006017-1654423200-1654448400@www.kofcutica.org
SUMMARY:Gym reserved for Event 10 am to 5 pm
DESCRIPTION:
URL:https://www.kofcutica.org/event/gym-reserved-for-event-10-am-to-5-pm/
LOCATION:Gym & Cafeteria
END:VEVENT
BEGIN:VEVENT
DTSTART;TZID=America/New_York:20220222T183000
DTEND;TZID=America/New_York:20220222T200000
DTSTAMP:20260424T171449
CREATED:20220117T182229Z
LAST-MODIFIED:20220117T182229Z
UID:10005928-1645554600-1645560000@www.kofcutica.org
SUMMARY:4th Degree Meeting
DESCRIPTION:
URL:https://www.kofcutica.org/event/4th-degree-meeting-18/
LOCATION:4th Degree Chambers
END:VEVENT
END:VCALENDAR