BEGIN:VCALENDAR
VERSION:2.0
PRODID:-//The Knights of Columbus Council 189 - ECPv6.15.20//NONSGML v1.0//EN
CALSCALE:GREGORIAN
METHOD:PUBLISH
X-ORIGINAL-URL:https://www.kofcutica.org
X-WR-CALDESC:Events for The Knights of Columbus Council 189
REFRESH-INTERVAL;VALUE=DURATION:PT1H
X-Robots-Tag:noindex
X-PUBLISHED-TTL:PT1H
BEGIN:VTIMEZONE
TZID:America/New_York
BEGIN:DAYLIGHT
TZOFFSETFROM:-0500
TZOFFSETTO:-0400
TZNAME:EDT
DTSTART:20230312T070000
END:DAYLIGHT
BEGIN:STANDARD
TZOFFSETFROM:-0400
TZOFFSETTO:-0500
TZNAME:EST
DTSTART:20231105T060000
END:STANDARD
BEGIN:DAYLIGHT
TZOFFSETFROM:-0500
TZOFFSETTO:-0400
TZNAME:EDT
DTSTART:20240310T070000
END:DAYLIGHT
BEGIN:STANDARD
TZOFFSETFROM:-0400
TZOFFSETTO:-0500
TZNAME:EST
DTSTART:20241103T060000
END:STANDARD
BEGIN:DAYLIGHT
TZOFFSETFROM:-0500
TZOFFSETTO:-0400
TZNAME:EDT
DTSTART:20250309T070000
END:DAYLIGHT
BEGIN:STANDARD
TZOFFSETFROM:-0400
TZOFFSETTO:-0500
TZNAME:EST
DTSTART:20251102T060000
END:STANDARD
BEGIN:DAYLIGHT
TZOFFSETFROM:-0500
TZOFFSETTO:-0400
TZNAME:EDT
DTSTART:20260308T070000
END:DAYLIGHT
BEGIN:STANDARD
TZOFFSETFROM:-0400
TZOFFSETTO:-0500
TZNAME:EST
DTSTART:20261101T060000
END:STANDARD
END:VTIMEZONE
BEGIN:VEVENT
DTSTART;TZID=America/New_York:20251223T100000
DTEND;TZID=America/New_York:20251223T123000
DTSTAMP:20260424T144217
CREATED:20251206T131758Z
LAST-MODIFIED:20260106T142925Z
UID:10012155-1766484000-1766493000@www.kofcutica.org
SUMMARY:Pickleball 11:30 amto 12:30 pm
DESCRIPTION:
URL:https://www.kofcutica.org/event/pickleball-1030am-to-1230pm/2025-12-23/
LOCATION:Gym & Cafeteria
END:VEVENT
BEGIN:VEVENT
DTSTART;TZID=America/New_York:20251216T100000
DTEND;TZID=America/New_York:20251216T123000
DTSTAMP:20260424T144217
CREATED:20251206T131758Z
LAST-MODIFIED:20260106T142925Z
UID:10012154-1765879200-1765888200@www.kofcutica.org
SUMMARY:Pickleball 11:30 amto 12:30 pm
DESCRIPTION:
URL:https://www.kofcutica.org/event/pickleball-1030am-to-1230pm/2025-12-16/
LOCATION:Gym & Cafeteria
END:VEVENT
BEGIN:VEVENT
DTSTART;TZID=America/New_York:20251209T100000
DTEND;TZID=America/New_York:20251209T123000
DTSTAMP:20260424T144217
CREATED:20251206T131758Z
LAST-MODIFIED:20260106T142925Z
UID:10012153-1765274400-1765283400@www.kofcutica.org
SUMMARY:Pickleball 11:30 amto 12:30 pm
DESCRIPTION:
URL:https://www.kofcutica.org/event/pickleball-1030am-to-1230pm/2025-12-09/
LOCATION:Gym & Cafeteria
END:VEVENT
BEGIN:VEVENT
DTSTART;TZID=America/New_York:20251201T103000
DTEND;TZID=America/New_York:20251201T123000
DTSTAMP:20260424T144217
CREATED:20251129T153003Z
LAST-MODIFIED:20251129T153003Z
UID:10010993-1764585000-1764592200@www.kofcutica.org
SUMMARY:Pickleball 10:30 am to 12:30
DESCRIPTION:
URL:https://www.kofcutica.org/event/pickleball-1030-am-to-1230/
LOCATION:Gym
END:VEVENT
BEGIN:VEVENT
DTSTART;TZID=America/New_York:20251125T103000
DTEND;TZID=America/New_York:20251125T123000
DTSTAMP:20260424T144217
CREATED:20251124T124235Z
LAST-MODIFIED:20251124T124235Z
UID:10010988-1764066600-1764073800@www.kofcutica.org
SUMMARY:Pickleball 10:30 am to 12:30 pm
DESCRIPTION:
URL:https://www.kofcutica.org/event/pickleball-1030-am-to-1230-pm/
LOCATION:Gym & Cafeteria
END:VEVENT
BEGIN:VEVENT
DTSTART;TZID=America/New_York:20250522T113000
DTEND;TZID=America/New_York:20250522T130000
DTSTAMP:20260424T144217
CREATED:20250520T200150Z
LAST-MODIFIED:20250520T200150Z
UID:10010220-1747913400-1747918800@www.kofcutica.org
SUMMARY:Pickleball 11 am to 1 pm
DESCRIPTION:
URL:https://www.kofcutica.org/event/pickleball-11-am-to-1-pm-3/
LOCATION:Gym
END:VEVENT
BEGIN:VEVENT
DTSTART;TZID=America/New_York:20250520T100000
DTEND;TZID=America/New_York:20250520T120000
DTSTAMP:20260424T144217
CREATED:20250519T163153Z
LAST-MODIFIED:20250519T163153Z
UID:10010219-1747735200-1747742400@www.kofcutica.org
SUMMARY:Pickleball from 10am to noon
DESCRIPTION:
URL:https://www.kofcutica.org/event/pickleball-from-10am-to-noon/
LOCATION:Gym
END:VEVENT
BEGIN:VEVENT
DTSTART;TZID=America/New_York:20250320T110000
DTEND;TZID=America/New_York:20250320T130000
DTSTAMP:20260424T144217
CREATED:20241113T125629Z
LAST-MODIFIED:20241113T125629Z
UID:10009028-1742468400-1742475600@www.kofcutica.org
SUMMARY:Pickleball 11am to 1 pm
DESCRIPTION:
URL:https://www.kofcutica.org/event/pickleball-11am-to-1-pm/2025-03-20/
LOCATION:Gym & Cafeteria
END:VEVENT
BEGIN:VEVENT
DTSTART;TZID=America/New_York:20250318T110000
DTEND;TZID=America/New_York:20250318T130000
DTSTAMP:20260424T144217
CREATED:20241113T125629Z
LAST-MODIFIED:20241113T125629Z
UID:10009027-1742295600-1742302800@www.kofcutica.org
SUMMARY:Pickleball 11am to 1 pm
DESCRIPTION:
URL:https://www.kofcutica.org/event/pickleball-11am-to-1-pm/2025-03-18/
LOCATION:Gym & Cafeteria
END:VEVENT
BEGIN:VEVENT
DTSTART;TZID=America/New_York:20250313T110000
DTEND;TZID=America/New_York:20250313T130000
DTSTAMP:20260424T144217
CREATED:20241113T125629Z
LAST-MODIFIED:20241113T125629Z
UID:10009026-1741863600-1741870800@www.kofcutica.org
SUMMARY:Pickleball 11am to 1 pm
DESCRIPTION:
URL:https://www.kofcutica.org/event/pickleball-11am-to-1-pm/2025-03-13/
LOCATION:Gym & Cafeteria
END:VEVENT
BEGIN:VEVENT
DTSTART;TZID=America/New_York:20250311T110000
DTEND;TZID=America/New_York:20250311T130000
DTSTAMP:20260424T144217
CREATED:20241113T125629Z
LAST-MODIFIED:20241113T125629Z
UID:10009025-1741690800-1741698000@www.kofcutica.org
SUMMARY:Pickleball 11am to 1 pm
DESCRIPTION:
URL:https://www.kofcutica.org/event/pickleball-11am-to-1-pm/2025-03-11/
LOCATION:Gym & Cafeteria
END:VEVENT
BEGIN:VEVENT
DTSTART;TZID=America/New_York:20250306T110000
DTEND;TZID=America/New_York:20250306T130000
DTSTAMP:20260424T144217
CREATED:20241113T125629Z
LAST-MODIFIED:20241113T125629Z
UID:10009024-1741258800-1741266000@www.kofcutica.org
SUMMARY:Pickleball 11am to 1 pm
DESCRIPTION:
URL:https://www.kofcutica.org/event/pickleball-11am-to-1-pm/2025-03-06/
LOCATION:Gym & Cafeteria
END:VEVENT
BEGIN:VEVENT
DTSTART;TZID=America/New_York:20250304T110000
DTEND;TZID=America/New_York:20250304T130000
DTSTAMP:20260424T144218
CREATED:20241113T125629Z
LAST-MODIFIED:20241113T125629Z
UID:10009023-1741086000-1741093200@www.kofcutica.org
SUMMARY:Pickleball 11am to 1 pm
DESCRIPTION:
URL:https://www.kofcutica.org/event/pickleball-11am-to-1-pm/2025-03-04/
LOCATION:Gym & Cafeteria
END:VEVENT
BEGIN:VEVENT
DTSTART;TZID=America/New_York:20250227T110000
DTEND;TZID=America/New_York:20250227T130000
DTSTAMP:20260424T144218
CREATED:20241113T125629Z
LAST-MODIFIED:20241113T125629Z
UID:10009022-1740654000-1740661200@www.kofcutica.org
SUMMARY:Pickleball 11am to 1 pm
DESCRIPTION:
URL:https://www.kofcutica.org/event/pickleball-11am-to-1-pm/2025-02-27/
LOCATION:Gym & Cafeteria
END:VEVENT
BEGIN:VEVENT
DTSTART;TZID=America/New_York:20250225T110000
DTEND;TZID=America/New_York:20250225T130000
DTSTAMP:20260424T144218
CREATED:20241113T125629Z
LAST-MODIFIED:20241113T125629Z
UID:10009021-1740481200-1740488400@www.kofcutica.org
SUMMARY:Pickleball 11am to 1 pm
DESCRIPTION:
URL:https://www.kofcutica.org/event/pickleball-11am-to-1-pm/2025-02-25/
LOCATION:Gym & Cafeteria
END:VEVENT
BEGIN:VEVENT
DTSTART;TZID=America/New_York:20250220T110000
DTEND;TZID=America/New_York:20250220T130000
DTSTAMP:20260424T144218
CREATED:20241113T125629Z
LAST-MODIFIED:20241113T125629Z
UID:10009020-1740049200-1740056400@www.kofcutica.org
SUMMARY:Pickleball 11am to 1 pm
DESCRIPTION:
URL:https://www.kofcutica.org/event/pickleball-11am-to-1-pm/2025-02-20/
LOCATION:Gym & Cafeteria
END:VEVENT
BEGIN:VEVENT
DTSTART;TZID=America/New_York:20250213T110000
DTEND;TZID=America/New_York:20250213T130000
DTSTAMP:20260424T144218
CREATED:20241113T125629Z
LAST-MODIFIED:20241113T125629Z
UID:10009018-1739444400-1739451600@www.kofcutica.org
SUMMARY:Pickleball 11am to 1 pm
DESCRIPTION:
URL:https://www.kofcutica.org/event/pickleball-11am-to-1-pm/2025-02-13/
LOCATION:Gym & Cafeteria
END:VEVENT
BEGIN:VEVENT
DTSTART;TZID=America/New_York:20250211T110000
DTEND;TZID=America/New_York:20250211T130000
DTSTAMP:20260424T144218
CREATED:20241113T125629Z
LAST-MODIFIED:20241113T125629Z
UID:10009017-1739271600-1739278800@www.kofcutica.org
SUMMARY:Pickleball 11am to 1 pm
DESCRIPTION:
URL:https://www.kofcutica.org/event/pickleball-11am-to-1-pm/2025-02-11/
LOCATION:Gym & Cafeteria
END:VEVENT
BEGIN:VEVENT
DTSTART;TZID=America/New_York:20250206T110000
DTEND;TZID=America/New_York:20250206T130000
DTSTAMP:20260424T144218
CREATED:20241113T125629Z
LAST-MODIFIED:20241113T125629Z
UID:10009016-1738839600-1738846800@www.kofcutica.org
SUMMARY:Pickleball 11am to 1 pm
DESCRIPTION:
URL:https://www.kofcutica.org/event/pickleball-11am-to-1-pm/2025-02-06/
LOCATION:Gym & Cafeteria
END:VEVENT
BEGIN:VEVENT
DTSTART;TZID=America/New_York:20250204T110000
DTEND;TZID=America/New_York:20250204T130000
DTSTAMP:20260424T144218
CREATED:20241113T125629Z
LAST-MODIFIED:20241113T125629Z
UID:10009015-1738666800-1738674000@www.kofcutica.org
SUMMARY:Pickleball 11am to 1 pm
DESCRIPTION:
URL:https://www.kofcutica.org/event/pickleball-11am-to-1-pm/2025-02-04/
LOCATION:Gym & Cafeteria
END:VEVENT
BEGIN:VEVENT
DTSTART;TZID=America/New_York:20250130T110000
DTEND;TZID=America/New_York:20250130T130000
DTSTAMP:20260424T144218
CREATED:20241113T125629Z
LAST-MODIFIED:20241113T125629Z
UID:10009014-1738234800-1738242000@www.kofcutica.org
SUMMARY:Pickleball 11am to 1 pm
DESCRIPTION:
URL:https://www.kofcutica.org/event/pickleball-11am-to-1-pm/2025-01-30/
LOCATION:Gym & Cafeteria
END:VEVENT
BEGIN:VEVENT
DTSTART;TZID=America/New_York:20250128T110000
DTEND;TZID=America/New_York:20250128T130000
DTSTAMP:20260424T144218
CREATED:20241113T125629Z
LAST-MODIFIED:20241113T125629Z
UID:10009013-1738062000-1738069200@www.kofcutica.org
SUMMARY:Pickleball 11am to 1 pm
DESCRIPTION:
URL:https://www.kofcutica.org/event/pickleball-11am-to-1-pm/2025-01-28/
LOCATION:Gym & Cafeteria
END:VEVENT
BEGIN:VEVENT
DTSTART;TZID=America/New_York:20250123T110000
DTEND;TZID=America/New_York:20250123T130000
DTSTAMP:20260424T144218
CREATED:20241113T125629Z
LAST-MODIFIED:20241113T125629Z
UID:10009012-1737630000-1737637200@www.kofcutica.org
SUMMARY:Pickleball 11am to 1 pm
DESCRIPTION:
URL:https://www.kofcutica.org/event/pickleball-11am-to-1-pm/2025-01-23/
LOCATION:Gym & Cafeteria
END:VEVENT
BEGIN:VEVENT
DTSTART;TZID=America/New_York:20250121T110000
DTEND;TZID=America/New_York:20250121T130000
DTSTAMP:20260424T144218
CREATED:20241113T125629Z
LAST-MODIFIED:20241113T125629Z
UID:10009011-1737457200-1737464400@www.kofcutica.org
SUMMARY:Pickleball 11am to 1 pm
DESCRIPTION:
URL:https://www.kofcutica.org/event/pickleball-11am-to-1-pm/2025-01-21/
LOCATION:Gym & Cafeteria
END:VEVENT
BEGIN:VEVENT
DTSTART;TZID=America/New_York:20250116T110000
DTEND;TZID=America/New_York:20250116T130000
DTSTAMP:20260424T144218
CREATED:20241113T125629Z
LAST-MODIFIED:20241113T125629Z
UID:10009010-1737025200-1737032400@www.kofcutica.org
SUMMARY:Pickleball 11am to 1 pm
DESCRIPTION:
URL:https://www.kofcutica.org/event/pickleball-11am-to-1-pm/2025-01-16/
LOCATION:Gym & Cafeteria
END:VEVENT
BEGIN:VEVENT
DTSTART;TZID=America/New_York:20250114T110000
DTEND;TZID=America/New_York:20250114T130000
DTSTAMP:20260424T144218
CREATED:20241113T125629Z
LAST-MODIFIED:20241113T125629Z
UID:10009009-1736852400-1736859600@www.kofcutica.org
SUMMARY:Pickleball 11am to 1 pm
DESCRIPTION:
URL:https://www.kofcutica.org/event/pickleball-11am-to-1-pm/2025-01-14/
LOCATION:Gym & Cafeteria
END:VEVENT
BEGIN:VEVENT
DTSTART;TZID=America/New_York:20250109T110000
DTEND;TZID=America/New_York:20250109T130000
DTSTAMP:20260424T144218
CREATED:20241113T125629Z
LAST-MODIFIED:20241113T125629Z
UID:10009008-1736420400-1736427600@www.kofcutica.org
SUMMARY:Pickleball 11am to 1 pm
DESCRIPTION:
URL:https://www.kofcutica.org/event/pickleball-11am-to-1-pm/2025-01-09/
LOCATION:Gym & Cafeteria
END:VEVENT
BEGIN:VEVENT
DTSTART;TZID=America/New_York:20250107T110000
DTEND;TZID=America/New_York:20250107T130000
DTSTAMP:20260424T144218
CREATED:20241113T125629Z
LAST-MODIFIED:20241113T125629Z
UID:10009007-1736247600-1736254800@www.kofcutica.org
SUMMARY:Pickleball 11am to 1 pm
DESCRIPTION:
URL:https://www.kofcutica.org/event/pickleball-11am-to-1-pm/2025-01-07/
LOCATION:Gym & Cafeteria
END:VEVENT
BEGIN:VEVENT
DTSTART;TZID=America/New_York:20250102T110000
DTEND;TZID=America/New_York:20250102T130000
DTSTAMP:20260424T144218
CREATED:20241113T125629Z
LAST-MODIFIED:20241113T125629Z
UID:10009006-1735815600-1735822800@www.kofcutica.org
SUMMARY:Pickleball 11am to 1 pm
DESCRIPTION:
URL:https://www.kofcutica.org/event/pickleball-11am-to-1-pm/2025-01-02/
LOCATION:Gym & Cafeteria
END:VEVENT
BEGIN:VEVENT
DTSTART;TZID=America/New_York:20241231T110000
DTEND;TZID=America/New_York:20241231T130000
DTSTAMP:20260424T144218
CREATED:20241113T125629Z
LAST-MODIFIED:20241113T125629Z
UID:10009005-1735642800-1735650000@www.kofcutica.org
SUMMARY:Pickleball 11am to 1 pm
DESCRIPTION:
URL:https://www.kofcutica.org/event/pickleball-11am-to-1-pm/2024-12-31/
LOCATION:Gym & Cafeteria
END:VEVENT
END:VCALENDAR