BEGIN:VCALENDAR
VERSION:2.0
PRODID:-//The Knights of Columbus Council 189 - ECPv6.15.20//NONSGML v1.0//EN
CALSCALE:GREGORIAN
METHOD:PUBLISH
X-ORIGINAL-URL:https://www.kofcutica.org
X-WR-CALDESC:Events for The Knights of Columbus Council 189
REFRESH-INTERVAL;VALUE=DURATION:PT1H
X-Robots-Tag:noindex
X-PUBLISHED-TTL:PT1H
BEGIN:VTIMEZONE
TZID:America/New_York
BEGIN:DAYLIGHT
TZOFFSETFROM:-0500
TZOFFSETTO:-0400
TZNAME:EDT
DTSTART:20250309T070000
END:DAYLIGHT
BEGIN:STANDARD
TZOFFSETFROM:-0400
TZOFFSETTO:-0500
TZNAME:EST
DTSTART:20251102T060000
END:STANDARD
BEGIN:DAYLIGHT
TZOFFSETFROM:-0500
TZOFFSETTO:-0400
TZNAME:EDT
DTSTART:20260308T070000
END:DAYLIGHT
BEGIN:STANDARD
TZOFFSETFROM:-0400
TZOFFSETTO:-0500
TZNAME:EST
DTSTART:20261101T060000
END:STANDARD
BEGIN:DAYLIGHT
TZOFFSETFROM:-0500
TZOFFSETTO:-0400
TZNAME:EDT
DTSTART:20270314T070000
END:DAYLIGHT
BEGIN:STANDARD
TZOFFSETFROM:-0400
TZOFFSETTO:-0500
TZNAME:EST
DTSTART:20271107T060000
END:STANDARD
END:VTIMEZONE
BEGIN:VEVENT
DTSTART;TZID=America/New_York:20261008T090000
DTEND;TZID=America/New_York:20261008T100000
DTSTAMP:20260423T145551
CREATED:20260102T143340Z
LAST-MODIFIED:20260102T143340Z
UID:10011255-1791450000-1791453600@www.kofcutica.org
SUMMARY:Aerobics 9am to 10 am
DESCRIPTION:
URL:https://www.kofcutica.org/event/aerobics-9am-to-10-am-2/2026-10-08/
LOCATION:Gym & Cafeteria
END:VEVENT
BEGIN:VEVENT
DTSTART;TZID=America/New_York:20261008T170000
DTEND;TZID=America/New_York:20261008T210000
DTSTAMP:20260423T145551
CREATED:20260411T220650Z
LAST-MODIFIED:20260411T220650Z
UID:10013550-1791478800-1791493200@www.kofcutica.org
SUMMARY:Burton Basketball 5 pm to 9pm
DESCRIPTION:
URL:https://www.kofcutica.org/event/burton-basketball-5-pm-to-9pm/2026-10-08/
LOCATION:Gym
END:VEVENT
BEGIN:VEVENT
DTSTART;TZID=America/New_York:20261012T090000
DTEND;TZID=America/New_York:20261012T100000
DTSTAMP:20260423T145551
CREATED:20260102T143340Z
LAST-MODIFIED:20260102T143340Z
UID:10011256-1791795600-1791799200@www.kofcutica.org
SUMMARY:Aerobics 9am to 10 am
DESCRIPTION:
URL:https://www.kofcutica.org/event/aerobics-9am-to-10-am-2/2026-10-12/
LOCATION:Gym & Cafeteria
END:VEVENT
BEGIN:VEVENT
DTSTART;TZID=America/New_York:20261013T090000
DTEND;TZID=America/New_York:20261013T100000
DTSTAMP:20260423T145551
CREATED:20260102T143340Z
LAST-MODIFIED:20260102T143340Z
UID:10011257-1791882000-1791885600@www.kofcutica.org
SUMMARY:Aerobics 9am to 10 am
DESCRIPTION:
URL:https://www.kofcutica.org/event/aerobics-9am-to-10-am-2/2026-10-13/
LOCATION:Gym & Cafeteria
END:VEVENT
BEGIN:VEVENT
DTSTART;TZID=America/New_York:20261013T170000
DTEND;TZID=America/New_York:20261013T210000
DTSTAMP:20260423T145551
CREATED:20260411T220650Z
LAST-MODIFIED:20260411T220650Z
UID:10013551-1791910800-1791925200@www.kofcutica.org
SUMMARY:Burton Basketball 5 pm to 9pm
DESCRIPTION:
URL:https://www.kofcutica.org/event/burton-basketball-5-pm-to-9pm/2026-10-13/
LOCATION:Gym
END:VEVENT
BEGIN:VEVENT
DTSTART;TZID=America/New_York:20261014T090000
DTEND;TZID=America/New_York:20261014T100000
DTSTAMP:20260423T145551
CREATED:20260102T143340Z
LAST-MODIFIED:20260102T143340Z
UID:10011258-1791968400-1791972000@www.kofcutica.org
SUMMARY:Aerobics 9am to 10 am
DESCRIPTION:
URL:https://www.kofcutica.org/event/aerobics-9am-to-10-am-2/2026-10-14/
LOCATION:Gym & Cafeteria
END:VEVENT
BEGIN:VEVENT
DTSTART;TZID=America/New_York:20261015T090000
DTEND;TZID=America/New_York:20261015T100000
DTSTAMP:20260423T145551
CREATED:20260102T143340Z
LAST-MODIFIED:20260102T143340Z
UID:10011259-1792054800-1792058400@www.kofcutica.org
SUMMARY:Aerobics 9am to 10 am
DESCRIPTION:
URL:https://www.kofcutica.org/event/aerobics-9am-to-10-am-2/2026-10-15/
LOCATION:Gym & Cafeteria
END:VEVENT
BEGIN:VEVENT
DTSTART;TZID=America/New_York:20261015T170000
DTEND;TZID=America/New_York:20261015T210000
DTSTAMP:20260423T145551
CREATED:20260411T220650Z
LAST-MODIFIED:20260411T220650Z
UID:10013552-1792083600-1792098000@www.kofcutica.org
SUMMARY:Burton Basketball 5 pm to 9pm
DESCRIPTION:
URL:https://www.kofcutica.org/event/burton-basketball-5-pm-to-9pm/2026-10-15/
LOCATION:Gym
END:VEVENT
BEGIN:VEVENT
DTSTART;TZID=America/New_York:20261019T090000
DTEND;TZID=America/New_York:20261019T100000
DTSTAMP:20260423T145551
CREATED:20260102T143340Z
LAST-MODIFIED:20260102T143340Z
UID:10011260-1792400400-1792404000@www.kofcutica.org
SUMMARY:Aerobics 9am to 10 am
DESCRIPTION:
URL:https://www.kofcutica.org/event/aerobics-9am-to-10-am-2/2026-10-19/
LOCATION:Gym & Cafeteria
END:VEVENT
BEGIN:VEVENT
DTSTART;TZID=America/New_York:20261020T090000
DTEND;TZID=America/New_York:20261020T100000
DTSTAMP:20260423T145551
CREATED:20260102T143340Z
LAST-MODIFIED:20260102T143340Z
UID:10011261-1792486800-1792490400@www.kofcutica.org
SUMMARY:Aerobics 9am to 10 am
DESCRIPTION:
URL:https://www.kofcutica.org/event/aerobics-9am-to-10-am-2/2026-10-20/
LOCATION:Gym & Cafeteria
END:VEVENT
BEGIN:VEVENT
DTSTART;TZID=America/New_York:20261020T170000
DTEND;TZID=America/New_York:20261020T210000
DTSTAMP:20260423T145551
CREATED:20260411T220650Z
LAST-MODIFIED:20260411T220650Z
UID:10013553-1792515600-1792530000@www.kofcutica.org
SUMMARY:Burton Basketball 5 pm to 9pm
DESCRIPTION:
URL:https://www.kofcutica.org/event/burton-basketball-5-pm-to-9pm/2026-10-20/
LOCATION:Gym
END:VEVENT
BEGIN:VEVENT
DTSTART;TZID=America/New_York:20261021T090000
DTEND;TZID=America/New_York:20261021T100000
DTSTAMP:20260423T145551
CREATED:20260102T143340Z
LAST-MODIFIED:20260102T143340Z
UID:10011262-1792573200-1792576800@www.kofcutica.org
SUMMARY:Aerobics 9am to 10 am
DESCRIPTION:
URL:https://www.kofcutica.org/event/aerobics-9am-to-10-am-2/2026-10-21/
LOCATION:Gym & Cafeteria
END:VEVENT
BEGIN:VEVENT
DTSTART;TZID=America/New_York:20261022T090000
DTEND;TZID=America/New_York:20261022T100000
DTSTAMP:20260423T145551
CREATED:20260102T143340Z
LAST-MODIFIED:20260102T143340Z
UID:10011263-1792659600-1792663200@www.kofcutica.org
SUMMARY:Aerobics 9am to 10 am
DESCRIPTION:
URL:https://www.kofcutica.org/event/aerobics-9am-to-10-am-2/2026-10-22/
LOCATION:Gym & Cafeteria
END:VEVENT
BEGIN:VEVENT
DTSTART;TZID=America/New_York:20261022T170000
DTEND;TZID=America/New_York:20261022T210000
DTSTAMP:20260423T145551
CREATED:20260411T220650Z
LAST-MODIFIED:20260411T220650Z
UID:10013554-1792688400-1792702800@www.kofcutica.org
SUMMARY:Burton Basketball 5 pm to 9pm
DESCRIPTION:
URL:https://www.kofcutica.org/event/burton-basketball-5-pm-to-9pm/2026-10-22/
LOCATION:Gym
END:VEVENT
BEGIN:VEVENT
DTSTART;TZID=America/New_York:20261026T090000
DTEND;TZID=America/New_York:20261026T100000
DTSTAMP:20260423T145551
CREATED:20260102T143340Z
LAST-MODIFIED:20260102T143340Z
UID:10011264-1793005200-1793008800@www.kofcutica.org
SUMMARY:Aerobics 9am to 10 am
DESCRIPTION:
URL:https://www.kofcutica.org/event/aerobics-9am-to-10-am-2/2026-10-26/
LOCATION:Gym & Cafeteria
END:VEVENT
BEGIN:VEVENT
DTSTART;TZID=America/New_York:20261027T090000
DTEND;TZID=America/New_York:20261027T100000
DTSTAMP:20260423T145551
CREATED:20260102T143340Z
LAST-MODIFIED:20260102T143340Z
UID:10011265-1793091600-1793095200@www.kofcutica.org
SUMMARY:Aerobics 9am to 10 am
DESCRIPTION:
URL:https://www.kofcutica.org/event/aerobics-9am-to-10-am-2/2026-10-27/
LOCATION:Gym & Cafeteria
END:VEVENT
BEGIN:VEVENT
DTSTART;TZID=America/New_York:20261027T170000
DTEND;TZID=America/New_York:20261027T210000
DTSTAMP:20260423T145551
CREATED:20260411T220650Z
LAST-MODIFIED:20260411T220650Z
UID:10013555-1793120400-1793134800@www.kofcutica.org
SUMMARY:Burton Basketball 5 pm to 9pm
DESCRIPTION:
URL:https://www.kofcutica.org/event/burton-basketball-5-pm-to-9pm/2026-10-27/
LOCATION:Gym
END:VEVENT
BEGIN:VEVENT
DTSTART;TZID=America/New_York:20261028T090000
DTEND;TZID=America/New_York:20261028T100000
DTSTAMP:20260423T145551
CREATED:20260102T143340Z
LAST-MODIFIED:20260102T143340Z
UID:10011266-1793178000-1793181600@www.kofcutica.org
SUMMARY:Aerobics 9am to 10 am
DESCRIPTION:
URL:https://www.kofcutica.org/event/aerobics-9am-to-10-am-2/2026-10-28/
LOCATION:Gym & Cafeteria
END:VEVENT
BEGIN:VEVENT
DTSTART;TZID=America/New_York:20261029T090000
DTEND;TZID=America/New_York:20261029T100000
DTSTAMP:20260423T145551
CREATED:20260102T143340Z
LAST-MODIFIED:20260102T143340Z
UID:10011267-1793264400-1793268000@www.kofcutica.org
SUMMARY:Aerobics 9am to 10 am
DESCRIPTION:
URL:https://www.kofcutica.org/event/aerobics-9am-to-10-am-2/2026-10-29/
LOCATION:Gym & Cafeteria
END:VEVENT
BEGIN:VEVENT
DTSTART;TZID=America/New_York:20261029T170000
DTEND;TZID=America/New_York:20261029T210000
DTSTAMP:20260423T145551
CREATED:20260411T220650Z
LAST-MODIFIED:20260411T220650Z
UID:10013556-1793293200-1793307600@www.kofcutica.org
SUMMARY:Burton Basketball 5 pm to 9pm
DESCRIPTION:
URL:https://www.kofcutica.org/event/burton-basketball-5-pm-to-9pm/2026-10-29/
LOCATION:Gym
END:VEVENT
BEGIN:VEVENT
DTSTART;TZID=America/New_York:20261102T090000
DTEND;TZID=America/New_York:20261102T100000
DTSTAMP:20260423T145551
CREATED:20260102T143340Z
LAST-MODIFIED:20260102T143340Z
UID:10011268-1793610000-1793613600@www.kofcutica.org
SUMMARY:Aerobics 9am to 10 am
DESCRIPTION:
URL:https://www.kofcutica.org/event/aerobics-9am-to-10-am-2/2026-11-02/
LOCATION:Gym & Cafeteria
END:VEVENT
BEGIN:VEVENT
DTSTART;TZID=America/New_York:20261103T090000
DTEND;TZID=America/New_York:20261103T100000
DTSTAMP:20260423T145551
CREATED:20260102T143340Z
LAST-MODIFIED:20260102T143340Z
UID:10011269-1793696400-1793700000@www.kofcutica.org
SUMMARY:Aerobics 9am to 10 am
DESCRIPTION:
URL:https://www.kofcutica.org/event/aerobics-9am-to-10-am-2/2026-11-03/
LOCATION:Gym & Cafeteria
END:VEVENT
BEGIN:VEVENT
DTSTART;TZID=America/New_York:20261103T170000
DTEND;TZID=America/New_York:20261103T210000
DTSTAMP:20260423T145551
CREATED:20260411T220650Z
LAST-MODIFIED:20260411T220650Z
UID:10013557-1793725200-1793739600@www.kofcutica.org
SUMMARY:Burton Basketball 5 pm to 9pm
DESCRIPTION:
URL:https://www.kofcutica.org/event/burton-basketball-5-pm-to-9pm/2026-11-03/
LOCATION:Gym
END:VEVENT
BEGIN:VEVENT
DTSTART;TZID=America/New_York:20261104T090000
DTEND;TZID=America/New_York:20261104T100000
DTSTAMP:20260423T145551
CREATED:20260102T143340Z
LAST-MODIFIED:20260102T143340Z
UID:10011270-1793782800-1793786400@www.kofcutica.org
SUMMARY:Aerobics 9am to 10 am
DESCRIPTION:
URL:https://www.kofcutica.org/event/aerobics-9am-to-10-am-2/2026-11-04/
LOCATION:Gym & Cafeteria
END:VEVENT
BEGIN:VEVENT
DTSTART;TZID=America/New_York:20261105T090000
DTEND;TZID=America/New_York:20261105T100000
DTSTAMP:20260423T145551
CREATED:20260102T143340Z
LAST-MODIFIED:20260102T143340Z
UID:10011271-1793869200-1793872800@www.kofcutica.org
SUMMARY:Aerobics 9am to 10 am
DESCRIPTION:
URL:https://www.kofcutica.org/event/aerobics-9am-to-10-am-2/2026-11-05/
LOCATION:Gym & Cafeteria
END:VEVENT
BEGIN:VEVENT
DTSTART;TZID=America/New_York:20261105T170000
DTEND;TZID=America/New_York:20261105T210000
DTSTAMP:20260423T145551
CREATED:20260411T220650Z
LAST-MODIFIED:20260411T220650Z
UID:10013558-1793898000-1793912400@www.kofcutica.org
SUMMARY:Burton Basketball 5 pm to 9pm
DESCRIPTION:
URL:https://www.kofcutica.org/event/burton-basketball-5-pm-to-9pm/2026-11-05/
LOCATION:Gym
END:VEVENT
BEGIN:VEVENT
DTSTART;TZID=America/New_York:20261109T090000
DTEND;TZID=America/New_York:20261109T100000
DTSTAMP:20260423T145551
CREATED:20260102T143340Z
LAST-MODIFIED:20260102T143340Z
UID:10011272-1794214800-1794218400@www.kofcutica.org
SUMMARY:Aerobics 9am to 10 am
DESCRIPTION:
URL:https://www.kofcutica.org/event/aerobics-9am-to-10-am-2/2026-11-09/
LOCATION:Gym & Cafeteria
END:VEVENT
BEGIN:VEVENT
DTSTART;TZID=America/New_York:20261110T090000
DTEND;TZID=America/New_York:20261110T100000
DTSTAMP:20260423T145551
CREATED:20260102T143340Z
LAST-MODIFIED:20260102T143340Z
UID:10011273-1794301200-1794304800@www.kofcutica.org
SUMMARY:Aerobics 9am to 10 am
DESCRIPTION:
URL:https://www.kofcutica.org/event/aerobics-9am-to-10-am-2/2026-11-10/
LOCATION:Gym & Cafeteria
END:VEVENT
BEGIN:VEVENT
DTSTART;TZID=America/New_York:20261110T170000
DTEND;TZID=America/New_York:20261110T210000
DTSTAMP:20260423T145551
CREATED:20260411T220650Z
LAST-MODIFIED:20260411T220650Z
UID:10013559-1794330000-1794344400@www.kofcutica.org
SUMMARY:Burton Basketball 5 pm to 9pm
DESCRIPTION:
URL:https://www.kofcutica.org/event/burton-basketball-5-pm-to-9pm/2026-11-10/
LOCATION:Gym
END:VEVENT
BEGIN:VEVENT
DTSTART;TZID=America/New_York:20261111T090000
DTEND;TZID=America/New_York:20261111T100000
DTSTAMP:20260423T145551
CREATED:20260102T143340Z
LAST-MODIFIED:20260102T143340Z
UID:10011274-1794387600-1794391200@www.kofcutica.org
SUMMARY:Aerobics 9am to 10 am
DESCRIPTION:
URL:https://www.kofcutica.org/event/aerobics-9am-to-10-am-2/2026-11-11/
LOCATION:Gym & Cafeteria
END:VEVENT
END:VCALENDAR