BEGIN:VCALENDAR
VERSION:2.0
PRODID:-//The Knights of Columbus Council 189 - ECPv6.15.20//NONSGML v1.0//EN
CALSCALE:GREGORIAN
METHOD:PUBLISH
X-WR-CALNAME:The Knights of Columbus Council 189
X-ORIGINAL-URL:https://www.kofcutica.org
X-WR-CALDESC:Events for The Knights of Columbus Council 189
REFRESH-INTERVAL;VALUE=DURATION:PT1H
X-Robots-Tag:noindex
X-PUBLISHED-TTL:PT1H
BEGIN:VTIMEZONE
TZID:America/New_York
BEGIN:DAYLIGHT
TZOFFSETFROM:-0500
TZOFFSETTO:-0400
TZNAME:EDT
DTSTART:20250309T070000
END:DAYLIGHT
BEGIN:STANDARD
TZOFFSETFROM:-0400
TZOFFSETTO:-0500
TZNAME:EST
DTSTART:20251102T060000
END:STANDARD
BEGIN:DAYLIGHT
TZOFFSETFROM:-0500
TZOFFSETTO:-0400
TZNAME:EDT
DTSTART:20260308T070000
END:DAYLIGHT
BEGIN:STANDARD
TZOFFSETFROM:-0400
TZOFFSETTO:-0500
TZNAME:EST
DTSTART:20261101T060000
END:STANDARD
BEGIN:DAYLIGHT
TZOFFSETFROM:-0500
TZOFFSETTO:-0400
TZNAME:EDT
DTSTART:20270314T070000
END:DAYLIGHT
BEGIN:STANDARD
TZOFFSETFROM:-0400
TZOFFSETTO:-0500
TZNAME:EST
DTSTART:20271107T060000
END:STANDARD
END:VTIMEZONE
BEGIN:VEVENT
DTSTART;VALUE=DATE:20260916
DTEND;VALUE=DATE:20260917
DTSTAMP:20260423T131733
CREATED:20260314T191406Z
LAST-MODIFIED:20260317T194205Z
UID:10013469-1789516800-1789603199@www.kofcutica.org
SUMMARY:Hope House Volunteer Dinner
DESCRIPTION:
URL:https://www.kofcutica.org/event/hope-house-volunteer-dinner/
LOCATION:Building
END:VEVENT
BEGIN:VEVENT
DTSTART;TZID=America/New_York:20260916T090000
DTEND;TZID=America/New_York:20260916T100000
DTSTAMP:20260423T131733
CREATED:20260102T143340Z
LAST-MODIFIED:20260102T143340Z
UID:10011242-1789549200-1789552800@www.kofcutica.org
SUMMARY:Aerobics 9am to 10 am
DESCRIPTION:
URL:https://www.kofcutica.org/event/aerobics-9am-to-10-am-2/2026-09-16/
LOCATION:Gym & Cafeteria
END:VEVENT
BEGIN:VEVENT
DTSTART;TZID=America/New_York:20260917T090000
DTEND;TZID=America/New_York:20260917T100000
DTSTAMP:20260423T131733
CREATED:20260102T143340Z
LAST-MODIFIED:20260102T143340Z
UID:10011243-1789635600-1789639200@www.kofcutica.org
SUMMARY:Aerobics 9am to 10 am
DESCRIPTION:
URL:https://www.kofcutica.org/event/aerobics-9am-to-10-am-2/2026-09-17/
LOCATION:Gym & Cafeteria
END:VEVENT
BEGIN:VEVENT
DTSTART;TZID=America/New_York:20260917T170000
DTEND;TZID=America/New_York:20260917T210000
DTSTAMP:20260423T131733
CREATED:20260411T220650Z
LAST-MODIFIED:20260411T220650Z
UID:10013544-1789664400-1789678800@www.kofcutica.org
SUMMARY:Burton Basketball 5 pm to 9pm
DESCRIPTION:
URL:https://www.kofcutica.org/event/burton-basketball-5-pm-to-9pm/2026-09-17/
LOCATION:Gym
END:VEVENT
BEGIN:VEVENT
DTSTART;TZID=America/New_York:20260921T090000
DTEND;TZID=America/New_York:20260921T100000
DTSTAMP:20260423T131733
CREATED:20260102T143340Z
LAST-MODIFIED:20260102T143340Z
UID:10011244-1789981200-1789984800@www.kofcutica.org
SUMMARY:Aerobics 9am to 10 am
DESCRIPTION:
URL:https://www.kofcutica.org/event/aerobics-9am-to-10-am-2/2026-09-21/
LOCATION:Gym & Cafeteria
END:VEVENT
BEGIN:VEVENT
DTSTART;TZID=America/New_York:20260922T090000
DTEND;TZID=America/New_York:20260922T100000
DTSTAMP:20260423T131733
CREATED:20260102T143340Z
LAST-MODIFIED:20260102T143340Z
UID:10011245-1790067600-1790071200@www.kofcutica.org
SUMMARY:Aerobics 9am to 10 am
DESCRIPTION:
URL:https://www.kofcutica.org/event/aerobics-9am-to-10-am-2/2026-09-22/
LOCATION:Gym & Cafeteria
END:VEVENT
BEGIN:VEVENT
DTSTART;TZID=America/New_York:20260922T170000
DTEND;TZID=America/New_York:20260922T210000
DTSTAMP:20260423T131733
CREATED:20260411T220650Z
LAST-MODIFIED:20260411T220650Z
UID:10013545-1790096400-1790110800@www.kofcutica.org
SUMMARY:Burton Basketball 5 pm to 9pm
DESCRIPTION:
URL:https://www.kofcutica.org/event/burton-basketball-5-pm-to-9pm/2026-09-22/
LOCATION:Gym
END:VEVENT
BEGIN:VEVENT
DTSTART;TZID=America/New_York:20260923T090000
DTEND;TZID=America/New_York:20260923T100000
DTSTAMP:20260423T131733
CREATED:20260102T143340Z
LAST-MODIFIED:20260102T143340Z
UID:10011246-1790154000-1790157600@www.kofcutica.org
SUMMARY:Aerobics 9am to 10 am
DESCRIPTION:
URL:https://www.kofcutica.org/event/aerobics-9am-to-10-am-2/2026-09-23/
LOCATION:Gym & Cafeteria
END:VEVENT
BEGIN:VEVENT
DTSTART;TZID=America/New_York:20260924T090000
DTEND;TZID=America/New_York:20260924T100000
DTSTAMP:20260423T131733
CREATED:20260102T143340Z
LAST-MODIFIED:20260102T143340Z
UID:10011247-1790240400-1790244000@www.kofcutica.org
SUMMARY:Aerobics 9am to 10 am
DESCRIPTION:
URL:https://www.kofcutica.org/event/aerobics-9am-to-10-am-2/2026-09-24/
LOCATION:Gym & Cafeteria
END:VEVENT
BEGIN:VEVENT
DTSTART;TZID=America/New_York:20260924T170000
DTEND;TZID=America/New_York:20260924T210000
DTSTAMP:20260423T131733
CREATED:20260411T220650Z
LAST-MODIFIED:20260411T220650Z
UID:10013546-1790269200-1790283600@www.kofcutica.org
SUMMARY:Burton Basketball 5 pm to 9pm
DESCRIPTION:
URL:https://www.kofcutica.org/event/burton-basketball-5-pm-to-9pm/2026-09-24/
LOCATION:Gym
END:VEVENT
BEGIN:VEVENT
DTSTART;TZID=America/New_York:20260928T090000
DTEND;TZID=America/New_York:20260928T100000
DTSTAMP:20260423T131733
CREATED:20260102T143340Z
LAST-MODIFIED:20260102T143340Z
UID:10011248-1790586000-1790589600@www.kofcutica.org
SUMMARY:Aerobics 9am to 10 am
DESCRIPTION:
URL:https://www.kofcutica.org/event/aerobics-9am-to-10-am-2/2026-09-28/
LOCATION:Gym & Cafeteria
END:VEVENT
BEGIN:VEVENT
DTSTART;TZID=America/New_York:20260929T090000
DTEND;TZID=America/New_York:20260929T100000
DTSTAMP:20260423T131733
CREATED:20260102T143340Z
LAST-MODIFIED:20260102T143340Z
UID:10011249-1790672400-1790676000@www.kofcutica.org
SUMMARY:Aerobics 9am to 10 am
DESCRIPTION:
URL:https://www.kofcutica.org/event/aerobics-9am-to-10-am-2/2026-09-29/
LOCATION:Gym & Cafeteria
END:VEVENT
BEGIN:VEVENT
DTSTART;TZID=America/New_York:20260929T170000
DTEND;TZID=America/New_York:20260929T210000
DTSTAMP:20260423T131733
CREATED:20260411T220650Z
LAST-MODIFIED:20260411T220650Z
UID:10013547-1790701200-1790715600@www.kofcutica.org
SUMMARY:Burton Basketball 5 pm to 9pm
DESCRIPTION:
URL:https://www.kofcutica.org/event/burton-basketball-5-pm-to-9pm/2026-09-29/
LOCATION:Gym
END:VEVENT
BEGIN:VEVENT
DTSTART;TZID=America/New_York:20260930T090000
DTEND;TZID=America/New_York:20260930T100000
DTSTAMP:20260423T131733
CREATED:20260102T143340Z
LAST-MODIFIED:20260102T143340Z
UID:10011250-1790758800-1790762400@www.kofcutica.org
SUMMARY:Aerobics 9am to 10 am
DESCRIPTION:
URL:https://www.kofcutica.org/event/aerobics-9am-to-10-am-2/2026-09-30/
LOCATION:Gym & Cafeteria
END:VEVENT
BEGIN:VEVENT
DTSTART;TZID=America/New_York:20261001T090000
DTEND;TZID=America/New_York:20261001T100000
DTSTAMP:20260423T131733
CREATED:20260102T143340Z
LAST-MODIFIED:20260102T143340Z
UID:10011251-1790845200-1790848800@www.kofcutica.org
SUMMARY:Aerobics 9am to 10 am
DESCRIPTION:
URL:https://www.kofcutica.org/event/aerobics-9am-to-10-am-2/2026-10-01/
LOCATION:Gym & Cafeteria
END:VEVENT
BEGIN:VEVENT
DTSTART;TZID=America/New_York:20261001T170000
DTEND;TZID=America/New_York:20261001T210000
DTSTAMP:20260423T131733
CREATED:20260411T220650Z
LAST-MODIFIED:20260411T220650Z
UID:10013548-1790874000-1790888400@www.kofcutica.org
SUMMARY:Burton Basketball 5 pm to 9pm
DESCRIPTION:
URL:https://www.kofcutica.org/event/burton-basketball-5-pm-to-9pm/2026-10-01/
LOCATION:Gym
END:VEVENT
BEGIN:VEVENT
DTSTART;TZID=America/New_York:20261005T090000
DTEND;TZID=America/New_York:20261005T100000
DTSTAMP:20260423T131733
CREATED:20260102T143340Z
LAST-MODIFIED:20260102T143340Z
UID:10011252-1791190800-1791194400@www.kofcutica.org
SUMMARY:Aerobics 9am to 10 am
DESCRIPTION:
URL:https://www.kofcutica.org/event/aerobics-9am-to-10-am-2/2026-10-05/
LOCATION:Gym & Cafeteria
END:VEVENT
BEGIN:VEVENT
DTSTART;TZID=America/New_York:20261006T090000
DTEND;TZID=America/New_York:20261006T100000
DTSTAMP:20260423T131733
CREATED:20260102T143340Z
LAST-MODIFIED:20260102T143340Z
UID:10011253-1791277200-1791280800@www.kofcutica.org
SUMMARY:Aerobics 9am to 10 am
DESCRIPTION:
URL:https://www.kofcutica.org/event/aerobics-9am-to-10-am-2/2026-10-06/
LOCATION:Gym & Cafeteria
END:VEVENT
BEGIN:VEVENT
DTSTART;TZID=America/New_York:20261006T170000
DTEND;TZID=America/New_York:20261006T210000
DTSTAMP:20260423T131733
CREATED:20260411T220650Z
LAST-MODIFIED:20260411T220650Z
UID:10013549-1791306000-1791320400@www.kofcutica.org
SUMMARY:Burton Basketball 5 pm to 9pm
DESCRIPTION:
URL:https://www.kofcutica.org/event/burton-basketball-5-pm-to-9pm/2026-10-06/
LOCATION:Gym
END:VEVENT
BEGIN:VEVENT
DTSTART;TZID=America/New_York:20261007T090000
DTEND;TZID=America/New_York:20261007T100000
DTSTAMP:20260423T131733
CREATED:20260102T143340Z
LAST-MODIFIED:20260102T143340Z
UID:10011254-1791363600-1791367200@www.kofcutica.org
SUMMARY:Aerobics 9am to 10 am
DESCRIPTION:
URL:https://www.kofcutica.org/event/aerobics-9am-to-10-am-2/2026-10-07/
LOCATION:Gym & Cafeteria
END:VEVENT
BEGIN:VEVENT
DTSTART;TZID=America/New_York:20261008T090000
DTEND;TZID=America/New_York:20261008T100000
DTSTAMP:20260423T131733
CREATED:20260102T143340Z
LAST-MODIFIED:20260102T143340Z
UID:10011255-1791450000-1791453600@www.kofcutica.org
SUMMARY:Aerobics 9am to 10 am
DESCRIPTION:
URL:https://www.kofcutica.org/event/aerobics-9am-to-10-am-2/2026-10-08/
LOCATION:Gym & Cafeteria
END:VEVENT
BEGIN:VEVENT
DTSTART;TZID=America/New_York:20261008T170000
DTEND;TZID=America/New_York:20261008T210000
DTSTAMP:20260423T131733
CREATED:20260411T220650Z
LAST-MODIFIED:20260411T220650Z
UID:10013550-1791478800-1791493200@www.kofcutica.org
SUMMARY:Burton Basketball 5 pm to 9pm
DESCRIPTION:
URL:https://www.kofcutica.org/event/burton-basketball-5-pm-to-9pm/2026-10-08/
LOCATION:Gym
END:VEVENT
BEGIN:VEVENT
DTSTART;TZID=America/New_York:20261012T090000
DTEND;TZID=America/New_York:20261012T100000
DTSTAMP:20260423T131733
CREATED:20260102T143340Z
LAST-MODIFIED:20260102T143340Z
UID:10011256-1791795600-1791799200@www.kofcutica.org
SUMMARY:Aerobics 9am to 10 am
DESCRIPTION:
URL:https://www.kofcutica.org/event/aerobics-9am-to-10-am-2/2026-10-12/
LOCATION:Gym & Cafeteria
END:VEVENT
BEGIN:VEVENT
DTSTART;TZID=America/New_York:20261013T090000
DTEND;TZID=America/New_York:20261013T100000
DTSTAMP:20260423T131733
CREATED:20260102T143340Z
LAST-MODIFIED:20260102T143340Z
UID:10011257-1791882000-1791885600@www.kofcutica.org
SUMMARY:Aerobics 9am to 10 am
DESCRIPTION:
URL:https://www.kofcutica.org/event/aerobics-9am-to-10-am-2/2026-10-13/
LOCATION:Gym & Cafeteria
END:VEVENT
BEGIN:VEVENT
DTSTART;TZID=America/New_York:20261013T170000
DTEND;TZID=America/New_York:20261013T210000
DTSTAMP:20260423T131733
CREATED:20260411T220650Z
LAST-MODIFIED:20260411T220650Z
UID:10013551-1791910800-1791925200@www.kofcutica.org
SUMMARY:Burton Basketball 5 pm to 9pm
DESCRIPTION:
URL:https://www.kofcutica.org/event/burton-basketball-5-pm-to-9pm/2026-10-13/
LOCATION:Gym
END:VEVENT
BEGIN:VEVENT
DTSTART;TZID=America/New_York:20261014T090000
DTEND;TZID=America/New_York:20261014T100000
DTSTAMP:20260423T131733
CREATED:20260102T143340Z
LAST-MODIFIED:20260102T143340Z
UID:10011258-1791968400-1791972000@www.kofcutica.org
SUMMARY:Aerobics 9am to 10 am
DESCRIPTION:
URL:https://www.kofcutica.org/event/aerobics-9am-to-10-am-2/2026-10-14/
LOCATION:Gym & Cafeteria
END:VEVENT
BEGIN:VEVENT
DTSTART;TZID=America/New_York:20261015T090000
DTEND;TZID=America/New_York:20261015T100000
DTSTAMP:20260423T131733
CREATED:20260102T143340Z
LAST-MODIFIED:20260102T143340Z
UID:10011259-1792054800-1792058400@www.kofcutica.org
SUMMARY:Aerobics 9am to 10 am
DESCRIPTION:
URL:https://www.kofcutica.org/event/aerobics-9am-to-10-am-2/2026-10-15/
LOCATION:Gym & Cafeteria
END:VEVENT
BEGIN:VEVENT
DTSTART;TZID=America/New_York:20261015T170000
DTEND;TZID=America/New_York:20261015T210000
DTSTAMP:20260423T131733
CREATED:20260411T220650Z
LAST-MODIFIED:20260411T220650Z
UID:10013552-1792083600-1792098000@www.kofcutica.org
SUMMARY:Burton Basketball 5 pm to 9pm
DESCRIPTION:
URL:https://www.kofcutica.org/event/burton-basketball-5-pm-to-9pm/2026-10-15/
LOCATION:Gym
END:VEVENT
BEGIN:VEVENT
DTSTART;TZID=America/New_York:20261019T090000
DTEND;TZID=America/New_York:20261019T100000
DTSTAMP:20260423T131733
CREATED:20260102T143340Z
LAST-MODIFIED:20260102T143340Z
UID:10011260-1792400400-1792404000@www.kofcutica.org
SUMMARY:Aerobics 9am to 10 am
DESCRIPTION:
URL:https://www.kofcutica.org/event/aerobics-9am-to-10-am-2/2026-10-19/
LOCATION:Gym & Cafeteria
END:VEVENT
BEGIN:VEVENT
DTSTART;TZID=America/New_York:20261020T090000
DTEND;TZID=America/New_York:20261020T100000
DTSTAMP:20260423T131733
CREATED:20260102T143340Z
LAST-MODIFIED:20260102T143340Z
UID:10011261-1792486800-1792490400@www.kofcutica.org
SUMMARY:Aerobics 9am to 10 am
DESCRIPTION:
URL:https://www.kofcutica.org/event/aerobics-9am-to-10-am-2/2026-10-20/
LOCATION:Gym & Cafeteria
END:VEVENT
END:VCALENDAR