BEGIN:VCALENDAR
VERSION:2.0
PRODID:-//The Knights of Columbus Council 189 - ECPv6.15.20//NONSGML v1.0//EN
CALSCALE:GREGORIAN
METHOD:PUBLISH
X-ORIGINAL-URL:https://www.kofcutica.org
X-WR-CALDESC:Events for The Knights of Columbus Council 189
REFRESH-INTERVAL;VALUE=DURATION:PT1H
X-Robots-Tag:noindex
X-PUBLISHED-TTL:PT1H
BEGIN:VTIMEZONE
TZID:America/New_York
BEGIN:DAYLIGHT
TZOFFSETFROM:-0500
TZOFFSETTO:-0400
TZNAME:EDT
DTSTART:20250309T070000
END:DAYLIGHT
BEGIN:STANDARD
TZOFFSETFROM:-0400
TZOFFSETTO:-0500
TZNAME:EST
DTSTART:20251102T060000
END:STANDARD
BEGIN:DAYLIGHT
TZOFFSETFROM:-0500
TZOFFSETTO:-0400
TZNAME:EDT
DTSTART:20260308T070000
END:DAYLIGHT
BEGIN:STANDARD
TZOFFSETFROM:-0400
TZOFFSETTO:-0500
TZNAME:EST
DTSTART:20261101T060000
END:STANDARD
BEGIN:DAYLIGHT
TZOFFSETFROM:-0500
TZOFFSETTO:-0400
TZNAME:EDT
DTSTART:20270314T070000
END:DAYLIGHT
BEGIN:STANDARD
TZOFFSETFROM:-0400
TZOFFSETTO:-0500
TZNAME:EST
DTSTART:20271107T060000
END:STANDARD
END:VTIMEZONE
BEGIN:VEVENT
DTSTART;TZID=America/New_York:20260421T090000
DTEND;TZID=America/New_York:20260421T100000
DTSTAMP:20260419T152202
CREATED:20260102T143340Z
LAST-MODIFIED:20260102T143340Z
UID:10011157-1776762000-1776765600@www.kofcutica.org
SUMMARY:Aerobics 9am to 10 am
DESCRIPTION:
URL:https://www.kofcutica.org/event/aerobics-9am-to-10-am-2/2026-04-21/
LOCATION:Gym & Cafeteria
END:VEVENT
BEGIN:VEVENT
DTSTART;TZID=America/New_York:20260421T170000
DTEND;TZID=America/New_York:20260421T210000
DTSTAMP:20260419T152202
CREATED:20260411T220650Z
LAST-MODIFIED:20260411T220650Z
UID:10013501-1776790800-1776805200@www.kofcutica.org
SUMMARY:Burton Basketball 5 pm to 9pm
DESCRIPTION:
URL:https://www.kofcutica.org/event/burton-basketball-5-pm-to-9pm/2026-04-21/
LOCATION:Gym
END:VEVENT
BEGIN:VEVENT
DTSTART;TZID=America/New_York:20260422T090000
DTEND;TZID=America/New_York:20260422T100000
DTSTAMP:20260419T152202
CREATED:20260102T143340Z
LAST-MODIFIED:20260102T143340Z
UID:10011158-1776848400-1776852000@www.kofcutica.org
SUMMARY:Aerobics 9am to 10 am
DESCRIPTION:
URL:https://www.kofcutica.org/event/aerobics-9am-to-10-am-2/2026-04-22/
LOCATION:Gym & Cafeteria
END:VEVENT
BEGIN:VEVENT
DTSTART;TZID=America/New_York:20260422T100000
DTEND;TZID=America/New_York:20260422T120000
DTSTAMP:20260419T152202
CREATED:20250809T144619Z
LAST-MODIFIED:20250809T145108Z
UID:10010453-1776852000-1776859200@www.kofcutica.org
SUMMARY:Quilting Group 10 am to noon
DESCRIPTION:
URL:https://www.kofcutica.org/event/quilting-group-10-am-to-noon-2/2026-04-22/
LOCATION:Community room
END:VEVENT
BEGIN:VEVENT
DTSTART;TZID=America/New_York:20260422T170000
DTEND;TZID=America/New_York:20260422T200000
DTSTAMP:20260419T152202
CREATED:20260411T220252Z
LAST-MODIFIED:20260411T220252Z
UID:10013236-1776877200-1776888000@www.kofcutica.org
SUMMARY:Burton Basketball 5 pm to 8pm
DESCRIPTION:
URL:https://www.kofcutica.org/event/gym-reserved-5-pm-to-8pm-4-2/2026-04-22/
LOCATION:Gym & Cafeteria
END:VEVENT
BEGIN:VEVENT
DTSTART;TZID=America/New_York:20260423T090000
DTEND;TZID=America/New_York:20260423T100000
DTSTAMP:20260419T152202
CREATED:20260102T143340Z
LAST-MODIFIED:20260102T143340Z
UID:10011159-1776934800-1776938400@www.kofcutica.org
SUMMARY:Aerobics 9am to 10 am
DESCRIPTION:
URL:https://www.kofcutica.org/event/aerobics-9am-to-10-am-2/2026-04-23/
LOCATION:Gym & Cafeteria
END:VEVENT
BEGIN:VEVENT
DTSTART;TZID=America/New_York:20260423T170000
DTEND;TZID=America/New_York:20260423T210000
DTSTAMP:20260419T152202
CREATED:20260411T220650Z
LAST-MODIFIED:20260411T220650Z
UID:10013502-1776963600-1776978000@www.kofcutica.org
SUMMARY:Burton Basketball 5 pm to 9pm
DESCRIPTION:
URL:https://www.kofcutica.org/event/burton-basketball-5-pm-to-9pm/2026-04-23/
LOCATION:Gym
END:VEVENT
BEGIN:VEVENT
DTSTART;TZID=America/New_York:20260425T090000
DTEND;TZID=America/New_York:20260425T113000
DTSTAMP:20260419T152202
CREATED:20251220T142302Z
LAST-MODIFIED:20251220T142302Z
UID:10011087-1777107600-1777116600@www.kofcutica.org
SUMMARY:MVF  9AM TO 11:30 AM
DESCRIPTION:
URL:https://www.kofcutica.org/event/mvf-9am-to-1130-am/
LOCATION:Community room
END:VEVENT
BEGIN:VEVENT
DTSTART;TZID=America/New_York:20260426T080000
DTEND;TZID=America/New_York:20260426T093000
DTSTAMP:20260419T152202
CREATED:20260208T122303Z
LAST-MODIFIED:20260208T122303Z
UID:10012346-1777190400-1777195800@www.kofcutica.org
SUMMARY:Sunday Orginal Group
DESCRIPTION:
URL:https://www.kofcutica.org/event/sunday-orginal-group/2026-04-26/
LOCATION:Gym
END:VEVENT
BEGIN:VEVENT
DTSTART;TZID=America/New_York:20260426T110000
DTEND;TZID=America/New_York:20260426T150000
DTSTAMP:20260419T152202
CREATED:20260103T142725Z
LAST-MODIFIED:20260118T124815Z
UID:10012140-1777201200-1777215600@www.kofcutica.org
SUMMARY:Building reserved for event 11 am till 3pm
DESCRIPTION:
URL:https://www.kofcutica.org/event/building-reserved-for-event-noon-till-7/
LOCATION:Building
END:VEVENT
BEGIN:VEVENT
DTSTART;TZID=America/New_York:20260427T090000
DTEND;TZID=America/New_York:20260427T100000
DTSTAMP:20260419T152202
CREATED:20260102T143340Z
LAST-MODIFIED:20260102T143340Z
UID:10011160-1777280400-1777284000@www.kofcutica.org
SUMMARY:Aerobics 9am to 10 am
DESCRIPTION:
URL:https://www.kofcutica.org/event/aerobics-9am-to-10-am-2/2026-04-27/
LOCATION:Gym & Cafeteria
END:VEVENT
BEGIN:VEVENT
DTSTART;TZID=America/New_York:20260428T090000
DTEND;TZID=America/New_York:20260428T100000
DTSTAMP:20260419T152202
CREATED:20260102T143340Z
LAST-MODIFIED:20260102T143340Z
UID:10011161-1777366800-1777370400@www.kofcutica.org
SUMMARY:Aerobics 9am to 10 am
DESCRIPTION:
URL:https://www.kofcutica.org/event/aerobics-9am-to-10-am-2/2026-04-28/
LOCATION:Gym & Cafeteria
END:VEVENT
BEGIN:VEVENT
DTSTART;TZID=America/New_York:20260428T170000
DTEND;TZID=America/New_York:20260428T210000
DTSTAMP:20260419T152202
CREATED:20260411T220650Z
LAST-MODIFIED:20260411T220650Z
UID:10013503-1777395600-1777410000@www.kofcutica.org
SUMMARY:Burton Basketball 5 pm to 9pm
DESCRIPTION:
URL:https://www.kofcutica.org/event/burton-basketball-5-pm-to-9pm/2026-04-28/
LOCATION:Gym
END:VEVENT
BEGIN:VEVENT
DTSTART;TZID=America/New_York:20260429T090000
DTEND;TZID=America/New_York:20260429T100000
DTSTAMP:20260419T152202
CREATED:20260102T143340Z
LAST-MODIFIED:20260102T143340Z
UID:10011162-1777453200-1777456800@www.kofcutica.org
SUMMARY:Aerobics 9am to 10 am
DESCRIPTION:
URL:https://www.kofcutica.org/event/aerobics-9am-to-10-am-2/2026-04-29/
LOCATION:Gym & Cafeteria
END:VEVENT
BEGIN:VEVENT
DTSTART;TZID=America/New_York:20260429T100000
DTEND;TZID=America/New_York:20260429T120000
DTSTAMP:20260419T152202
CREATED:20250809T144619Z
LAST-MODIFIED:20250809T145108Z
UID:10010454-1777456800-1777464000@www.kofcutica.org
SUMMARY:Quilting Group 10 am to noon
DESCRIPTION:
URL:https://www.kofcutica.org/event/quilting-group-10-am-to-noon-2/2026-04-29/
LOCATION:Community room
END:VEVENT
BEGIN:VEVENT
DTSTART;TZID=America/New_York:20260430T090000
DTEND;TZID=America/New_York:20260430T100000
DTSTAMP:20260419T152202
CREATED:20260102T143340Z
LAST-MODIFIED:20260102T143340Z
UID:10011163-1777539600-1777543200@www.kofcutica.org
SUMMARY:Aerobics 9am to 10 am
DESCRIPTION:
URL:https://www.kofcutica.org/event/aerobics-9am-to-10-am-2/2026-04-30/
LOCATION:Gym & Cafeteria
END:VEVENT
BEGIN:VEVENT
DTSTART;TZID=America/New_York:20260430T170000
DTEND;TZID=America/New_York:20260430T210000
DTSTAMP:20260419T152202
CREATED:20260411T220650Z
LAST-MODIFIED:20260411T220650Z
UID:10013504-1777568400-1777582800@www.kofcutica.org
SUMMARY:Burton Basketball 5 pm to 9pm
DESCRIPTION:
URL:https://www.kofcutica.org/event/burton-basketball-5-pm-to-9pm/2026-04-30/
LOCATION:Gym
END:VEVENT
BEGIN:VEVENT
DTSTART;TZID=America/New_York:20260502T080000
DTEND;TZID=America/New_York:20260502T140000
DTSTAMP:20260419T152202
CREATED:20260225T132827Z
LAST-MODIFIED:20260225T132827Z
UID:10013148-1777708800-1777730400@www.kofcutica.org
SUMMARY:Gym reserved 8am to 2 pm
DESCRIPTION:
URL:https://www.kofcutica.org/event/gym-reserved-8am-to-2-pm/
LOCATION:Gym
END:VEVENT
BEGIN:VEVENT
DTSTART;TZID=America/New_York:20260503T080000
DTEND;TZID=America/New_York:20260503T093000
DTSTAMP:20260419T152202
CREATED:20260208T122303Z
LAST-MODIFIED:20260208T122303Z
UID:10012347-1777795200-1777800600@www.kofcutica.org
SUMMARY:Sunday Orginal Group
DESCRIPTION:
URL:https://www.kofcutica.org/event/sunday-orginal-group/2026-05-03/
LOCATION:Gym
END:VEVENT
BEGIN:VEVENT
DTSTART;TZID=America/New_York:20260504T090000
DTEND;TZID=America/New_York:20260504T100000
DTSTAMP:20260419T152202
CREATED:20260102T143340Z
LAST-MODIFIED:20260102T143340Z
UID:10011164-1777885200-1777888800@www.kofcutica.org
SUMMARY:Aerobics 9am to 10 am
DESCRIPTION:
URL:https://www.kofcutica.org/event/aerobics-9am-to-10-am-2/2026-05-04/
LOCATION:Gym & Cafeteria
END:VEVENT
BEGIN:VEVENT
DTSTART;TZID=America/New_York:20260505T090000
DTEND;TZID=America/New_York:20260505T100000
DTSTAMP:20260419T152202
CREATED:20260102T143340Z
LAST-MODIFIED:20260102T143340Z
UID:10011165-1777971600-1777975200@www.kofcutica.org
SUMMARY:Aerobics 9am to 10 am
DESCRIPTION:
URL:https://www.kofcutica.org/event/aerobics-9am-to-10-am-2/2026-05-05/
LOCATION:Gym & Cafeteria
END:VEVENT
BEGIN:VEVENT
DTSTART;TZID=America/New_York:20260505T170000
DTEND;TZID=America/New_York:20260505T210000
DTSTAMP:20260419T152202
CREATED:20260411T220650Z
LAST-MODIFIED:20260411T220650Z
UID:10013505-1778000400-1778014800@www.kofcutica.org
SUMMARY:Burton Basketball 5 pm to 9pm
DESCRIPTION:
URL:https://www.kofcutica.org/event/burton-basketball-5-pm-to-9pm/2026-05-05/
LOCATION:Gym
END:VEVENT
BEGIN:VEVENT
DTSTART;TZID=America/New_York:20260506T090000
DTEND;TZID=America/New_York:20260506T100000
DTSTAMP:20260419T152202
CREATED:20260102T143340Z
LAST-MODIFIED:20260102T143340Z
UID:10011166-1778058000-1778061600@www.kofcutica.org
SUMMARY:Aerobics 9am to 10 am
DESCRIPTION:
URL:https://www.kofcutica.org/event/aerobics-9am-to-10-am-2/2026-05-06/
LOCATION:Gym & Cafeteria
END:VEVENT
BEGIN:VEVENT
DTSTART;TZID=America/New_York:20260506T100000
DTEND;TZID=America/New_York:20260506T120000
DTSTAMP:20260419T152202
CREATED:20250809T144619Z
LAST-MODIFIED:20250809T145108Z
UID:10010455-1778061600-1778068800@www.kofcutica.org
SUMMARY:Quilting Group 10 am to noon
DESCRIPTION:
URL:https://www.kofcutica.org/event/quilting-group-10-am-to-noon-2/2026-05-06/
LOCATION:Community room
END:VEVENT
BEGIN:VEVENT
DTSTART;TZID=America/New_York:20260507T090000
DTEND;TZID=America/New_York:20260507T100000
DTSTAMP:20260419T152202
CREATED:20260102T143340Z
LAST-MODIFIED:20260102T143340Z
UID:10011167-1778144400-1778148000@www.kofcutica.org
SUMMARY:Aerobics 9am to 10 am
DESCRIPTION:
URL:https://www.kofcutica.org/event/aerobics-9am-to-10-am-2/2026-05-07/
LOCATION:Gym & Cafeteria
END:VEVENT
BEGIN:VEVENT
DTSTART;TZID=America/New_York:20260507T170000
DTEND;TZID=America/New_York:20260507T210000
DTSTAMP:20260419T152202
CREATED:20260411T220650Z
LAST-MODIFIED:20260411T220650Z
UID:10013506-1778173200-1778187600@www.kofcutica.org
SUMMARY:Burton Basketball 5 pm to 9pm
DESCRIPTION:
URL:https://www.kofcutica.org/event/burton-basketball-5-pm-to-9pm/2026-05-07/
LOCATION:Gym
END:VEVENT
BEGIN:VEVENT
DTSTART;TZID=America/New_York:20260510T080000
DTEND;TZID=America/New_York:20260510T093000
DTSTAMP:20260419T152202
CREATED:20260208T122303Z
LAST-MODIFIED:20260208T122303Z
UID:10012348-1778400000-1778405400@www.kofcutica.org
SUMMARY:Sunday Orginal Group
DESCRIPTION:
URL:https://www.kofcutica.org/event/sunday-orginal-group/2026-05-10/
LOCATION:Gym
END:VEVENT
BEGIN:VEVENT
DTSTART;TZID=America/New_York:20260511T090000
DTEND;TZID=America/New_York:20260511T100000
DTSTAMP:20260419T152202
CREATED:20260102T143340Z
LAST-MODIFIED:20260102T143340Z
UID:10011168-1778490000-1778493600@www.kofcutica.org
SUMMARY:Aerobics 9am to 10 am
DESCRIPTION:
URL:https://www.kofcutica.org/event/aerobics-9am-to-10-am-2/2026-05-11/
LOCATION:Gym & Cafeteria
END:VEVENT
BEGIN:VEVENT
DTSTART;TZID=America/New_York:20260512T090000
DTEND;TZID=America/New_York:20260512T100000
DTSTAMP:20260419T152202
CREATED:20260102T143340Z
LAST-MODIFIED:20260102T143340Z
UID:10011169-1778576400-1778580000@www.kofcutica.org
SUMMARY:Aerobics 9am to 10 am
DESCRIPTION:
URL:https://www.kofcutica.org/event/aerobics-9am-to-10-am-2/2026-05-12/
LOCATION:Gym & Cafeteria
END:VEVENT
BEGIN:VEVENT
DTSTART;TZID=America/New_York:20260512T170000
DTEND;TZID=America/New_York:20260512T210000
DTSTAMP:20260419T152202
CREATED:20260411T220650Z
LAST-MODIFIED:20260411T220650Z
UID:10013507-1778605200-1778619600@www.kofcutica.org
SUMMARY:Burton Basketball 5 pm to 9pm
DESCRIPTION:
URL:https://www.kofcutica.org/event/burton-basketball-5-pm-to-9pm/2026-05-12/
LOCATION:Gym
END:VEVENT
END:VCALENDAR