BEGIN:VCALENDAR
VERSION:2.0
PRODID:-//The Knights of Columbus Council 189 - ECPv6.15.20//NONSGML v1.0//EN
CALSCALE:GREGORIAN
METHOD:PUBLISH
X-WR-CALNAME:The Knights of Columbus Council 189
X-ORIGINAL-URL:https://www.kofcutica.org
X-WR-CALDESC:Events for The Knights of Columbus Council 189
REFRESH-INTERVAL;VALUE=DURATION:PT1H
X-Robots-Tag:noindex
X-PUBLISHED-TTL:PT1H
BEGIN:VTIMEZONE
TZID:America/New_York
BEGIN:DAYLIGHT
TZOFFSETFROM:-0500
TZOFFSETTO:-0400
TZNAME:EDT
DTSTART:20290311T070000
END:DAYLIGHT
BEGIN:STANDARD
TZOFFSETFROM:-0400
TZOFFSETTO:-0500
TZNAME:EST
DTSTART:20291104T060000
END:STANDARD
BEGIN:DAYLIGHT
TZOFFSETFROM:-0500
TZOFFSETTO:-0400
TZNAME:EDT
DTSTART:20300310T070000
END:DAYLIGHT
BEGIN:STANDARD
TZOFFSETFROM:-0400
TZOFFSETTO:-0500
TZNAME:EST
DTSTART:20301103T060000
END:STANDARD
BEGIN:DAYLIGHT
TZOFFSETFROM:-0500
TZOFFSETTO:-0400
TZNAME:EDT
DTSTART:20310309T070000
END:DAYLIGHT
BEGIN:STANDARD
TZOFFSETFROM:-0400
TZOFFSETTO:-0500
TZNAME:EST
DTSTART:20311102T060000
END:STANDARD
END:VTIMEZONE
BEGIN:VEVENT
DTSTART;TZID=America/New_York:20301024T090000
DTEND;TZID=America/New_York:20301024T100000
DTSTAMP:20260419T083347
CREATED:20260102T143340Z
LAST-MODIFIED:20260102T143340Z
UID:10012099-1919062800-1919066400@www.kofcutica.org
SUMMARY:Aerobics 9am to 10 am
DESCRIPTION:
URL:https://www.kofcutica.org/event/aerobics-9am-to-10-am-2/2030-10-24/
LOCATION:Gym & Cafeteria
END:VEVENT
BEGIN:VEVENT
DTSTART;TZID=America/New_York:20301028T090000
DTEND;TZID=America/New_York:20301028T100000
DTSTAMP:20260419T083347
CREATED:20260102T143340Z
LAST-MODIFIED:20260102T143340Z
UID:10012100-1919408400-1919412000@www.kofcutica.org
SUMMARY:Aerobics 9am to 10 am
DESCRIPTION:
URL:https://www.kofcutica.org/event/aerobics-9am-to-10-am-2/2030-10-28/
LOCATION:Gym & Cafeteria
END:VEVENT
BEGIN:VEVENT
DTSTART;TZID=America/New_York:20301029T090000
DTEND;TZID=America/New_York:20301029T100000
DTSTAMP:20260419T083347
CREATED:20260102T143340Z
LAST-MODIFIED:20260102T143340Z
UID:10012101-1919494800-1919498400@www.kofcutica.org
SUMMARY:Aerobics 9am to 10 am
DESCRIPTION:
URL:https://www.kofcutica.org/event/aerobics-9am-to-10-am-2/2030-10-29/
LOCATION:Gym & Cafeteria
END:VEVENT
BEGIN:VEVENT
DTSTART;TZID=America/New_York:20301030T090000
DTEND;TZID=America/New_York:20301030T100000
DTSTAMP:20260419T083347
CREATED:20260102T143340Z
LAST-MODIFIED:20260102T143340Z
UID:10012102-1919581200-1919584800@www.kofcutica.org
SUMMARY:Aerobics 9am to 10 am
DESCRIPTION:
URL:https://www.kofcutica.org/event/aerobics-9am-to-10-am-2/2030-10-30/
LOCATION:Gym & Cafeteria
END:VEVENT
BEGIN:VEVENT
DTSTART;TZID=America/New_York:20301031T090000
DTEND;TZID=America/New_York:20301031T100000
DTSTAMP:20260419T083347
CREATED:20260102T143340Z
LAST-MODIFIED:20260102T143340Z
UID:10012103-1919667600-1919671200@www.kofcutica.org
SUMMARY:Aerobics 9am to 10 am
DESCRIPTION:
URL:https://www.kofcutica.org/event/aerobics-9am-to-10-am-2/2030-10-31/
LOCATION:Gym & Cafeteria
END:VEVENT
BEGIN:VEVENT
DTSTART;TZID=America/New_York:20301104T090000
DTEND;TZID=America/New_York:20301104T100000
DTSTAMP:20260419T083347
CREATED:20260102T143340Z
LAST-MODIFIED:20260102T143340Z
UID:10012104-1920013200-1920016800@www.kofcutica.org
SUMMARY:Aerobics 9am to 10 am
DESCRIPTION:
URL:https://www.kofcutica.org/event/aerobics-9am-to-10-am-2/2030-11-04/
LOCATION:Gym & Cafeteria
END:VEVENT
BEGIN:VEVENT
DTSTART;TZID=America/New_York:20301105T090000
DTEND;TZID=America/New_York:20301105T100000
DTSTAMP:20260419T083347
CREATED:20260102T143340Z
LAST-MODIFIED:20260102T143340Z
UID:10012105-1920099600-1920103200@www.kofcutica.org
SUMMARY:Aerobics 9am to 10 am
DESCRIPTION:
URL:https://www.kofcutica.org/event/aerobics-9am-to-10-am-2/2030-11-05/
LOCATION:Gym & Cafeteria
END:VEVENT
BEGIN:VEVENT
DTSTART;TZID=America/New_York:20301106T090000
DTEND;TZID=America/New_York:20301106T100000
DTSTAMP:20260419T083347
CREATED:20260102T143340Z
LAST-MODIFIED:20260102T143340Z
UID:10012106-1920186000-1920189600@www.kofcutica.org
SUMMARY:Aerobics 9am to 10 am
DESCRIPTION:
URL:https://www.kofcutica.org/event/aerobics-9am-to-10-am-2/2030-11-06/
LOCATION:Gym & Cafeteria
END:VEVENT
BEGIN:VEVENT
DTSTART;TZID=America/New_York:20301107T090000
DTEND;TZID=America/New_York:20301107T100000
DTSTAMP:20260419T083347
CREATED:20260102T143340Z
LAST-MODIFIED:20260102T143340Z
UID:10012107-1920272400-1920276000@www.kofcutica.org
SUMMARY:Aerobics 9am to 10 am
DESCRIPTION:
URL:https://www.kofcutica.org/event/aerobics-9am-to-10-am-2/2030-11-07/
LOCATION:Gym & Cafeteria
END:VEVENT
BEGIN:VEVENT
DTSTART;TZID=America/New_York:20301111T090000
DTEND;TZID=America/New_York:20301111T100000
DTSTAMP:20260419T083347
CREATED:20260102T143340Z
LAST-MODIFIED:20260102T143340Z
UID:10012108-1920618000-1920621600@www.kofcutica.org
SUMMARY:Aerobics 9am to 10 am
DESCRIPTION:
URL:https://www.kofcutica.org/event/aerobics-9am-to-10-am-2/2030-11-11/
LOCATION:Gym & Cafeteria
END:VEVENT
BEGIN:VEVENT
DTSTART;TZID=America/New_York:20301112T090000
DTEND;TZID=America/New_York:20301112T100000
DTSTAMP:20260419T083347
CREATED:20260102T143340Z
LAST-MODIFIED:20260102T143340Z
UID:10012109-1920704400-1920708000@www.kofcutica.org
SUMMARY:Aerobics 9am to 10 am
DESCRIPTION:
URL:https://www.kofcutica.org/event/aerobics-9am-to-10-am-2/2030-11-12/
LOCATION:Gym & Cafeteria
END:VEVENT
BEGIN:VEVENT
DTSTART;TZID=America/New_York:20301113T090000
DTEND;TZID=America/New_York:20301113T100000
DTSTAMP:20260419T083347
CREATED:20260102T143340Z
LAST-MODIFIED:20260102T143340Z
UID:10012110-1920790800-1920794400@www.kofcutica.org
SUMMARY:Aerobics 9am to 10 am
DESCRIPTION:
URL:https://www.kofcutica.org/event/aerobics-9am-to-10-am-2/2030-11-13/
LOCATION:Gym & Cafeteria
END:VEVENT
BEGIN:VEVENT
DTSTART;TZID=America/New_York:20301114T090000
DTEND;TZID=America/New_York:20301114T100000
DTSTAMP:20260419T083347
CREATED:20260102T143340Z
LAST-MODIFIED:20260102T143340Z
UID:10012111-1920877200-1920880800@www.kofcutica.org
SUMMARY:Aerobics 9am to 10 am
DESCRIPTION:
URL:https://www.kofcutica.org/event/aerobics-9am-to-10-am-2/2030-11-14/
LOCATION:Gym & Cafeteria
END:VEVENT
BEGIN:VEVENT
DTSTART;TZID=America/New_York:20301118T090000
DTEND;TZID=America/New_York:20301118T100000
DTSTAMP:20260419T083347
CREATED:20260102T143340Z
LAST-MODIFIED:20260102T143340Z
UID:10012112-1921222800-1921226400@www.kofcutica.org
SUMMARY:Aerobics 9am to 10 am
DESCRIPTION:
URL:https://www.kofcutica.org/event/aerobics-9am-to-10-am-2/2030-11-18/
LOCATION:Gym & Cafeteria
END:VEVENT
BEGIN:VEVENT
DTSTART;TZID=America/New_York:20301119T090000
DTEND;TZID=America/New_York:20301119T100000
DTSTAMP:20260419T083347
CREATED:20260102T143340Z
LAST-MODIFIED:20260102T143340Z
UID:10012113-1921309200-1921312800@www.kofcutica.org
SUMMARY:Aerobics 9am to 10 am
DESCRIPTION:
URL:https://www.kofcutica.org/event/aerobics-9am-to-10-am-2/2030-11-19/
LOCATION:Gym & Cafeteria
END:VEVENT
BEGIN:VEVENT
DTSTART;TZID=America/New_York:20301120T090000
DTEND;TZID=America/New_York:20301120T100000
DTSTAMP:20260419T083347
CREATED:20260102T143340Z
LAST-MODIFIED:20260102T143340Z
UID:10012114-1921395600-1921399200@www.kofcutica.org
SUMMARY:Aerobics 9am to 10 am
DESCRIPTION:
URL:https://www.kofcutica.org/event/aerobics-9am-to-10-am-2/2030-11-20/
LOCATION:Gym & Cafeteria
END:VEVENT
BEGIN:VEVENT
DTSTART;TZID=America/New_York:20301121T090000
DTEND;TZID=America/New_York:20301121T100000
DTSTAMP:20260419T083347
CREATED:20260102T143340Z
LAST-MODIFIED:20260102T143340Z
UID:10012115-1921482000-1921485600@www.kofcutica.org
SUMMARY:Aerobics 9am to 10 am
DESCRIPTION:
URL:https://www.kofcutica.org/event/aerobics-9am-to-10-am-2/2030-11-21/
LOCATION:Gym & Cafeteria
END:VEVENT
BEGIN:VEVENT
DTSTART;TZID=America/New_York:20301125T090000
DTEND;TZID=America/New_York:20301125T100000
DTSTAMP:20260419T083347
CREATED:20260102T143340Z
LAST-MODIFIED:20260102T143340Z
UID:10012116-1921827600-1921831200@www.kofcutica.org
SUMMARY:Aerobics 9am to 10 am
DESCRIPTION:
URL:https://www.kofcutica.org/event/aerobics-9am-to-10-am-2/2030-11-25/
LOCATION:Gym & Cafeteria
END:VEVENT
BEGIN:VEVENT
DTSTART;TZID=America/New_York:20301126T090000
DTEND;TZID=America/New_York:20301126T100000
DTSTAMP:20260419T083347
CREATED:20260102T143340Z
LAST-MODIFIED:20260102T143340Z
UID:10012117-1921914000-1921917600@www.kofcutica.org
SUMMARY:Aerobics 9am to 10 am
DESCRIPTION:
URL:https://www.kofcutica.org/event/aerobics-9am-to-10-am-2/2030-11-26/
LOCATION:Gym & Cafeteria
END:VEVENT
BEGIN:VEVENT
DTSTART;TZID=America/New_York:20301127T090000
DTEND;TZID=America/New_York:20301127T100000
DTSTAMP:20260419T083347
CREATED:20260102T143340Z
LAST-MODIFIED:20260102T143340Z
UID:10012118-1922000400-1922004000@www.kofcutica.org
SUMMARY:Aerobics 9am to 10 am
DESCRIPTION:
URL:https://www.kofcutica.org/event/aerobics-9am-to-10-am-2/2030-11-27/
LOCATION:Gym & Cafeteria
END:VEVENT
BEGIN:VEVENT
DTSTART;TZID=America/New_York:20301128T090000
DTEND;TZID=America/New_York:20301128T100000
DTSTAMP:20260419T083347
CREATED:20260102T143340Z
LAST-MODIFIED:20260102T143340Z
UID:10012119-1922086800-1922090400@www.kofcutica.org
SUMMARY:Aerobics 9am to 10 am
DESCRIPTION:
URL:https://www.kofcutica.org/event/aerobics-9am-to-10-am-2/2030-11-28/
LOCATION:Gym & Cafeteria
END:VEVENT
BEGIN:VEVENT
DTSTART;TZID=America/New_York:20301202T090000
DTEND;TZID=America/New_York:20301202T100000
DTSTAMP:20260419T083347
CREATED:20260102T143340Z
LAST-MODIFIED:20260102T143340Z
UID:10012120-1922432400-1922436000@www.kofcutica.org
SUMMARY:Aerobics 9am to 10 am
DESCRIPTION:
URL:https://www.kofcutica.org/event/aerobics-9am-to-10-am-2/2030-12-02/
LOCATION:Gym & Cafeteria
END:VEVENT
BEGIN:VEVENT
DTSTART;TZID=America/New_York:20301203T090000
DTEND;TZID=America/New_York:20301203T100000
DTSTAMP:20260419T083347
CREATED:20260102T143340Z
LAST-MODIFIED:20260102T143340Z
UID:10012121-1922518800-1922522400@www.kofcutica.org
SUMMARY:Aerobics 9am to 10 am
DESCRIPTION:
URL:https://www.kofcutica.org/event/aerobics-9am-to-10-am-2/2030-12-03/
LOCATION:Gym & Cafeteria
END:VEVENT
BEGIN:VEVENT
DTSTART;TZID=America/New_York:20301204T090000
DTEND;TZID=America/New_York:20301204T100000
DTSTAMP:20260419T083347
CREATED:20260102T143340Z
LAST-MODIFIED:20260102T143340Z
UID:10012122-1922605200-1922608800@www.kofcutica.org
SUMMARY:Aerobics 9am to 10 am
DESCRIPTION:
URL:https://www.kofcutica.org/event/aerobics-9am-to-10-am-2/2030-12-04/
LOCATION:Gym & Cafeteria
END:VEVENT
BEGIN:VEVENT
DTSTART;TZID=America/New_York:20301205T090000
DTEND;TZID=America/New_York:20301205T100000
DTSTAMP:20260419T083347
CREATED:20260102T143340Z
LAST-MODIFIED:20260102T143340Z
UID:10012123-1922691600-1922695200@www.kofcutica.org
SUMMARY:Aerobics 9am to 10 am
DESCRIPTION:
URL:https://www.kofcutica.org/event/aerobics-9am-to-10-am-2/2030-12-05/
LOCATION:Gym & Cafeteria
END:VEVENT
BEGIN:VEVENT
DTSTART;TZID=America/New_York:20301209T090000
DTEND;TZID=America/New_York:20301209T100000
DTSTAMP:20260419T083347
CREATED:20260102T143340Z
LAST-MODIFIED:20260102T143340Z
UID:10012124-1923037200-1923040800@www.kofcutica.org
SUMMARY:Aerobics 9am to 10 am
DESCRIPTION:
URL:https://www.kofcutica.org/event/aerobics-9am-to-10-am-2/2030-12-09/
LOCATION:Gym & Cafeteria
END:VEVENT
BEGIN:VEVENT
DTSTART;TZID=America/New_York:20301210T090000
DTEND;TZID=America/New_York:20301210T100000
DTSTAMP:20260419T083347
CREATED:20260102T143340Z
LAST-MODIFIED:20260102T143340Z
UID:10012125-1923123600-1923127200@www.kofcutica.org
SUMMARY:Aerobics 9am to 10 am
DESCRIPTION:
URL:https://www.kofcutica.org/event/aerobics-9am-to-10-am-2/2030-12-10/
LOCATION:Gym & Cafeteria
END:VEVENT
BEGIN:VEVENT
DTSTART;TZID=America/New_York:20301211T090000
DTEND;TZID=America/New_York:20301211T100000
DTSTAMP:20260419T083347
CREATED:20260102T143340Z
LAST-MODIFIED:20260102T143340Z
UID:10012126-1923210000-1923213600@www.kofcutica.org
SUMMARY:Aerobics 9am to 10 am
DESCRIPTION:
URL:https://www.kofcutica.org/event/aerobics-9am-to-10-am-2/2030-12-11/
LOCATION:Gym & Cafeteria
END:VEVENT
BEGIN:VEVENT
DTSTART;TZID=America/New_York:20301212T090000
DTEND;TZID=America/New_York:20301212T100000
DTSTAMP:20260419T083347
CREATED:20260102T143340Z
LAST-MODIFIED:20260102T143340Z
UID:10012127-1923296400-1923300000@www.kofcutica.org
SUMMARY:Aerobics 9am to 10 am
DESCRIPTION:
URL:https://www.kofcutica.org/event/aerobics-9am-to-10-am-2/2030-12-12/
LOCATION:Gym & Cafeteria
END:VEVENT
BEGIN:VEVENT
DTSTART;TZID=America/New_York:20301216T090000
DTEND;TZID=America/New_York:20301216T100000
DTSTAMP:20260419T083347
CREATED:20260102T143340Z
LAST-MODIFIED:20260102T143340Z
UID:10012128-1923642000-1923645600@www.kofcutica.org
SUMMARY:Aerobics 9am to 10 am
DESCRIPTION:
URL:https://www.kofcutica.org/event/aerobics-9am-to-10-am-2/2030-12-16/
LOCATION:Gym & Cafeteria
END:VEVENT
END:VCALENDAR